BEGIN:VCALENDAR
VERSION:2.0
PRODID:-//TM Canada Community Hub - ECPv6.15.11//NONSGML v1.0//EN
CALSCALE:GREGORIAN
METHOD:PUBLISH
X-WR-CALNAME:TM Canada Community Hub
X-ORIGINAL-URL:https://community.ca.tm.org/fr/
X-WR-CALDESC:Évènements pour TM Canada Community Hub
REFRESH-INTERVAL;VALUE=DURATION:PT1H
X-Robots-Tag:noindex
X-PUBLISHED-TTL:PT1H
BEGIN:VTIMEZONE
TZID:America/Toronto
BEGIN:DAYLIGHT
TZOFFSETFROM:-0500
TZOFFSETTO:-0400
TZNAME:EDT
DTSTART:20240310T070000
END:DAYLIGHT
BEGIN:STANDARD
TZOFFSETFROM:-0400
TZOFFSETTO:-0500
TZNAME:EST
DTSTART:20241103T060000
END:STANDARD
BEGIN:DAYLIGHT
TZOFFSETFROM:-0500
TZOFFSETTO:-0400
TZNAME:EDT
DTSTART:20250309T070000
END:DAYLIGHT
BEGIN:STANDARD
TZOFFSETFROM:-0400
TZOFFSETTO:-0500
TZNAME:EST
DTSTART:20251102T060000
END:STANDARD
BEGIN:DAYLIGHT
TZOFFSETFROM:-0500
TZOFFSETTO:-0400
TZNAME:EDT
DTSTART:20260308T070000
END:DAYLIGHT
BEGIN:STANDARD
TZOFFSETFROM:-0400
TZOFFSETTO:-0500
TZNAME:EST
DTSTART:20261101T060000
END:STANDARD
END:VTIMEZONE
BEGIN:VEVENT
DTSTART;TZID=America/Toronto:20250524T080000
DTEND;TZID=America/Toronto:20250524T173000
DTSTAMP:20260421T221647
CREATED:20250508T201854Z
LAST-MODIFIED:20250530T021433Z
UID:10005069-1748073600-1748107800@community.ca.tm.org
SUMMARY:Journée de cohérence au Centre de MT de Montréal
DESCRIPTION:À quand remonte la dernière fois où vous avez consacré une journée entière à vous-même — une journée pour vous reposer\, vous détendre et vous concentrer sur votre croissance personnelle? \nSi vous avez l’impression que cela fait trop longtemps ou si vous souhaitez simplement profiter davantage de votre MT\, joignez-vous à nous lors de notre journée de cohérence\, le dimanche 22 juin\, au Centre de MT de Montréal. \nConsidérez cette journée comme l’ultime séjour de vacances: une occasion de vous reposer profondément et d’amplifier les bienfaits de votre pratique quotidienne de MT. \nLes journées de cohérence vous donnent un avant-goût d’une retraite de fin de semaine\, où vous aurez l’occasion de faire l’expérience: \n\nDe séances supplémentaires de pratique de MT en groupe.\nDes Asanas de Yoga Maharishi et des exercices de respiration Pranayama\, qui sont conçus pour compléter votre pratique de MT.\nDes séances de connaissances\, des ateliers et des discussions.\nUn délicieux dîner végétarien avec les autres participants au cours.\n\nQue vous souhaitiez établir une meilleure routine\, accélérer votre croissance ou maximiser les bienfaits de la MT dans votre vie quotidienne\, même une seule journée de cohérence peut conduire à des percées remarquables dans votre pratique de la MT. \nFrais de cours : 108 $ plus taxes. Ce montant inclut l’expérience complète de la journée\, y compris le dîner. \nLe nombre de places est limité. Veuillez répondre à ce courriel pour réserver votre place. Cet événement se déroulera en français et en anglais. \n* Cette retraite n’est pas proposée à ceux qui pratiquent le programme de MT-Sidhis. Des journées similaires seront organisées pour ceux qui pratiquent le programme de MT-Sidhis. Contactez-nous pour plus d’informations. \n\n\n\n\n\n\n\n\n\n\n« Pendant la journée de cohérence\, mes 20 minutes de méditation sont passées très vite\, j’avais l’impression qu’elles ne duraient que 5 minutes. La retraite m’a donné le sentiment d’un grand bonheur intérieur\, d’un silence profond et paisible. J’en ai ressenti les bienfaits longtemps après\, y compris pendant le sommeil. » — Amrita Chy  \n« Participer à la journée de cohérence au centre de MT m’a définitivement permis de progresser dans ma méditation. Méditer plus fréquemment en groupe et pratiquer les Asanas Maharishi a approfondi mon expérience de la transcendance et ses effets pendant l’activité. C’était un excellent complément à ma pratique quotidienne de la Méditation Transcendantale. » — Pierre Thibault \n\n\n\n\n\n\n\n\nJournée de cohérence pour méditants \nOÙ: \nCentre de Méditation Transcendantale de Montréal \n8200\, boulevard Décarie\, bureau 140 \nMontréal\, QC H4P 2P5 \n438-499-6812 \nInstructeurs responsables du cours \nAntonin Mireault-Plante et Jean-Nicolas Brunet-Duclos \nQUAND: \nDimanche 22 juin 2025 de 8h45 à 18h. \nArrivée avant 8h45. \nLe bâtiment est fermé à clé le week-end. Nous serons dans le hall d’entrée jusqu’à 8h45 pour vous accueillir. \nLe programme de méditation commence à 9h00. \nLes participants à cette journée de cohérence s’engagent à assister à toutes les activités de la journée\, de 8h45 à 18h. \nCOÛT: \n108\,00 $ (plus taxes). Ce prix comprend un repas végétarien dans un restaurant à proximité\, une collation dans l’après-midi et une contribution pour les opérations du centre. \nPOUR S’INSCRIRE: \nL’inscription préalable est requise avant 18h00 le vendredi 20 juin 2025. Veuillez répondre à ce courriel à montreal@tm.org  en indiquant votre numéro de téléphone. Vous serez contacté par un professeur de MT si nécessaire.\n\n\n\n 
URL:https://community.ca.tm.org/fr/event/journee-de-coherence-samedi-24-mai-2025-au-centre-de-mt-de-montreal/
LOCATION:Centre de MT de Montréal\, 8200 boulevard Décarie\, bureau 140\, Montréal\, Québec\, H4P 2P5\, Canada
CATEGORIES:French,Journée de cohérence,Montreal TM Centre - French,Retraites de MT — FR
END:VEVENT
BEGIN:VEVENT
DTSTART;TZID=America/Toronto:20250601T193000
DTEND;TZID=America/Toronto:20250601T210000
DTSTAMP:20260421T221647
CREATED:20250529T184812Z
LAST-MODIFIED:20250529T184812Z
UID:10005116-1748806200-1748811600@community.ca.tm.org
SUMMARY:Comment l'activité développe-t-elle la Conscience Cosmique?
DESCRIPTION:Avec le professeur de MT Claude Cazeault \nDans cette discussion\, Maharishi explique que l’action et le repos sont des composantes essentielles au processus d’évolution. Le corps et l’esprit vont de pair pour d’abord minimiser l’activité\, puis l’élargir pour accélérer le rythme de l’évolution. La Méditation Transcendantale alternée avec une activité dynamique est la formule pour le développement de la Conscience Cosmique. \nNous commençons par une méditation de groupe de 20 minutes. \nJoindre\nMot de passe requis pour participer à cette séance. Accédez à ces séances avec le mot de passe Zoom qui vous a été communiqué par courriel par tmevents@tm.org.
URL:https://community.ca.tm.org/fr/event/comment-lactivite-developpe-t-elle-la-conscience-cosmique-2/
LOCATION:En ligne
CATEGORIES:French,Montreal TM Centre - French,Online Knowledge Session - French
END:VEVENT
BEGIN:VEVENT
DTSTART;TZID=America/Toronto:20250622T083000
DTEND;TZID=America/Toronto:20250622T170000
DTSTAMP:20260421T221647
CREATED:20250530T195606Z
LAST-MODIFIED:20250602T180146Z
UID:10005121-1750581000-1750611600@community.ca.tm.org
SUMMARY:Journée de cohérence au Centre de MT de Montréal
DESCRIPTION:À quand remonte la dernière fois où vous avez consacré une journée entière à vous-même — une journée pour vous reposer\, vous détendre et vous concentrer sur votre croissance personnelle? \nSi vous avez l’impression que cela fait trop longtemps ou si vous souhaitez simplement profiter davantage de votre MT\, joignez-vous à nous lors de notre journée de cohérence\, le dimanche 22 juin\, au Centre de MT de Montréal. \nConsidérez cette journée comme l’ultime séjour de vacances: une occasion de vous reposer profondément et d’amplifier les bienfaits de votre pratique quotidienne de MT. \nLes journées de cohérence vous donnent un avant-goût d’une retraite de fin de semaine\, où vous aurez l’occasion de faire l’expérience: \n\nDe séances supplémentaires de pratique de MT en groupe.\nDes Asanas de Yoga Maharishi et des exercices de respiration Pranayama\, qui sont conçus pour compléter votre pratique de MT.\nDes séances de connaissances\, des ateliers et des discussions.\nUn délicieux dîner végétarien avec les autres participants au cours.\n\nQue vous souhaitiez établir une meilleure routine\, accélérer votre croissance ou maximiser les bienfaits de la MT dans votre vie quotidienne\, même une seule journée de cohérence peut conduire à des percées remarquables dans votre pratique de la MT. \nFrais de cours : 108 $ plus taxes. Ce montant inclut l’expérience complète de la journée\, y compris le dîner. \nLe nombre de places est limité. Veuillez répondre à ce courriel pour réserver votre place. Cet événement se déroulera en français et en anglais. \n* Cette retraite n’est pas proposée à ceux qui pratiquent le programme de MT-Sidhis. Des journées similaires seront organisées pour ceux qui pratiquent le programme de MT-Sidhis. Contactez-nous pour plus d’informations. \n\n\n\n\n\n\n\n\n\n\n« Pendant la journée de cohérence\, mes 20 minutes de méditation sont passées très vite\, j’avais l’impression qu’elles ne duraient que 5 minutes. La retraite m’a donné le sentiment d’un grand bonheur intérieur\, d’un silence profond et paisible. J’en ai ressenti les bienfaits longtemps après\, y compris pendant le sommeil. » — Amrita Chy  \n« Participer à la journée de cohérence au centre de MT m’a définitivement permis de progresser dans ma méditation. Méditer plus fréquemment en groupe et pratiquer les Asanas Maharishi a approfondi mon expérience de la transcendance et ses effets pendant l’activité. C’était un excellent complément à ma pratique quotidienne de la Méditation Transcendantale. » — Pierre Thibault \n\n\n\n\n\n\n\n\nJournée de cohérence pour méditants \nOÙ: \nCentre de Méditation Transcendantale de Montréal \n8200\, boulevard Décarie\, bureau 140 \nMontréal\, QC H4P 2P5 \n438-499-6812 \nInstructeurs responsables du cours \nJean-Nicolas Brunet-Duclos et Antonin Mireault-Plante \nQUAND: \nDimanche 22 juin 2025 de 8h45 à 18h. \nArrivée avant 8h45. \nLe bâtiment est fermé à clé le week-end. Nous serons dans le hall d’entrée jusqu’à 8h45 pour vous accueillir. \nLe programme de méditation commence à 9h00. \nLes participants à cette journée de cohérence s’engagent à assister à toutes les activités de la journée\, de 8h45 à 18h. \nCOÛT: \n108\,00 $ (plus taxes). Ce prix comprend un repas végétarien dans un restaurant à proximité\, une collation dans l’après-midi et une contribution pour les opérations du centre. \nPOUR S’INSCRIRE: \nL’inscription préalable est requise avant 18h00 le vendredi 20 juin 2025. Veuillez répondre à ce courriel à montreal@tm.org  en indiquant votre numéro de téléphone. Vous serez contacté par un professeur de MT si nécessaire.\n\n\n\n 
URL:https://community.ca.tm.org/fr/event/journee-de-coherence-au-centre-de-mt-de-montreal/
LOCATION:Centre de MT de Montréal\, 8200 boulevard Décarie\, bureau 140\, Montréal\, Québec\, H4P 2P5\, Canada
CATEGORIES:French,Journée de cohérence,Montréal TM Centre,Montreal TM Centre - French
END:VEVENT
BEGIN:VEVENT
DTSTART;TZID=America/Toronto:20250622T083000
DTEND;TZID=America/Toronto:20250622T170000
DTSTAMP:20260421T221647
CREATED:20250602T175731Z
LAST-MODIFIED:20250602T175731Z
UID:10005134-1750581000-1750611600@community.ca.tm.org
SUMMARY:Journée de cohérence au Centre de MT de Montréal
DESCRIPTION:À quand remonte la dernière fois où vous avez consacré une journée entière à vous-même — une journée pour vous reposer\, vous détendre et vous concentrer sur votre croissance personnelle? \nSi vous avez l’impression que cela fait trop longtemps ou si vous souhaitez simplement profiter davantage de votre MT\, joignez-vous à nous lors de notre journée de cohérence\, le dimanche 22 juin\, au Centre de MT de Montréal. \nConsidérez cette journée comme l’ultime séjour de vacances: une occasion de vous reposer profondément et d’amplifier les bienfaits de votre pratique quotidienne de MT. \nLes journées de cohérence vous donnent un avant-goût d’une retraite de fin de semaine\, où vous aurez l’occasion de faire l’expérience: \n\nDe séances supplémentaires de pratique de MT en groupe.\nDes Asanas de Yoga Maharishi et des exercices de respiration Pranayama\, qui sont conçus pour compléter votre pratique de MT.\nDes séances de connaissances\, des ateliers et des discussions.\nUn délicieux dîner végétarien avec les autres participants au cours.\n\nQue vous souhaitiez établir une meilleure routine\, accélérer votre croissance ou maximiser les bienfaits de la MT dans votre vie quotidienne\, même une seule journée de cohérence peut conduire à des percées remarquables dans votre pratique de la MT. \nFrais de cours : 108 $ plus taxes. Ce montant inclut l’expérience complète de la journée\, y compris le dîner. \nLe nombre de places est limité. Veuillez répondre à ce courriel pour réserver votre place. Cet événement se déroulera en français et en anglais. \n* Cette retraite n’est pas proposée à ceux qui pratiquent le programme de MT-Sidhis. Des journées similaires seront organisées pour ceux qui pratiquent le programme de MT-Sidhis. Contactez-nous pour plus d’informations. \n\n\n\n\n\n\n\n\n\n\n« Pendant la journée de cohérence\, mes 20 minutes de méditation sont passées très vite\, j’avais l’impression qu’elles ne duraient que 5 minutes. La retraite m’a donné le sentiment d’un grand bonheur intérieur\, d’un silence profond et paisible. J’en ai ressenti les bienfaits longtemps après\, y compris pendant le sommeil. » — Amrita Chy  \n« Participer à la journée de cohérence au centre de MT m’a définitivement permis de progresser dans ma méditation. Méditer plus fréquemment en groupe et pratiquer les Asanas Maharishi a approfondi mon expérience de la transcendance et ses effets pendant l’activité. C’était un excellent complément à ma pratique quotidienne de la Méditation Transcendantale. » — Pierre Thibault \n\n\n\n\n\n\n\n\nJournée de cohérence pour méditants \nOÙ: \nCentre de Méditation Transcendantale de Montréal \n8200\, boulevard Décarie\, bureau 140 \nMontréal\, QC H4P 2P5 \n438-499-6812 \nInstructeurs responsables du cours \nJean-Nicolas Brunet-Duclos et Antonin Mireault-Plante \nQUAND: \nDimanche 22 juin 2025 de 8h45 à 18h. \nArrivée avant 8h45. \nLe bâtiment est fermé à clé le week-end. Nous serons dans le hall d’entrée jusqu’à 8h45 pour vous accueillir. \nLe programme de méditation commence à 9h00. \nLes participants à cette journée de cohérence s’engagent à assister à toutes les activités de la journée\, de 8h45 à 18h. \nCOÛT: \n108\,00 $ (plus taxes). Ce prix comprend un repas végétarien dans un restaurant à proximité\, une collation dans l’après-midi et une contribution pour les opérations du centre. \nPOUR S’INSCRIRE: \nL’inscription préalable est requise avant 18h00 le vendredi 20 juin 2025. Veuillez répondre à ce courriel à montreal@tm.org  en indiquant votre numéro de téléphone. Vous serez contacté par un professeur de MT si nécessaire.\n\n\n\n 
URL:https://community.ca.tm.org/fr/event/journee-de-coherence-au-centre-de-mt-de-montreal-2/
LOCATION:Centre de MT de Montréal\, 8200 boulevard Décarie\, bureau 140\, Montréal\, Québec\, H4P 2P5\, Canada
CATEGORIES:French,Montréal TM Centre,Montreal TM Centre - French
END:VEVENT
BEGIN:VEVENT
DTSTART;TZID=America/Toronto:20250921T193000
DTEND;TZID=America/Toronto:20250921T210000
DTSTAMP:20260421T221647
CREATED:20240828T183556Z
LAST-MODIFIED:20250921T015338Z
UID:10000921-1758483000-1758488400@community.ca.tm.org
SUMMARY:Comment ralentir le vieillissement grâce au programme de MT et de MT-Sidhis- Partie 1
DESCRIPTION:Avec le professeur de MT Claude Cazeault \nS’adressant à une conférence scientifique à Bangkok\, Maharishi introduit le concept d’immortalité déjà présent dans le fonctionnement de la nature; malgré un changement constant\, la totalité de la vie dans l’univers continue. \nLe processus de vieillissement devrait s’inverser naturellement lorsque la valeur la plus complète de la Conscience Pure devient une réalité vivante dans la vie quotidienne. Le Dr Keith Wallace explique le contexte dans lequel les biologistes abordent le sujet du vieillissement\, et présente un examen approfondi des principales études scientifiques sur la Méditation Transcendantale qui indiquent une inversion ou un ralentissement du processus de vieillissement. \nNous commençons par une méditation de groupe de 20 minutes. \nJoindre\nMot de passe requis pour participer à cette séance. Accédez à ces séances avec le mot de passe Zoom qui vous a été communiqué par courriel par tmevents@tm.org.
URL:https://community.ca.tm.org/fr/event/comment-ralentir-le-vieillissement-grace-au-programme-de-mt-et-de-mt-sidhis-partie-1/
LOCATION:En ligne
CATEGORIES:French,Montreal TM Centre - French,Online Knowledge Session - French
END:VEVENT
BEGIN:VEVENT
DTSTART;TZID=America/Toronto:20250928T193000
DTEND;TZID=America/Toronto:20250928T210000
DTSTAMP:20260421T221647
CREATED:20240828T184817Z
LAST-MODIFIED:20250919T203203Z
UID:10000922-1759087800-1759093200@community.ca.tm.org
SUMMARY:Comment ralentir le vieillissement grâce au programme de MT et de MT-Sidhis- Partie 2
DESCRIPTION:Avec le professeur de MT Robert Mayer \nS’adressant à une conférence scientifique à Bangkok\, Maharishi introduit le concept d’immortalité déjà présent dans le fonctionnement de la nature; malgré un changement constant\, la totalité de la vie dans l’univers continue. \nLe processus de vieillissement devrait s’inverser naturellement lorsque la valeur la plus complète de la Conscience Pure devient une réalité vivante dans la vie quotidienne. Le Dr Keith Wallace explique le contexte dans lequel les biologistes abordent le sujet du vieillissement\, et présente un examen approfondi des principales études scientifiques sur la Méditation Transcendantale qui indiquent une inversion ou un ralentissement du processus de vieillissement. \nNous commençons par une méditation de groupe de 20 minutes. \nJoindre\nMot de passe requis pour participer à cette séance. Accédez à ces séances avec le mot de passe Zoom qui vous a été communiqué par courriel par tmevents@tm.org.
URL:https://community.ca.tm.org/fr/event/comment-ralentir-le-vieillissement-grace-au-programme-de-mt-et-de-mt-sidhis-partie-2/
LOCATION:En ligne
CATEGORIES:French,Montreal TM Centre - French,Online Knowledge Session - French
END:VEVENT
BEGIN:VEVENT
DTSTART;TZID=America/Toronto:20251012T193000
DTEND;TZID=America/Toronto:20251012T210000
DTSTAMP:20260421T221647
CREATED:20241002T182425Z
LAST-MODIFIED:20251004T170927Z
UID:10000942-1760297400-1760302800@community.ca.tm.org
SUMMARY:Localiser la source de la loi et de l'ordre dans la Conscience Pure\, le foyer de toutes les lois de la nature\, le Véda
DESCRIPTION:Avec le professeur de MT Antonin Mireault-Plante \nDans cette conférence\, Maharishi analyse comment il est possible de renforcer la loi. Il explique que la base de la loi\, la Loi Naturelle\, est la Conscience Pure\, qui s’élève en tant qu’impulsions de la connaissance\, le Veda. L’expérience de la Conscience Pure\, l’ordre parfait\, permettra aux individus de se rééduquer et d’être toujours sur le chemin de l’évolution\, et est la base pour que toute nation devienne invincible.\nÀ la fin de la conférence\, Maharishi invite un pandit védique à réciter quelques Richas choisis dans le Rik Veda — la Constitution de l’Univers. \nNous commençons par une méditation de groupe de 20 minutes. \nJoindre\nMot de passe requis pour participer à cette séance. Accédez à ces séances avec le mot de passe Zoom qui vous a été communiqué par courriel par tmevents@tm.org.
URL:https://community.ca.tm.org/fr/event/localiser-la-source-de-la-loi-et-de-lordre-dans-la-conscience-pure-le-foyer-de-toutes-les-lois-de-la-nature-le-veda/
LOCATION:En ligne
CATEGORIES:French,Montreal TM Centre - French,Online Knowledge Session - French
END:VEVENT
BEGIN:VEVENT
DTSTART;TZID=America/Toronto:20251121T140000
DTEND;TZID=America/Toronto:20251123T150000
DTSTAMP:20260421T221647
CREATED:20250711T185507Z
LAST-MODIFIED:20250711T190913Z
UID:10005280-1763733600-1763910000@community.ca.tm.org
SUMMARY:Retraite de Méditation Transcendantale du 21 au 23 novembre 2025
DESCRIPTION:« Ces magnifiques programmes avancés sont la voie royale pour vivre le plein potentiel de la vie dans des états de conscience supérieurs — l’Illumination. » — Maharishi Mahesh Yogi \nNous avons le plaisir de vous inviter à une retraite de Méditation Transcendantale du vendredi 21 au dimanche 23 novembre 2025\, à l’Auberge du Lac Priscault\, près de St-Côme\, dans Lanaudière\, à environ 90 minutes de Montréal. \nOrganisée par la Fondation Académie Védique (FAV)\, en collaboration avec le Centre de MT de Montréal\, cette retraite est une occasion unique de se reposer profondément\, et approfondir sa pratique de MT\, en compagnie des nouveaux instructeurs Antonin Mireault-Plante et Jean-Nicolas Brunet-Duclos. \nCette retraite est triplement spéciale! Premièrement\, elle ne s’adresse qu’aux méditants. Deuxièmement\, elle répond au désir exprimé par plusieurs d’entres vous de pouvoir profiter d’une retraite de MT à un coût abordable. Le tarif a été réduit substantiellement grâce au soutien financier de plusieurs donateurs de la FAV. Troisièmement\, il s’agira de notre toute première retraite de MT sur le site de l’Auberge du Lac Priscault. Hautement recommandé par Francine Leclerc\, professeure certifiée de MT du Centre de Montréal (merci Francine!)\, ce lieu d’hébergement confortable en pleine nature\, situé en bordure d’un lac privé\, offre des camps de musique durant les vacances d’été. Il sera tout-à-fait convenable pour notre retraite. \nQue vous n’ayez jamais fait l’expérience d’une telle retraite ou que votre dernière remonte à très longtemps\, ne manquez pas cette occasion! Réservez tôt le nombre de place est limité. \nRéservation retraite\n\n\n\nPourquoi participer à cette retraite ? \n\nVous avez besoin de repos. De beaucoup de repos.\nVous souhaitez approfondir votre pratique\, retrouver l’élan\, ou simplement vous offrir une pause régénératrice\nVous aimez votre méditation mais n’arrivez pas à l’intégrer pleinement à votre quotidien.\nVous êtes curieux d’explorer davantage les enseignements védiques\, dans un cadre inspirant.\n\n\n\n\n\n\n\n\nCe que comprend la retraite : \n\nDeux nuits d’hébergement confortable dans un lieu paisible\, en bord de lac\nRepas végétariens équilibrés et savoureux\nPlusieurs séances de méditation par jour\nEnseignements védiques et partages d’expérience\nPratique de yoga (asanas) et des exercices de respiration (pranayama)\nNature et profond ressourcement\n\n\n\n\n\n\n\n\nTarifs (aucune taxes de vente applicable)\n\n\n\n\n\n\n\n\n\nPolitique d’annulation \n\nAnnulation avant le 1er octobre : remboursement complet\nAnnulation entre le 1er et le 31 octobre : crédit de 50 %\, applicable sur une future retraite de la Fondation\nAucun remboursement après le 31 octobre\, mais votre inscription peut être transférée à une autre personne
URL:https://community.ca.tm.org/fr/event/retraite-de-meditation-transcendantale-du-21-au-23-novembre-2025/
LOCATION:Auberge du Lac Priscault\, 100\, rang Petit Beloeil Lanaudière\, Québec\, Sainte-Béatrix\,\, Québec\, J0K 2B0\, Canada
CATEGORIES:French,Montreal TM Centre - French,Retraites de MT — FR
END:VEVENT
BEGIN:VEVENT
DTSTART;TZID=America/Toronto:20251221T080000
DTEND;TZID=America/Toronto:20251221T170000
DTSTAMP:20260421T221647
CREATED:20251203T213000Z
LAST-MODIFIED:20251212T212201Z
UID:10005642-1766304000-1766336400@community.ca.tm.org
SUMMARY:Journée mondiale de la méditation - La plus grande méditation collective
DESCRIPTION:L’Assemblée générale des Nations Unies a désigné le 21 décembre comme JOURNÉE MONDIALE DE LA MÉDITATION. \nNous vous invitons à participer à un événement historique de méditation mondiale de 33 heures\, transmis en direct sur YouTube\,  le dimanche 21 décembre 2025\, \nParticipez à la plus longue et la plus grande méditation collective au monde diffusée publiquement\, en méditant le dimanche 21 décembre à 8h et 17h\, heure locale. Ensemble\, nous créerons une vague mondiale de méditation continue d’une durée de 33 heures\, qui débutera à 8h en Nouvelle-Zélande et se terminera après la méditation de 17h à Hawaï. \nComment participer: \n1- Méditez individuellement en vous joignant au programme en direct sur YouTube. Invitez vos amis à se joindre à vous! \nPour plus de détails sur la Journée mondiale de la méditation et se connecter: worldmeditationday.world \n2- Joignez-vous aux deux méditations de groupe de la journée au Centre MT de Montréal. Vos ami(e)s et/ou membres de votre famille sont les bienvenus. Les méditations de groupe débuteront ponctuellement à 8h et 17h. L’édifice étant fermé le dimanche\, nous serons dans le hall d’entrée pour vous accueillir jusqu’à 7h30 le matin. Ceux qui pratiquent le programme de MT-Sidhis pourront rester sur place et continuer leur programme après la méditation de groupe. \nEn après-midi\, vous êtes aussi tous invités au Centre à partir de 15h pour une excellente occasion de rencontrer notre communauté de méditants.  Des breuvages chauds et du gâteau seront servis. Nous vous accueillerons à la porte d’entrée de l’édifice jusqu’à 16h45. La méditation de groupe débutera à 17h. \nRéservez votre place par courriel au Centre de MT de Montréal à: montreal@tm.org \nVidéo d’invitation par Tony Nader\, MD\, PhD MARR \nTony Nader\, docteur en médecine\, titulaire d’un doctorat\, MARR\, expert védique mondialement reconnu et successeur de Maharishi Mahesh Yogi à la tête de l’organisation mondiale responsable de l’enseignement de la Méditation Transcendantale\, explique: \n« Nous espérons que plusieurs millions de personnes méditeront ensemble en décembre. La paix intérieure que nous créons en nous-mêmes devient instantanément la paix dans le monde. \nQue vous pratiquiez la Méditation Transcendantale\, la pleine conscience\, la prière\, la contemplation\, ou toute autre pratique silencieuse intérieure\,  joignez-vous à nous. \nCommencez votre méditation matinale à 8h et votre méditation du soir à 17h\, heure locale\, le dimanche 21 décembre 2025. \nAu fur et à mesure que la Terre tourne\, fuseau horaire après fuseau horaire\, notre silence partagé balayera le globe\, commençant en Nouvelle-Zélande et se déplaçant vers l’ouest avec le soleil. Ainsi\, la Journée mondiale de la méditation se déroulera sur 33 heures. Ensemble\, nous pouvons éveiller la cohérence au cœur de l’humanité. » \nLes gouvernements\, les chefs spirituels et les pratiquants de tout système de méditation sont invités à participer. \nN’hésitez pas à partager cette invitation avec vos amis et sur les réseaux sociaux: worldmeditationday.world \nC’est ainsi\, tout simplement\, qu’en tant que famille mondiale unie célébrant ensemble la Journée mondiale de la méditation\, une vague d’harmonie et de positivité déferlera sur la planète. \nJai Guru Dev
URL:https://community.ca.tm.org/fr/event/journee-mondiale-de-la-meditation-seance-collective-de-mt-et-de-connaissances/
LOCATION:Montréal Centre de MT\, 8200 boulevard Décarie\, suite 140\, Montréal\, QC\, H4P 2P5\, Canada
CATEGORIES:French,Montréal TM Centre,Montreal TM Centre - English,Montreal TM Centre - French
END:VEVENT
END:VCALENDAR