BEGIN:VCALENDAR
VERSION:2.0
PRODID:-//TM Canada Community Hub - ECPv6.15.11//NONSGML v1.0//EN
CALSCALE:GREGORIAN
METHOD:PUBLISH
X-ORIGINAL-URL:https://community.ca.tm.org/fr/
X-WR-CALDESC:Évènements pour TM Canada Community Hub
REFRESH-INTERVAL;VALUE=DURATION:PT1H
X-Robots-Tag:noindex
X-PUBLISHED-TTL:PT1H
BEGIN:VTIMEZONE
TZID:America/Toronto
BEGIN:DAYLIGHT
TZOFFSETFROM:-0500
TZOFFSETTO:-0400
TZNAME:EDT
DTSTART:20240310T070000
END:DAYLIGHT
BEGIN:STANDARD
TZOFFSETFROM:-0400
TZOFFSETTO:-0500
TZNAME:EST
DTSTART:20241103T060000
END:STANDARD
BEGIN:DAYLIGHT
TZOFFSETFROM:-0500
TZOFFSETTO:-0400
TZNAME:EDT
DTSTART:20250309T070000
END:DAYLIGHT
BEGIN:STANDARD
TZOFFSETFROM:-0400
TZOFFSETTO:-0500
TZNAME:EST
DTSTART:20251102T060000
END:STANDARD
BEGIN:DAYLIGHT
TZOFFSETFROM:-0500
TZOFFSETTO:-0400
TZNAME:EDT
DTSTART:20260308T070000
END:DAYLIGHT
BEGIN:STANDARD
TZOFFSETFROM:-0400
TZOFFSETTO:-0500
TZNAME:EST
DTSTART:20261101T060000
END:STANDARD
END:VTIMEZONE
BEGIN:VEVENT
DTSTART;TZID=America/Toronto:20251228T193000
DTEND;TZID=America/Toronto:20251228T210000
DTSTAMP:20260423T193156
CREATED:20240917T184305Z
LAST-MODIFIED:20251216T005854Z
UID:10000928-1766950200-1766955600@community.ca.tm.org
SUMMARY:Servitude et libération
DESCRIPTION:Avec le professeur de MT Francine Leclerc \nDans cette séance de questions-réponses lors d’une conférence de la SIC (Science de l’intelligence Créatrice)\, Maharishi explique la distinction entre la servitude et l’identification\, et comment la technique de la Méditation Transcendantale développe la capacité de maintenir une conscience illimitée en même temps que l’objet de la perception. \nNous commençons par une méditation de groupe de 20 minutes. \nJoindre\nMot de passe requis pour participer à cette séance. Accédez à ces séances avec le mot de passe Zoom qui vous a été communiqué par courriel par tmevents@tm.org.
URL:https://community.ca.tm.org/fr/event/servitude-et-liberation/
LOCATION:En ligne
CATEGORIES:French,Online Knowledge Session - French
END:VEVENT
END:VCALENDAR