BEGIN:VCALENDAR
VERSION:2.0
PRODID:-//TM Canada Community Hub - ECPv6.15.11//NONSGML v1.0//EN
CALSCALE:GREGORIAN
METHOD:PUBLISH
X-WR-CALNAME:TM Canada Community Hub
X-ORIGINAL-URL:https://community.ca.tm.org/fr/
X-WR-CALDESC:Évènements pour TM Canada Community Hub
REFRESH-INTERVAL;VALUE=DURATION:PT1H
X-Robots-Tag:noindex
X-PUBLISHED-TTL:PT1H
BEGIN:VTIMEZONE
TZID:America/Toronto
BEGIN:DAYLIGHT
TZOFFSETFROM:-0500
TZOFFSETTO:-0400
TZNAME:EDT
DTSTART:20250309T070000
END:DAYLIGHT
BEGIN:STANDARD
TZOFFSETFROM:-0400
TZOFFSETTO:-0500
TZNAME:EST
DTSTART:20251102T060000
END:STANDARD
BEGIN:DAYLIGHT
TZOFFSETFROM:-0500
TZOFFSETTO:-0400
TZNAME:EDT
DTSTART:20260308T070000
END:DAYLIGHT
BEGIN:STANDARD
TZOFFSETFROM:-0400
TZOFFSETTO:-0500
TZNAME:EST
DTSTART:20261101T060000
END:STANDARD
BEGIN:DAYLIGHT
TZOFFSETFROM:-0500
TZOFFSETTO:-0400
TZNAME:EDT
DTSTART:20270314T070000
END:DAYLIGHT
BEGIN:STANDARD
TZOFFSETFROM:-0400
TZOFFSETTO:-0500
TZNAME:EST
DTSTART:20271107T060000
END:STANDARD
END:VTIMEZONE
BEGIN:VEVENT
DTSTART;TZID=America/Toronto:20260419T193000
DTEND;TZID=America/Toronto:20260419T210000
DTSTAMP:20260423T122448
CREATED:20250430T175907Z
LAST-MODIFIED:20260410T195856Z
UID:10004993-1776627000-1776632400@community.ca.tm.org
SUMMARY:Les Incontournables: Accélérez votre croissance personnelle
DESCRIPTION:Avec le professeur de MT  Francine Leclerc \nApprenez comment vous pouvez accélérer votre croissance personnelle en approfondissant et en affinant votre pratique de la MT. Nous explorerons des façons qui peuvent soutenir votre pratique de la MT\, notamment:  \n\nLes cours en résidence de MT\nTechniques avancées de MT et de MT-Sidhis\nCours de formation de professeur de MT (TTC)\n\nDécouvrez des façons de partager la MT avec vos amis et votre famille à mesure que vous grandissez dans votre pratique de la MT. \nCette séance comprend deux courts extraits vidéo inspirants de Maharishi sur les cours en résidence de MT et les techniques avancées de MT. \nNous commençons par une méditation de groupe de 20 minutes. \nJoindre\nMot de passe requis pour participer à cette séance. Accédez à ces séances avec le mot de passe Zoom qui vous a été communiqué par courriel par tmevents@tm.org.
URL:https://community.ca.tm.org/fr/event/les-incontournables-accelerez-votre-croissance-personnelle/
LOCATION:En ligne
CATEGORIES:French,Online Knowledge Session - French
END:VEVENT
END:VCALENDAR