BEGIN:VCALENDAR
VERSION:2.0
PRODID:-//TM Canada Community Hub - ECPv6.15.11//NONSGML v1.0//EN
CALSCALE:GREGORIAN
METHOD:PUBLISH
X-WR-CALNAME:TM Canada Community Hub
X-ORIGINAL-URL:https://community.ca.tm.org/fr/
X-WR-CALDESC:Évènements pour TM Canada Community Hub
REFRESH-INTERVAL;VALUE=DURATION:PT1H
X-Robots-Tag:noindex
X-PUBLISHED-TTL:PT1H
BEGIN:VTIMEZONE
TZID:America/Toronto
BEGIN:DAYLIGHT
TZOFFSETFROM:-0500
TZOFFSETTO:-0400
TZNAME:EDT
DTSTART:20250309T070000
END:DAYLIGHT
BEGIN:STANDARD
TZOFFSETFROM:-0400
TZOFFSETTO:-0500
TZNAME:EST
DTSTART:20251102T060000
END:STANDARD
BEGIN:DAYLIGHT
TZOFFSETFROM:-0500
TZOFFSETTO:-0400
TZNAME:EDT
DTSTART:20260308T070000
END:DAYLIGHT
BEGIN:STANDARD
TZOFFSETFROM:-0400
TZOFFSETTO:-0500
TZNAME:EST
DTSTART:20261101T060000
END:STANDARD
BEGIN:DAYLIGHT
TZOFFSETFROM:-0500
TZOFFSETTO:-0400
TZNAME:EDT
DTSTART:20270314T070000
END:DAYLIGHT
BEGIN:STANDARD
TZOFFSETFROM:-0400
TZOFFSETTO:-0500
TZNAME:EST
DTSTART:20271107T060000
END:STANDARD
END:VTIMEZONE
BEGIN:VEVENT
DTSTART;TZID=America/Toronto:20260222T193000
DTEND;TZID=America/Toronto:20260222T210000
DTSTAMP:20260419T105014
CREATED:20250204T194843Z
LAST-MODIFIED:20260214T024534Z
UID:10001138-1771788600-1771794000@community.ca.tm.org
SUMMARY:Le rôle du cœur et de l'esprit dans l'ascension à la Conscience d'Unité: Première partie
DESCRIPTION:Avec le professeur de MT Antonin Mireault-Plante \nParticipez à l’exploration des étapes successives vers l’illumination avec Maharishi. Découvrez les caractéristiques uniques de chaque état de conscience\, de l’état de veille à la Conscience Cosmique\, à la Conscience Divine et finalement à la Conscience d’Unité. \nDécouvrez comment le cœur et l’esprit se développent à travers la croissance de la conscience\, conduisant à l’établissement de la Conscience d’Unité – où tous les objets de perception sont connus et expérimentés comme unifiés à son propre Soi intérieur au niveau de la conscience. \nNe manquez pas cette occasion d’approfondir votre compréhension de la conscience qui vous laissera un sentiment de connexion\, d’inspiration et de transformation. \nNous commençons par une méditation de groupe de 20 minutes. \nJoindre\nMot de passe requis pour participer à cette séance. Accédez à ces séances avec le mot de passe Zoom qui vous a été communiqué par courriel par tmevents@tm.org.
URL:https://community.ca.tm.org/fr/event/le-role-du-coeur-et-de-lesprit-dans-laccession-a-la-conscience-dunite-premiere-partie/
LOCATION:En ligne
CATEGORIES:French,Online Knowledge Session - French
END:VEVENT
END:VCALENDAR