BEGIN:VCALENDAR
VERSION:2.0
PRODID:-//TM Canada Community Hub - ECPv6.15.11//NONSGML v1.0//EN
CALSCALE:GREGORIAN
METHOD:PUBLISH
X-WR-CALNAME:TM Canada Community Hub
X-ORIGINAL-URL:https://community.ca.tm.org/fr/
X-WR-CALDESC:Évènements pour TM Canada Community Hub
REFRESH-INTERVAL;VALUE=DURATION:PT1H
X-Robots-Tag:noindex
X-PUBLISHED-TTL:PT1H
BEGIN:VTIMEZONE
TZID:America/Toronto
BEGIN:DAYLIGHT
TZOFFSETFROM:-0500
TZOFFSETTO:-0400
TZNAME:EDT
DTSTART:20240310T070000
END:DAYLIGHT
BEGIN:STANDARD
TZOFFSETFROM:-0400
TZOFFSETTO:-0500
TZNAME:EST
DTSTART:20241103T060000
END:STANDARD
BEGIN:DAYLIGHT
TZOFFSETFROM:-0500
TZOFFSETTO:-0400
TZNAME:EDT
DTSTART:20250309T070000
END:DAYLIGHT
BEGIN:STANDARD
TZOFFSETFROM:-0400
TZOFFSETTO:-0500
TZNAME:EST
DTSTART:20251102T060000
END:STANDARD
BEGIN:DAYLIGHT
TZOFFSETFROM:-0500
TZOFFSETTO:-0400
TZNAME:EDT
DTSTART:20260308T070000
END:DAYLIGHT
BEGIN:STANDARD
TZOFFSETFROM:-0400
TZOFFSETTO:-0500
TZNAME:EST
DTSTART:20261101T060000
END:STANDARD
END:VTIMEZONE
BEGIN:VEVENT
DTSTART;TZID=America/Toronto:20251005T103000
DTEND;TZID=America/Toronto:20251005T123000
DTSTAMP:20260422T192125
CREATED:20250825T171245Z
LAST-MODIFIED:20250825T171245Z
UID:10005378-1759660200-1759667400@community.ca.tm.org
SUMMARY:Refresher Class at the Mississauga TM Centre
DESCRIPTION:Led by Helen Engelson-Law \nAre you looking to revitalize your Transcendental Meditation practice? Our TM Refresher Classes are the perfect opportunity to deepen your understanding of TM and get back on track if you’ve fallen out of a consistent meditation routine. \nOur Refresher Classes include a comprehensive review of the dos and don’ts of TM and provide you with a solid foundation to ensure you practice correctly and regularly. \nIn addition to reviewing fundamental TM principles\, you’ll have the opportunity to ask any questions and receive personalized guidance to enhance your practice.
URL:https://community.ca.tm.org/fr/event/refresher-class-at-the-mississauga-tm-centre-5/
LOCATION:Mississauga TM Centre
END:VEVENT
BEGIN:VEVENT
DTSTART;TZID=America/Toronto:20251005T110000
DTEND;TZID=America/Toronto:20251005T123000
DTSTAMP:20260422T192125
CREATED:20250917T191129Z
LAST-MODIFIED:20250917T191129Z
UID:10005442-1759662000-1759667400@community.ca.tm.org
SUMMARY:Maharishi Yoga Asanas Instruction
DESCRIPTION:Led by Maharishi International University faculty. \nLearn Maharishi Yoga Asanas and Pranayama to promote the integration of mind\, body\, and spirit. \nDesigned to be practiced before your Transcendental Meditation\, Yoga Asanas are a gentle series of postures to complement your meditation. They help to remove stress\, strengthen flexibility\, improve health\, and prepare your body for TM. \nPranayama\, a breathing exercise\, helps to settle the body and mind for an even deeper TM experience. \nIn this class you will learn: \n\nMaharishi Yoga Asana postures\nPranayama\, deep breathing exercises\nHow to integrate Asanas and Pranayama into your daily routine\n\nWhether you’re completely new to yoga or an advanced practitioner\, this class will give you the instruction you need to add the Maharishi Yoga Asanas to your TM routine.  \nRequirements: \n\nInstruction in Transcendental Meditation\nComfortable sports or yoga clothes\nA yoga mat or thick blanket\nA settled environment\n\nThis 1-hour class will be followed by a 20-minute online group TM \nAt this time\, this class is being offered as a free service. \n► Register here \nWatch a recording here.
URL:https://community.ca.tm.org/fr/event/maharishi-yoga-asanas-instruction-142/
LOCATION:Online
END:VEVENT
BEGIN:VEVENT
DTSTART;TZID=America/Toronto:20251005T140000
DTEND;TZID=America/Toronto:20251005T143000
DTSTAMP:20260422T192125
CREATED:20250503T183647Z
LAST-MODIFIED:20251029T151503Z
UID:10001413-1759672800-1759674600@community.ca.tm.org
SUMMARY:Creating Coherence Daily Group TM
DESCRIPTION:With a TM Teacher. \nJoin us every day for a powerful online group meditation dedicated to Creating Coherence for Canada — and beyond. \nBy coming together at the same time each day\, we amplify our collective consciousness and radiate peace and harmony into the environment. As Maharishi Mahesh Yogi beautifully put it “There is one unity\, unified wholeness\, total natural law\, in the transcendental unified consciousness.” \nParticipants have expressed their gratitude and sense of connection\, making this a truly unifying experience. Please join us for 20 minutes every day\, your participation contributes to the peaceful evolution of our country and the world. \nThe event takes place everyday at 2:00 PM ET / 11:00 AM PT \nJoin Session \nPassword required to join this session. Access these sessions with the Zoom password provided to you by email from tmevents@tm.org.
URL:https://community.ca.tm.org/fr/event/creating-coherence-daily-group-tm-18/2025-10-05/
LOCATION:Online
END:VEVENT
BEGIN:VEVENT
DTSTART;TZID=America/Toronto:20251005T140000
DTEND;TZID=America/Toronto:20251005T143000
DTSTAMP:20260422T192125
CREATED:20250503T191354Z
LAST-MODIFIED:20250503T192724Z
UID:10003244-1759672800-1759674600@community.ca.tm.org
SUMMARY:Méditation de groupe quotidienne  pour créer de la cohérence
DESCRIPTION:Avec le professeur de MT  \nJoignez-vous à nous chaque jour pour une puissante méditation de groupe en ligne dédiée à la Création de Cohérence pour le Canada — et au-delà. \nEn nous réunissant chaque jour à la même heure\, nous amplifions notre conscience collective et rayonnons la paix et l’harmonie dans l’environnement. Comme l’a magnifiquement dit Maharishi Mahesh Yogi\, « il n’y a qu’une unité\, une totalité unifiée\, une loi naturelle totale\, dans la conscience unifiée transcendantale ». \nLes participants ont exprimé leur gratitude et leur sentiment de solidarité\, ce qui en fait une expérience véritablement unificatrice. Joignez-vous à nous pendant 20 minutes chaque jour\, votre participation contribue à l’évolution pacifique de notre pays et du monde. \nL’événement a lieu tous les jours à 14h00 ET / 11h00 PT. \nJoindre la séance\nMot de passe requis pour participer à cette séance. Accédez à ces séances avec le mot de passe Zoom qui vous a été communiqué par courriel par tmevents@tm.org
URL:https://community.ca.tm.org/fr/event/meditation-de-groupe-quotidienne-pour-creer-de-la-coherence-3-6/2025-10-05/
LOCATION:BC
END:VEVENT
BEGIN:VEVENT
DTSTART;TZID=America/Toronto:20251005T140000
DTEND;TZID=America/Toronto:20251005T153000
DTSTAMP:20260422T192125
CREATED:20251002T185700Z
LAST-MODIFIED:20251002T185700Z
UID:10005510-1759672800-1759678200@community.ca.tm.org
SUMMARY:TM Essentials: How to Get Most from Your TM Practice
DESCRIPTION:With TM Teacher Ria Kinzel. \nJoin us for a special gathering designed to support and strengthen your Transcendental Meditation practice. Whether you’re looking to enhance your regularity or simply reconnect with the effortless ease of TM\, this session will provide valuable insights and encouragement. \nA highlight of the event will be a 15-minute video featuring Dr. Tony Nader\, the head of Maharishi’s international TM organization in over 100 countries. Dr. Nader will share five simple yet powerful “hacks” to help you stay consistent with your twice-daily practice and explain why it’s so beneficial. \nYou’ll also learn about additional support options\, including: \n\nThe SuperHabits 10-week online course\nThe Consciousness Advisors program for ongoing guidance\n\nThis session is perfect for new and returning meditators — or anyone looking for inspiration to maintain their practice. \nBegins with a 20-minute group TM. \nJoin Session \nPassword required to join this session. Access these sessions with the Zoom password provided to you by email from tmevents@tm.org.
URL:https://community.ca.tm.org/fr/event/tm-essentials-how-to-get-most-from-your-tm-practice-3/
LOCATION:Online
END:VEVENT
BEGIN:VEVENT
DTSTART;TZID=America/Toronto:20251005T160000
DTEND;TZID=America/Toronto:20251005T180000
DTSTAMP:20260422T192125
CREATED:20250911T221920Z
LAST-MODIFIED:20250911T221920Z
UID:10005421-1759680000-1759687200@community.ca.tm.org
SUMMARY:Toronto TM Essentials: TM Is Guided by Nature
DESCRIPTION:This session is an integral part of mastering the technique and practice of TM. \nEvery TM practitioner should attend this session early in their practice to have the critical understanding of how to prevent inserting effort and unnaturalness into the TM technique. \nThis session is only offered in person with a Certified TM Teacher and includes the following: \n\nA detailed discussion of our growing body of experiences in the light of the primary driver of transcending\nA video with Maharishi explaining aspects of forces of nature involved inside our TM practice and outside in our personal growth and evolution\nA full 20 minute group TM\n\nThis session helps shatter any inclination towards individual inception\, interference\, or effort in our TM technique. And helps us spontaneously live a life more in accord with all the laws of nature. \nBe sure to attend this Essentials session.
URL:https://community.ca.tm.org/fr/event/toronto-tm-essentials-tm-is-guided-by-nature-14/
LOCATION:Toronto TM Centre\, 100 Front Street West (Retail floor - below main lobby\, Toronto\, On\, M5J 1E3\, Canada
ORGANIZER;CN="Toronto TM Centre":MAILTO:toronto@tm.org
END:VEVENT
BEGIN:VEVENT
DTSTART;TZID=America/Toronto:20251005T173000
DTEND;TZID=America/Toronto:20251005T190000
DTSTAMP:20260422T192125
CREATED:20250928T204141Z
LAST-MODIFIED:20250928T204141Z
UID:10005468-1759685400-1759690800@community.ca.tm.org
SUMMARY:Deep Dives: Group TM & Knowledge Session
DESCRIPTION:Join us each week for a Group TM & Knowledge session at the Toronto TM Centre. \nThe group meditation begins promptly at 5:30 pm\, with participants from our preceding TM Essentials class. \nAfter the knowledge session\, stay to enjoy some tea and refreshments. It’s a great opportunity to connect with our community of meditators.
URL:https://community.ca.tm.org/fr/event/deep-dives-group-tm-knowledge-session-74/
LOCATION:Toronto TM Centre\, 100 Front Street West (Retail floor - below main lobby\, Toronto\, On\, M5J 1E3\, Canada
ORGANIZER;CN="Toronto TM Centre":MAILTO:toronto@tm.org
END:VEVENT
BEGIN:VEVENT
DTSTART;TZID=America/Toronto:20251005T193000
DTEND;TZID=America/Toronto:20251005T210000
DTSTAMP:20260422T192125
CREATED:20240917T191342Z
LAST-MODIFIED:20251004T170526Z
UID:10000930-1759692600-1759698000@community.ca.tm.org
SUMMARY:Faire l'expérience de la Conscience Pure - la base de la pensée claire et de l'action spontanément juste
DESCRIPTION:Avec le professeur de MT Antonin Mireault-Plante \nEn ces temps difficiles et incertains\, il peut être difficile de savoir comment penser clairement et agir vertueusement. Les célèbres paroles de sagesse de Maharishi\, « Take it easy\, take it as it comes »\,  (« On prend les choses aisément\, on prend ça comme ça vient »\,) n’étaient pas seulement une philosophie de vie mais aussi une réflexion sur la croissance de la conscience par la technique de MT. \nDans cette conférence\, Maharishi réaffirme la nécessité de transcender pour cultiver la liberté et l’épanouissement de l’individu et de la collectivité. L’accès à ce champ intérieur de la vie\, plein d’intelligence et de créativité\, stimule ces qualités dans notre conscience – favorisant une pensée\, une compréhension et un comportement plus clairs. \nNous commençons par une méditation de groupe de 20 minutes. \nJoindre\nMot de passe requis pour participer à cette séance. Accédez à ces séances avec le mot de passe Zoom qui vous a été communiqué par courriel par tmevents@tm.org.
URL:https://community.ca.tm.org/fr/event/faire-lexperience-de-la-conscience-pure-la-base-de-la-pensee-claire-et-de-laction-spontanement-juste/
LOCATION:En ligne
CATEGORIES:French,Online Knowledge Session - French
END:VEVENT
END:VCALENDAR