BEGIN:VCALENDAR
VERSION:2.0
PRODID:-//TM Canada Community Hub - ECPv6.15.11//NONSGML v1.0//EN
CALSCALE:GREGORIAN
METHOD:PUBLISH
X-WR-CALNAME:TM Canada Community Hub
X-ORIGINAL-URL:https://community.ca.tm.org/fr/
X-WR-CALDESC:Évènements pour TM Canada Community Hub
REFRESH-INTERVAL;VALUE=DURATION:PT1H
X-Robots-Tag:noindex
X-PUBLISHED-TTL:PT1H
BEGIN:VTIMEZONE
TZID:America/Toronto
BEGIN:DAYLIGHT
TZOFFSETFROM:-0500
TZOFFSETTO:-0400
TZNAME:EDT
DTSTART:20240310T070000
END:DAYLIGHT
BEGIN:STANDARD
TZOFFSETFROM:-0400
TZOFFSETTO:-0500
TZNAME:EST
DTSTART:20241103T060000
END:STANDARD
BEGIN:DAYLIGHT
TZOFFSETFROM:-0500
TZOFFSETTO:-0400
TZNAME:EDT
DTSTART:20250309T070000
END:DAYLIGHT
BEGIN:STANDARD
TZOFFSETFROM:-0400
TZOFFSETTO:-0500
TZNAME:EST
DTSTART:20251102T060000
END:STANDARD
BEGIN:DAYLIGHT
TZOFFSETFROM:-0500
TZOFFSETTO:-0400
TZNAME:EDT
DTSTART:20260308T070000
END:DAYLIGHT
BEGIN:STANDARD
TZOFFSETFROM:-0400
TZOFFSETTO:-0500
TZNAME:EST
DTSTART:20261101T060000
END:STANDARD
END:VTIMEZONE
BEGIN:VEVENT
DTSTART;TZID=America/Toronto:20250708T140000
DTEND;TZID=America/Toronto:20250708T143000
DTSTAMP:20260421T081409
CREATED:20250503T191354Z
LAST-MODIFIED:20250503T192724Z
UID:10003155-1751983200-1751985000@community.ca.tm.org
SUMMARY:Méditation de groupe quotidienne  pour créer de la cohérence
DESCRIPTION:Avec le professeur de MT  \nJoignez-vous à nous chaque jour pour une puissante méditation de groupe en ligne dédiée à la Création de Cohérence pour le Canada — et au-delà. \nEn nous réunissant chaque jour à la même heure\, nous amplifions notre conscience collective et rayonnons la paix et l’harmonie dans l’environnement. Comme l’a magnifiquement dit Maharishi Mahesh Yogi\, « il n’y a qu’une unité\, une totalité unifiée\, une loi naturelle totale\, dans la conscience unifiée transcendantale ». \nLes participants ont exprimé leur gratitude et leur sentiment de solidarité\, ce qui en fait une expérience véritablement unificatrice. Joignez-vous à nous pendant 20 minutes chaque jour\, votre participation contribue à l’évolution pacifique de notre pays et du monde. \nL’événement a lieu tous les jours à 14h00 ET / 11h00 PT. \nJoindre la séance\nMot de passe requis pour participer à cette séance. Accédez à ces séances avec le mot de passe Zoom qui vous a été communiqué par courriel par tmevents@tm.org
URL:https://community.ca.tm.org/fr/event/meditation-de-groupe-quotidienne-pour-creer-de-la-coherence-3-6/2025-07-08/
LOCATION:BC
END:VEVENT
BEGIN:VEVENT
DTSTART;TZID=America/Toronto:20250708T140000
DTEND;TZID=America/Toronto:20250708T143000
DTSTAMP:20260421T081409
CREATED:20250703T202049Z
LAST-MODIFIED:20250705T125318Z
UID:10001324-1751983200-1751985000@community.ca.tm.org
SUMMARY:Creating Coherence Meeting
DESCRIPTION:With TM Teacher John Cowhig\, and Special Guest Candace Badgett. \nOur group TM will start at 2:00 pm ET / 11:00 am PT \nThe story behind one of North America’s First Ayurvedic Health Facilities \nIn 1990\, Ayurveda was virtually unknown in North America. That year\, Candace Badgett and her husband\, Rogers\, embarked on an ambitious project: create a 36\,000 sq ft Ayurvedic health facility in Fairfield\, Iowa\, known as The Raj. \nWith slides and stories\, Candace will share the challenges and triumphs of bringing their vision to life. She’ll recount the journey of conceiving the idea for The Raj with Maharishi\, then planning\, designing\, financing\, and constructing this trailblazing health facility. It’s a story of making the impossible possible. \nToday\, Ayurveda is widely recognized\, but The Raj pioneered the use of Ayur-Vedic medicine in North America. Candace and Rogers are now respected international consultants in field of Maharishi Ayur-Veda. \nAside from running The Raj\, Candace is also an International Director of the women’s wing of the Transcendental Meditation organization\, Global Mother Divine Organization\, with specific oversight in the US\, Canada and Australia. In this capacity\, she also provides advanced programs for women practitioners of Transcendental Meditation and the TM-Sidhis program\, In addition. Candace speaks around the world on Ayur-Veda\, Vedic Science\, higher states of consciousness\, and women’s health\, fulfillment\, and empowerment. \nPlease join us for a journey from a noble idea to a vibrant campus of Perfect Health. \nJoin Session \nPassword required to join this session. Access these sessions with the Zoom password provided to you by email from tmevents@tm.org.
URL:https://community.ca.tm.org/fr/event/creating-coherence-daily-group-tm-18-4/
LOCATION:Online
END:VEVENT
BEGIN:VEVENT
DTSTART;TZID=America/Toronto:20250708T173000
DTEND;TZID=America/Toronto:20250708T180000
DTSTAMP:20260421T081409
CREATED:20250625T160814Z
LAST-MODIFIED:20250625T160846Z
UID:10005221-1751995800-1751997600@community.ca.tm.org
SUMMARY:Dive & Dash: Weekly 20-Minute Group TM
DESCRIPTION:Join us each week for a 20-minute Group TM at the Toronto TM Centre. \nThe group is growing every week\, so please be sure to register so that we know there’s room for everyone. \nThe group meditation begins promptly at 5:30 pm\, so please arrive and be seated at least a few minutes ahead of time.
URL:https://community.ca.tm.org/fr/event/dive-dash-weekly-20-minute-group-tm-122/
LOCATION:Toronto TM Centre\, 100 Front Street West (Retail floor - below main lobby\, Toronto\, On\, M5J 1E3\, Canada
ORGANIZER;CN="Toronto TM Centre":MAILTO:toronto@tm.org
END:VEVENT
END:VCALENDAR