BEGIN:VCALENDAR
VERSION:2.0
PRODID:-//TM Canada Community Hub - ECPv6.15.11//NONSGML v1.0//EN
CALSCALE:GREGORIAN
METHOD:PUBLISH
X-ORIGINAL-URL:https://community.ca.tm.org/fr/
X-WR-CALDESC:Évènements pour TM Canada Community Hub
REFRESH-INTERVAL;VALUE=DURATION:PT1H
X-Robots-Tag:noindex
X-PUBLISHED-TTL:PT1H
BEGIN:VTIMEZONE
TZID:America/Toronto
BEGIN:DAYLIGHT
TZOFFSETFROM:-0500
TZOFFSETTO:-0400
TZNAME:EDT
DTSTART:20240310T070000
END:DAYLIGHT
BEGIN:STANDARD
TZOFFSETFROM:-0400
TZOFFSETTO:-0500
TZNAME:EST
DTSTART:20241103T060000
END:STANDARD
BEGIN:DAYLIGHT
TZOFFSETFROM:-0500
TZOFFSETTO:-0400
TZNAME:EDT
DTSTART:20250309T070000
END:DAYLIGHT
BEGIN:STANDARD
TZOFFSETFROM:-0400
TZOFFSETTO:-0500
TZNAME:EST
DTSTART:20251102T060000
END:STANDARD
BEGIN:DAYLIGHT
TZOFFSETFROM:-0500
TZOFFSETTO:-0400
TZNAME:EDT
DTSTART:20260308T070000
END:DAYLIGHT
BEGIN:STANDARD
TZOFFSETFROM:-0400
TZOFFSETTO:-0500
TZNAME:EST
DTSTART:20261101T060000
END:STANDARD
END:VTIMEZONE
BEGIN:VEVENT
DTSTART;TZID=America/Toronto:20250701T140000
DTEND;TZID=America/Toronto:20250701T143000
DTSTAMP:20260421T021708
CREATED:20250503T191354Z
LAST-MODIFIED:20250503T192724Z
UID:10003148-1751378400-1751380200@community.ca.tm.org
SUMMARY:Méditation de groupe quotidienne  pour créer de la cohérence
DESCRIPTION:Avec le professeur de MT  \nJoignez-vous à nous chaque jour pour une puissante méditation de groupe en ligne dédiée à la Création de Cohérence pour le Canada — et au-delà. \nEn nous réunissant chaque jour à la même heure\, nous amplifions notre conscience collective et rayonnons la paix et l’harmonie dans l’environnement. Comme l’a magnifiquement dit Maharishi Mahesh Yogi\, « il n’y a qu’une unité\, une totalité unifiée\, une loi naturelle totale\, dans la conscience unifiée transcendantale ». \nLes participants ont exprimé leur gratitude et leur sentiment de solidarité\, ce qui en fait une expérience véritablement unificatrice. Joignez-vous à nous pendant 20 minutes chaque jour\, votre participation contribue à l’évolution pacifique de notre pays et du monde. \nL’événement a lieu tous les jours à 14h00 ET / 11h00 PT. \nJoindre la séance\nMot de passe requis pour participer à cette séance. Accédez à ces séances avec le mot de passe Zoom qui vous a été communiqué par courriel par tmevents@tm.org
URL:https://community.ca.tm.org/fr/event/meditation-de-groupe-quotidienne-pour-creer-de-la-coherence-3-6/2025-07-01/
LOCATION:BC
END:VEVENT
BEGIN:VEVENT
DTSTART;TZID=America/Toronto:20250701T140000
DTEND;TZID=America/Toronto:20250701T143000
DTSTAMP:20260421T021708
CREATED:20250630T134231Z
LAST-MODIFIED:20250703T201740Z
UID:10001317-1751378400-1751380200@community.ca.tm.org
SUMMARY:Creating Coherence Meeting
DESCRIPTION:With TM Teachers Eric Simon\, J0hn Cowhig and Special Guest Nada Haidar. \nJoin us on Tuesday\, July 1st\, for Creating Coherence in Canada session with special guest\, Nada Haidar. \nOur group TM will start at 2:00 pm ET / 11:00 am PT \nNada will take us on a colourful journey across the Middle East and beyond: to Georgia\, Armenia\, Lithuania\, Greece\, and Kazakhstan. We’ll see why she is one of the most dynamic and interesting leaders of the TM movement. \nOriginally from Lebanon\, she earned a law degree in 1989. However\, in 1992\, she discovered her real passion and became a TM teacher\, a role she has since embraced. Her devoted energy was recognized\, and she was made a teacher of both the advanced TM practices and the TM-Sidhis program\, enriching her students’ lives even more. \nFor all these years\, Nada has enthusiastically shared her expertise with educators\, health professionals\, business leaders\, and more\, showing them how to unlock their full potential. She is also an expert in Ayurvedic preventative health and related fields. \nThis Tuesday\, instead of a lecture\, Nada will share stories of her adventures\, bringing those transformative courses to thousands of people in fascinating parts of the globe. With slides and stories\, we’ll get a glimpse of A Day in the Life of a TM teacher and a Look at Life in those ancient parts of the world. \nJoin Session \nPassword required to join this session. Access these sessions with the Zoom password provided to you by email from tmevents@tm.org.
URL:https://community.ca.tm.org/fr/event/creating-coherence-daily-group-tm-18-3/
LOCATION:Online
END:VEVENT
END:VCALENDAR