BEGIN:VCALENDAR
VERSION:2.0
PRODID:-//TM Canada Community Hub - ECPv6.15.11//NONSGML v1.0//EN
CALSCALE:GREGORIAN
METHOD:PUBLISH
X-WR-CALNAME:TM Canada Community Hub
X-ORIGINAL-URL:https://community.ca.tm.org/fr/
X-WR-CALDESC:Évènements pour TM Canada Community Hub
REFRESH-INTERVAL;VALUE=DURATION:PT1H
X-Robots-Tag:noindex
X-PUBLISHED-TTL:PT1H
BEGIN:VTIMEZONE
TZID:America/Toronto
BEGIN:DAYLIGHT
TZOFFSETFROM:-0500
TZOFFSETTO:-0400
TZNAME:EDT
DTSTART:20240310T070000
END:DAYLIGHT
BEGIN:STANDARD
TZOFFSETFROM:-0400
TZOFFSETTO:-0500
TZNAME:EST
DTSTART:20241103T060000
END:STANDARD
BEGIN:DAYLIGHT
TZOFFSETFROM:-0500
TZOFFSETTO:-0400
TZNAME:EDT
DTSTART:20250309T070000
END:DAYLIGHT
BEGIN:STANDARD
TZOFFSETFROM:-0400
TZOFFSETTO:-0500
TZNAME:EST
DTSTART:20251102T060000
END:STANDARD
BEGIN:DAYLIGHT
TZOFFSETFROM:-0500
TZOFFSETTO:-0400
TZNAME:EDT
DTSTART:20260308T070000
END:DAYLIGHT
BEGIN:STANDARD
TZOFFSETFROM:-0400
TZOFFSETTO:-0500
TZNAME:EST
DTSTART:20261101T060000
END:STANDARD
END:VTIMEZONE
BEGIN:VEVENT
DTSTART;TZID=America/Toronto:20250624T140000
DTEND;TZID=America/Toronto:20250624T143000
DTSTAMP:20260420T161955
CREATED:20250503T191354Z
LAST-MODIFIED:20250503T192724Z
UID:10003141-1750773600-1750775400@community.ca.tm.org
SUMMARY:Méditation de groupe quotidienne  pour créer de la cohérence
DESCRIPTION:Avec le professeur de MT  \nJoignez-vous à nous chaque jour pour une puissante méditation de groupe en ligne dédiée à la Création de Cohérence pour le Canada — et au-delà. \nEn nous réunissant chaque jour à la même heure\, nous amplifions notre conscience collective et rayonnons la paix et l’harmonie dans l’environnement. Comme l’a magnifiquement dit Maharishi Mahesh Yogi\, « il n’y a qu’une unité\, une totalité unifiée\, une loi naturelle totale\, dans la conscience unifiée transcendantale ». \nLes participants ont exprimé leur gratitude et leur sentiment de solidarité\, ce qui en fait une expérience véritablement unificatrice. Joignez-vous à nous pendant 20 minutes chaque jour\, votre participation contribue à l’évolution pacifique de notre pays et du monde. \nL’événement a lieu tous les jours à 14h00 ET / 11h00 PT. \nJoindre la séance\nMot de passe requis pour participer à cette séance. Accédez à ces séances avec le mot de passe Zoom qui vous a été communiqué par courriel par tmevents@tm.org
URL:https://community.ca.tm.org/fr/event/meditation-de-groupe-quotidienne-pour-creer-de-la-coherence-3-6/2025-06-24/
LOCATION:BC
END:VEVENT
BEGIN:VEVENT
DTSTART;TZID=America/Toronto:20250624T140000
DTEND;TZID=America/Toronto:20250624T153000
DTSTAMP:20260420T161955
CREATED:20250623T135048Z
LAST-MODIFIED:20250623T140213Z
UID:10001310-1750773600-1750779000@community.ca.tm.org
SUMMARY:Creating Coherence Meeting
DESCRIPTION:With a TM Teacher Eric Simon and Special Guest Dr. Alarik Arenander. \nLast week\, we had a lively presentation by Dr. Alarik Arenander\, who worked closely with Maharishi and an international team of scientists in Switzerland starting in 1974 conducting EEG research into remarkable levels of brain coherence from the practice of Transcendental Meditation. He continued his research at UCLA and MIU in the field of brain and consciousness related to human development and to aging. \nThis Tuesday\, he will give a presentation on how to arrest and reverse cognitive decline: \nCreate a YOUTHFUL BRAIN: Anti-aging Techniques for the Prevention of Alzheimer’s Disease \nYour brain is everything; take good care of it for a long and healthy life. \nHis work challenges the current fear and misunderstanding about aging\, the brain\, and Alzheimer’s disease (AD). The latest scientific knowledge about aging suggests the brain begins to disconnect around age 30 and progresses at a rate determined primarily by known risk factors. \nUnderstand the risk factors which impact the aging process and the development of dementia including AD. Research indicates the failure of modern medicine and the growing success of natural forms of medicine including the ancient medical science of Ayurveda to help overcome by offering practical techniques to reverse the aging process and delay or prevent the onset of AD. \nUnderstanding the process of aging and memory loss\, the progression towards Alzheimer’s disease. \nAn inspiring lecture from a dynamic speaker who makes complex brain functioning understandable and enjoyable for lay people and professionals alike features a wealth of practical tips for creating a youthful brain operating at its full potential. \nBegins with a 20-minute group TM \nJoin Session \nPassword required to join this session. Access these sessions with the Zoom password provided to you by email from tmevents@tm.org.
URL:https://community.ca.tm.org/fr/event/creating-coherence-daily-group-tm-18-2/
LOCATION:Online
END:VEVENT
BEGIN:VEVENT
DTSTART;TZID=America/Toronto:20250624T160000
DTEND;TZID=America/Toronto:20250624T180000
DTSTAMP:20260420T161955
CREATED:20250511T145208Z
LAST-MODIFIED:20250511T145208Z
UID:10005092-1750780800-1750788000@community.ca.tm.org
SUMMARY:Toronto TM Essentials: Discover Your Full Potential
DESCRIPTION:There is more to life than waking\, sleeping\, and dreaming. As TM practitioners we have begun to experience a fourth state of consciousness known as transcendental consciousness or samadhi. \nHowever\, that’s not the end of the story. Maharishi has delineated the knowledge of the progression of enlightenment into seven states of consciousness. \nIn this session\, Maharishi describes the hallmarks of these seven states of consciousness. He provides a concise explanation of how each state of consciousness has different qualitative changes in perception and sense of self.
URL:https://community.ca.tm.org/fr/event/toronto-tm-essentials-discover-your-full-potential-10/
LOCATION:Toronto TM Centre\, 100 Front Street West (Retail floor - below main lobby\, Toronto\, On\, M5J 1E3\, Canada
ORGANIZER;CN="Toronto TM Centre":MAILTO:toronto@tm.org
END:VEVENT
BEGIN:VEVENT
DTSTART;TZID=America/Toronto:20250624T173000
DTEND;TZID=America/Toronto:20250624T180000
DTSTAMP:20260420T161955
CREATED:20250511T143716Z
LAST-MODIFIED:20250511T143716Z
UID:10005087-1750786200-1750788000@community.ca.tm.org
SUMMARY:Dive & Dash: Weekly 20-Minute Group TM
DESCRIPTION:Join us each week for a 20-minute Group TM at the Toronto TM Centre. \nThe group is growing every week\, so please be sure to register so that we know there’s room for everyone. \nThe group meditation begins promptly at 5:30 pm\, so please arrive and be seated at least a few minutes ahead of time.
URL:https://community.ca.tm.org/fr/event/dive-dash-weekly-20-minute-group-tm-111/
LOCATION:Toronto TM Centre\, 100 Front Street West (Retail floor - below main lobby\, Toronto\, On\, M5J 1E3\, Canada
ORGANIZER;CN="Toronto TM Centre":MAILTO:toronto@tm.org
END:VEVENT
END:VCALENDAR