BEGIN:VCALENDAR
VERSION:2.0
PRODID:-//TM Canada Community Hub - ECPv6.15.11//NONSGML v1.0//EN
CALSCALE:GREGORIAN
METHOD:PUBLISH
X-ORIGINAL-URL:https://community.ca.tm.org/fr/
X-WR-CALDESC:Évènements pour TM Canada Community Hub
REFRESH-INTERVAL;VALUE=DURATION:PT1H
X-Robots-Tag:noindex
X-PUBLISHED-TTL:PT1H
BEGIN:VTIMEZONE
TZID:America/Toronto
BEGIN:DAYLIGHT
TZOFFSETFROM:-0500
TZOFFSETTO:-0400
TZNAME:EDT
DTSTART:20240310T070000
END:DAYLIGHT
BEGIN:STANDARD
TZOFFSETFROM:-0400
TZOFFSETTO:-0500
TZNAME:EST
DTSTART:20241103T060000
END:STANDARD
BEGIN:DAYLIGHT
TZOFFSETFROM:-0500
TZOFFSETTO:-0400
TZNAME:EDT
DTSTART:20250309T070000
END:DAYLIGHT
BEGIN:STANDARD
TZOFFSETFROM:-0400
TZOFFSETTO:-0500
TZNAME:EST
DTSTART:20251102T060000
END:STANDARD
BEGIN:DAYLIGHT
TZOFFSETFROM:-0500
TZOFFSETTO:-0400
TZNAME:EDT
DTSTART:20260308T070000
END:DAYLIGHT
BEGIN:STANDARD
TZOFFSETFROM:-0400
TZOFFSETTO:-0500
TZNAME:EST
DTSTART:20261101T060000
END:STANDARD
END:VTIMEZONE
BEGIN:VEVENT
DTSTART;TZID=America/Toronto:20250524T080000
DTEND;TZID=America/Toronto:20250524T173000
DTSTAMP:20260422T210342
CREATED:20250508T201854Z
LAST-MODIFIED:20250530T021433Z
UID:10005069-1748073600-1748107800@community.ca.tm.org
SUMMARY:Journée de cohérence au Centre de MT de Montréal
DESCRIPTION:À quand remonte la dernière fois où vous avez consacré une journée entière à vous-même — une journée pour vous reposer\, vous détendre et vous concentrer sur votre croissance personnelle? \nSi vous avez l’impression que cela fait trop longtemps ou si vous souhaitez simplement profiter davantage de votre MT\, joignez-vous à nous lors de notre journée de cohérence\, le dimanche 22 juin\, au Centre de MT de Montréal. \nConsidérez cette journée comme l’ultime séjour de vacances: une occasion de vous reposer profondément et d’amplifier les bienfaits de votre pratique quotidienne de MT. \nLes journées de cohérence vous donnent un avant-goût d’une retraite de fin de semaine\, où vous aurez l’occasion de faire l’expérience: \n\nDe séances supplémentaires de pratique de MT en groupe.\nDes Asanas de Yoga Maharishi et des exercices de respiration Pranayama\, qui sont conçus pour compléter votre pratique de MT.\nDes séances de connaissances\, des ateliers et des discussions.\nUn délicieux dîner végétarien avec les autres participants au cours.\n\nQue vous souhaitiez établir une meilleure routine\, accélérer votre croissance ou maximiser les bienfaits de la MT dans votre vie quotidienne\, même une seule journée de cohérence peut conduire à des percées remarquables dans votre pratique de la MT. \nFrais de cours : 108 $ plus taxes. Ce montant inclut l’expérience complète de la journée\, y compris le dîner. \nLe nombre de places est limité. Veuillez répondre à ce courriel pour réserver votre place. Cet événement se déroulera en français et en anglais. \n* Cette retraite n’est pas proposée à ceux qui pratiquent le programme de MT-Sidhis. Des journées similaires seront organisées pour ceux qui pratiquent le programme de MT-Sidhis. Contactez-nous pour plus d’informations. \n\n\n\n\n\n\n\n\n\n\n« Pendant la journée de cohérence\, mes 20 minutes de méditation sont passées très vite\, j’avais l’impression qu’elles ne duraient que 5 minutes. La retraite m’a donné le sentiment d’un grand bonheur intérieur\, d’un silence profond et paisible. J’en ai ressenti les bienfaits longtemps après\, y compris pendant le sommeil. » — Amrita Chy  \n« Participer à la journée de cohérence au centre de MT m’a définitivement permis de progresser dans ma méditation. Méditer plus fréquemment en groupe et pratiquer les Asanas Maharishi a approfondi mon expérience de la transcendance et ses effets pendant l’activité. C’était un excellent complément à ma pratique quotidienne de la Méditation Transcendantale. » — Pierre Thibault \n\n\n\n\n\n\n\n\nJournée de cohérence pour méditants \nOÙ: \nCentre de Méditation Transcendantale de Montréal \n8200\, boulevard Décarie\, bureau 140 \nMontréal\, QC H4P 2P5 \n438-499-6812 \nInstructeurs responsables du cours \nAntonin Mireault-Plante et Jean-Nicolas Brunet-Duclos \nQUAND: \nDimanche 22 juin 2025 de 8h45 à 18h. \nArrivée avant 8h45. \nLe bâtiment est fermé à clé le week-end. Nous serons dans le hall d’entrée jusqu’à 8h45 pour vous accueillir. \nLe programme de méditation commence à 9h00. \nLes participants à cette journée de cohérence s’engagent à assister à toutes les activités de la journée\, de 8h45 à 18h. \nCOÛT: \n108\,00 $ (plus taxes). Ce prix comprend un repas végétarien dans un restaurant à proximité\, une collation dans l’après-midi et une contribution pour les opérations du centre. \nPOUR S’INSCRIRE: \nL’inscription préalable est requise avant 18h00 le vendredi 20 juin 2025. Veuillez répondre à ce courriel à montreal@tm.org  en indiquant votre numéro de téléphone. Vous serez contacté par un professeur de MT si nécessaire.\n\n\n\n 
URL:https://community.ca.tm.org/fr/event/journee-de-coherence-samedi-24-mai-2025-au-centre-de-mt-de-montreal/
LOCATION:Centre de MT de Montréal\, 8200 boulevard Décarie\, bureau 140\, Montréal\, Québec\, H4P 2P5\, Canada
CATEGORIES:French,Journée de cohérence,Montreal TM Centre - French,Retraites de MT — FR
END:VEVENT
BEGIN:VEVENT
DTSTART;TZID=America/Toronto:20250524T080000
DTEND;TZID=America/Toronto:20250524T180000
DTSTAMP:20260422T210342
CREATED:20250509T013039Z
LAST-MODIFIED:20250509T170807Z
UID:10005072-1748073600-1748109600@community.ca.tm.org
SUMMARY:TM Day Retreat – Montréal TM Centre
DESCRIPTION:When was the last time you dedicated a whole day just to yourself — a day to catch up on rest\, relax\, and focus on your personal growth?If it feels like it’s been too long or you’re simply seeking more from your TM\, join us at our TM Day Retreat on Saturday\, May 24 at the Montréal TM Centre. \nThink of it as the ultimate staycation: an opportunity to get deep rest and amplify the benefits of your daily TM practice. \nTM Day Retreats give you a taste of a Weekend Retreat\, where you’ll get to experience: \n\nAdditional rounds of group TM practice.\nLessons in Maharishi Yoga Asanas and Pranayama breathing exercises\, which are designed to complement your TM practice.\nInsightful knowledge sessions\, workshops\, and discussions\nKnowing the mechanics of the technique — how it works. What happens when you have no mantra and no thoughts-what is transcendence?\nAdvanced stages of development-the transformative and healing effects of regular practice.\nA delicious vegetarian lunch with fellow course participants\n\nWhether you want to establish a better routine\, accelerate your growth\, or fully maximize the benefits of TM in your daily life\, even a single day at a Retreat can lead to remarkable breakthroughs in your TM practice. \nCourse fee: $108 plus tax. This covers the full retreat experience\, including lunch. \nSpace is limited. Please reply to this email to reserve your place. This event will be conducted in both English and French.\n\n\n\n\n\n\n\n\n“During TM Day Retreat my 20 minute meditations passed very quickly\, I had the impression that they lasted only 5 minutes. The retreat gave me feeling of great inner happiness\, a deep and peaceful silence. I felt the benefits long afterwards including during sleep.” – Amrita Chy \n“Participating in TM Day Retreat Day definitely allowed me to progress with my meditation. Meditating more frequently in a group\, and practicing Maharishi Asanas deepened my experience of transcendence and afterwards the effects during activity. It was a great addition to my daily practice of Transcendental Meditation.” – Pierre Thibault \n\n\n\n\n\n\n\n\nWHERE: \nTranscendental Meditation Centre of Montréal \n8200 Décarie Blvd.\, Suite 140 \nMontréal\, QC H4P 2P5 \n438-499-6812 \nCourse Leaders \nJean-Nicolas Brunet-Duclos and Antonin Mireault-Plante \nWHEN: \nSaturday\, May 24\, 2025 from 8:45 a.m. to 6:00 p.m. \nArrival before 8:45 a.m. The building is locked on weekends. We will be in the lobby until 8:45 a.m. to greet you. Group program will start at 9:00 a.m. Participants of this retreat must commit to attend all of the day’s activities from 8:45 a.m. to 6:00 p.m. \nCOST: \n$108.00 (plus taxes). This includes a vegetarian meal at a nearby restaurant\, an afternoon snack and a contribution to the centre’s operations. \nTO APPLY: \nAdvanced registration is required by 6:00 p.m. on Thursday\, May 22\, 2025. Please reply to this e-mail at montreal@tm.org  and include your telephone number. You will be contacted by a TM teacher if necessary.
URL:https://community.ca.tm.org/fr/event/17793/
LOCATION:Montréal TM Centre\, 8200 boulevard Décarie\, suite 140\, Montréal\, QC\, H4P 2P5\, Canada
END:VEVENT
BEGIN:VEVENT
DTSTART;TZID=America/Toronto:20250524T140000
DTEND;TZID=America/Toronto:20250524T143000
DTSTAMP:20260422T210342
CREATED:20250503T183647Z
LAST-MODIFIED:20251029T151503Z
UID:10001279-1748095200-1748097000@community.ca.tm.org
SUMMARY:Creating Coherence Daily Group TM
DESCRIPTION:With a TM Teacher. \nJoin us every day for a powerful online group meditation dedicated to Creating Coherence for Canada — and beyond. \nBy coming together at the same time each day\, we amplify our collective consciousness and radiate peace and harmony into the environment. As Maharishi Mahesh Yogi beautifully put it “There is one unity\, unified wholeness\, total natural law\, in the transcendental unified consciousness.” \nParticipants have expressed their gratitude and sense of connection\, making this a truly unifying experience. Please join us for 20 minutes every day\, your participation contributes to the peaceful evolution of our country and the world. \nThe event takes place everyday at 2:00 PM ET / 11:00 AM PT \nJoin Session \nPassword required to join this session. Access these sessions with the Zoom password provided to you by email from tmevents@tm.org.
URL:https://community.ca.tm.org/fr/event/creating-coherence-daily-group-tm-18/2025-05-24/
LOCATION:Online
END:VEVENT
BEGIN:VEVENT
DTSTART;TZID=America/Toronto:20250524T140000
DTEND;TZID=America/Toronto:20250524T143000
DTSTAMP:20260422T210342
CREATED:20250503T191354Z
LAST-MODIFIED:20250503T192724Z
UID:10003110-1748095200-1748097000@community.ca.tm.org
SUMMARY:Méditation de groupe quotidienne  pour créer de la cohérence
DESCRIPTION:Avec le professeur de MT  \nJoignez-vous à nous chaque jour pour une puissante méditation de groupe en ligne dédiée à la Création de Cohérence pour le Canada — et au-delà. \nEn nous réunissant chaque jour à la même heure\, nous amplifions notre conscience collective et rayonnons la paix et l’harmonie dans l’environnement. Comme l’a magnifiquement dit Maharishi Mahesh Yogi\, « il n’y a qu’une unité\, une totalité unifiée\, une loi naturelle totale\, dans la conscience unifiée transcendantale ». \nLes participants ont exprimé leur gratitude et leur sentiment de solidarité\, ce qui en fait une expérience véritablement unificatrice. Joignez-vous à nous pendant 20 minutes chaque jour\, votre participation contribue à l’évolution pacifique de notre pays et du monde. \nL’événement a lieu tous les jours à 14h00 ET / 11h00 PT. \nJoindre la séance\nMot de passe requis pour participer à cette séance. Accédez à ces séances avec le mot de passe Zoom qui vous a été communiqué par courriel par tmevents@tm.org
URL:https://community.ca.tm.org/fr/event/meditation-de-groupe-quotidienne-pour-creer-de-la-coherence-3-6/2025-05-24/
LOCATION:BC
END:VEVENT
END:VCALENDAR