BEGIN:VCALENDAR
VERSION:2.0
PRODID:-//TM Canada Community Hub - ECPv6.15.11//NONSGML v1.0//EN
CALSCALE:GREGORIAN
METHOD:PUBLISH
X-WR-CALNAME:TM Canada Community Hub
X-ORIGINAL-URL:https://community.ca.tm.org/fr/
X-WR-CALDESC:Évènements pour TM Canada Community Hub
REFRESH-INTERVAL;VALUE=DURATION:PT1H
X-Robots-Tag:noindex
X-PUBLISHED-TTL:PT1H
BEGIN:VTIMEZONE
TZID:America/Toronto
BEGIN:DAYLIGHT
TZOFFSETFROM:-0500
TZOFFSETTO:-0400
TZNAME:EDT
DTSTART:20240310T070000
END:DAYLIGHT
BEGIN:STANDARD
TZOFFSETFROM:-0400
TZOFFSETTO:-0500
TZNAME:EST
DTSTART:20241103T060000
END:STANDARD
BEGIN:DAYLIGHT
TZOFFSETFROM:-0500
TZOFFSETTO:-0400
TZNAME:EDT
DTSTART:20250309T070000
END:DAYLIGHT
BEGIN:STANDARD
TZOFFSETFROM:-0400
TZOFFSETTO:-0500
TZNAME:EST
DTSTART:20251102T060000
END:STANDARD
BEGIN:DAYLIGHT
TZOFFSETFROM:-0500
TZOFFSETTO:-0400
TZNAME:EDT
DTSTART:20260308T070000
END:DAYLIGHT
BEGIN:STANDARD
TZOFFSETFROM:-0400
TZOFFSETTO:-0500
TZNAME:EST
DTSTART:20261101T060000
END:STANDARD
END:VTIMEZONE
BEGIN:VEVENT
DTSTART;TZID=America/Toronto:20250408T140000
DTEND;TZID=America/Toronto:20250408T143000
DTSTAMP:20260419T122132
CREATED:20250314T160610Z
LAST-MODIFIED:20250314T160823Z
UID:10001233-1744120800-1744122600@community.ca.tm.org
SUMMARY:Creating Coherence Daily Group TM
DESCRIPTION:With a TM Teacher. \nStarting March 17\, we’ll be hosting daily 20-minute group meditations at 2 PM ET / 11 AM PT as part of our Canadian Creating Coherence Initiative. Practicing Transcendental Meditation with a group can amplify your experience\, creating a more harmonious environment\, and providing the extra encouragement to develop a regular meditation routine. \nBy syncing up our TM practice\, we can help create a wave of inner and outer calm\, and make a positive contribution to the challenging times we are facing. Together\, we can raise collective consciousness and foster unity\, peace\, and coherence across Canada. \nWe’d love for you to be part of this transformative experience! \nJoin Session
URL:https://community.ca.tm.org/fr/event/creating-coherence-daily-group-tm/2025-04-08/
LOCATION:Online
END:VEVENT
BEGIN:VEVENT
DTSTART;TZID=America/Toronto:20250408T140000
DTEND;TZID=America/Toronto:20250408T143000
DTSTAMP:20260419T122132
CREATED:20250320T175354Z
LAST-MODIFIED:20250320T185722Z
UID:10003064-1744120800-1744122600@community.ca.tm.org
SUMMARY:Méditation de groupe quotidienne  pour créer de la cohérence
DESCRIPTION:Avec le professeur de MT  \nÀ partir du 17 mars\, nous organiserons des méditations de groupe quotidiennes de 20 minutes à 14h00 HE et à 11h00 heures HP dans le cadre de l’initiative canadienne Créons la cohérence. Pratiquer la Méditation Transcendantale en groupe peut amplifier votre expérience\, en créant un environnement plus harmonieux et en vous encourageant à développer une routine de méditation régulière. \nEn synchronisant notre pratique de la MT\, nous pouvons contribuer à créer une vague de calme intérieur et extérieur et apporter une contribution positive à la période difficile que nous traversons. Ensemble\, nous pouvons élever la conscience collective et favoriser l’unité\, la paix et la cohérence à travers le Canada. \nNous serions ravis que vous participiez à cette expérience transformatrice! \nJoindre la séance
URL:https://community.ca.tm.org/fr/event/meditation-de-groupe-quotidienne-pour-creer-de-la-coherence-3/2025-04-08/
LOCATION:En ligne
CATEGORIES:Online Knowledge Session - French
END:VEVENT
BEGIN:VEVENT
DTSTART;TZID=America/Toronto:20250408T160000
DTEND;TZID=America/Toronto:20250408T180000
DTSTAMP:20260419T122132
CREATED:20250322T053808Z
LAST-MODIFIED:20250322T054839Z
UID:10004885-1744128000-1744135200@community.ca.tm.org
SUMMARY:Toronto TM Essentials: TM Is Guided by Nature
DESCRIPTION:This session is an integral part of mastering the technique and practice of TM. \nEvery TM practitioner should attend this session early in their practice to have the critical understanding of how to prevent inserting effort and unnaturalness into the TM technique. \nThis session is only offered in person with a Certified TM Teacher and includes the following: \n\nA detailed discussion of our growing body of experiences in the light of the primary driver of transcending\nA video with Maharishi explaining aspects of forces of nature involved inside our TM practice and outside in our personal growth and evolution\nA full 20 minute group TM\n\nThis session helps shatter any inclination towards individual inception\, interference\, or effort in our TM technique. And helps us spontaneously live a life more in accord with all the laws of nature. \nBe sure to attend this Essentials session.
URL:https://community.ca.tm.org/fr/event/toronto-tm-essentials-tm-is-guided-by-nature-5/
LOCATION:Toronto TM Centre\, 100 Front Street West (Retail floor - below main lobby\, Toronto\, On\, M5J 1E3\, Canada
ORGANIZER;CN="Toronto TM Centre":MAILTO:toronto@tm.org
END:VEVENT
BEGIN:VEVENT
DTSTART;TZID=America/Toronto:20250408T173000
DTEND;TZID=America/Toronto:20250408T180000
DTSTAMP:20260419T122132
CREATED:20250322T053103Z
LAST-MODIFIED:20250322T053103Z
UID:10004878-1744133400-1744135200@community.ca.tm.org
SUMMARY:Dive & Dash: Weekly 20-Minute Group TM
DESCRIPTION:Join us each week for a 20-minute Group TM at the Toronto TM Centre. \nThe group is growing every week\, so please be sure to register so that we know there’s room for everyone. \nThe group meditation begins promptly at 5:30 pm\, so please arrive and be seated at least a few minutes ahead of time.
URL:https://community.ca.tm.org/fr/event/dive-dash-weekly-20-minute-group-tm-92/
LOCATION:Toronto TM Centre\, 100 Front Street West (Retail floor - below main lobby\, Toronto\, On\, M5J 1E3\, Canada
ORGANIZER;CN="Toronto TM Centre":MAILTO:toronto@tm.org
END:VEVENT
END:VCALENDAR