BEGIN:VCALENDAR
VERSION:2.0
PRODID:-//TM Canada Community Hub - ECPv6.15.11//NONSGML v1.0//EN
CALSCALE:GREGORIAN
METHOD:PUBLISH
X-WR-CALNAME:TM Canada Community Hub
X-ORIGINAL-URL:https://community.ca.tm.org
X-WR-CALDESC:Events for TM Canada Community Hub
REFRESH-INTERVAL;VALUE=DURATION:PT1H
X-Robots-Tag:noindex
X-PUBLISHED-TTL:PT1H
BEGIN:VTIMEZONE
TZID:America/Vancouver
BEGIN:DAYLIGHT
TZOFFSETFROM:-0800
TZOFFSETTO:-0700
TZNAME:PDT
DTSTART:20230312T100000
END:DAYLIGHT
BEGIN:STANDARD
TZOFFSETFROM:-0700
TZOFFSETTO:-0800
TZNAME:PST
DTSTART:20231105T090000
END:STANDARD
BEGIN:DAYLIGHT
TZOFFSETFROM:-0800
TZOFFSETTO:-0700
TZNAME:PDT
DTSTART:20240310T100000
END:DAYLIGHT
BEGIN:STANDARD
TZOFFSETFROM:-0700
TZOFFSETTO:-0800
TZNAME:PST
DTSTART:20241103T090000
END:STANDARD
BEGIN:DAYLIGHT
TZOFFSETFROM:-0800
TZOFFSETTO:-0700
TZNAME:PDT
DTSTART:20250309T100000
END:DAYLIGHT
BEGIN:STANDARD
TZOFFSETFROM:-0700
TZOFFSETTO:-0800
TZNAME:PST
DTSTART:20251102T090000
END:STANDARD
END:VTIMEZONE
BEGIN:VTIMEZONE
TZID:America/Toronto
BEGIN:DAYLIGHT
TZOFFSETFROM:-0500
TZOFFSETTO:-0400
TZNAME:EDT
DTSTART:20230312T070000
END:DAYLIGHT
BEGIN:STANDARD
TZOFFSETFROM:-0400
TZOFFSETTO:-0500
TZNAME:EST
DTSTART:20231105T060000
END:STANDARD
BEGIN:DAYLIGHT
TZOFFSETFROM:-0500
TZOFFSETTO:-0400
TZNAME:EDT
DTSTART:20240310T070000
END:DAYLIGHT
BEGIN:STANDARD
TZOFFSETFROM:-0400
TZOFFSETTO:-0500
TZNAME:EST
DTSTART:20241103T060000
END:STANDARD
BEGIN:DAYLIGHT
TZOFFSETFROM:-0500
TZOFFSETTO:-0400
TZNAME:EDT
DTSTART:20250309T070000
END:DAYLIGHT
BEGIN:STANDARD
TZOFFSETFROM:-0400
TZOFFSETTO:-0500
TZNAME:EST
DTSTART:20251102T060000
END:STANDARD
END:VTIMEZONE
BEGIN:VEVENT
DTSTART;VALUE=DATE:20241116
DTEND;VALUE=DATE:20241118
DTSTAMP:20260422T214011
CREATED:20241107T044001Z
LAST-MODIFIED:20241108T162814Z
UID:10000986-1731715200-1731887999@community.ca.tm.org
SUMMARY:Advanced Techniques Course in Victoria
DESCRIPTION:The TM Advanced Techniques Program offers four techniques to enrich your experience and accelerate your personal progress. \nThrough the regular practice of the Transcendental Meditation technique\, you become familiar with the experience of pure consciousness. With the Advanced Techniques\, you can go even further\, experiencing finer levels of thought and perception. As a result\, your perception becomes more enriched\, and your thoughts and actions become more powerful\, leading to greater fulfillment of your desires in daily life. \nFour Advanced Techniques are offered in a sequence developed by Maharishi. The first Advanced Technique is specifically designed to accelerate growth to higher states of consciousness\, utilizing the time of sleep to support the development of enlightenment. The following three Advanced Techniques are incorporated into your TM practice. \nIf you are beginning the Advanced Techniques program\, you will receive the Night Technique instruction on Saturday evening with a checking session on Sunday morning. \nThose continuing their course will receive instruction on Saturday afternoon\, with a checking session on Sunday afternoon. \nChelsea Cox will be leading the Advanced Techniques course at the Montréal TM Centre this November. \nIf you’re interested in learning Advanced Techniques in Victoria this fall\, please contact Andy Guest aguest@tm.org or 250-896-3670 for more information or to reserve a spot.
URL:https://community.ca.tm.org/event/advanced-techniques-course-4/
LOCATION:Victoria TM Centre\, 1842 Oak Bay Ave #202\, Victoria\, BC\, V8R 1C2\, Canada
CATEGORIES:Advanced Techniques Intro,Victoria TM Centre
ORGANIZER;CN="Victoria TM Centre":MAILTO:victoria@tm.org
END:VEVENT
BEGIN:VEVENT
DTSTART;TZID=America/Toronto:20241117T110000
DTEND;TZID=America/Toronto:20241117T123000
DTSTAMP:20260422T214011
CREATED:20240823T193800Z
LAST-MODIFIED:20240823T193800Z
UID:10000913-1731841200-1731846600@community.ca.tm.org
SUMMARY:Maharishi Yoga Asanas Instruction
DESCRIPTION:Led by Maharishi International University faculty. \nLearn Maharishi Yoga Asanas and Pranayama to promote the integration of mind\, body\, and spirit. \nDesigned to be practiced before your Transcendental Meditation\, Yoga Asanas are a gentle series of postures to complement your meditation. They help to remove stress\, strengthen flexibility\, improve health\, and prepare your body for TM. \nPranayama\, a breathing exercise\, helps to settle the body and mind for an even deeper TM experience. \nIn this class you will learn: \n\nMaharishi Yoga Asana postures\nPranayama\, deep breathing exercises\nHow to integrate Asanas and Pranayama into your daily routine\n\nWhether you’re completely new to yoga or an advanced practitioner\, this class will give you the instruction you need to add the Maharishi Yoga Asanas to your TM routine.  \nRequirements: \n\nInstruction in Transcendental Meditation\nComfortable sports or yoga clothes\nA yoga mat or thick blanket\nA settled environment\n\nThis 1-hour class will be followed by a 20-minute online group TM \nAt this time\, this class is being offered as a free service. \n► Register here \nWatch a recording here.
URL:https://community.ca.tm.org/event/maharishi-yoga-asanas-instruction-56/
LOCATION:Online
CATEGORIES:Yoga Asana Demo
END:VEVENT
BEGIN:VEVENT
DTSTART;TZID=America/Toronto:20241117T130000
DTEND;TZID=America/Toronto:20241117T143000
DTSTAMP:20260422T214011
CREATED:20241001T204540Z
LAST-MODIFIED:20241106T202239Z
UID:10000941-1731848400-1731853800@community.ca.tm.org
SUMMARY:Elevate Your Experience — Advanced Techniques Orientation
DESCRIPTION:With TM Teacher Dianne Field. \nElevate your TM practice to new heights with the TM Advanced Techniques. \nAs you practice TM regularly\, you become more familiar with the experience of pure consciousness. The Advanced Techniques take you even further\, allowing you to explore finer levels of thought and perception. This enhanced perception enriches your life\, leading to more powerful thoughts and actions and greater fulfillment of your desires in daily life. \nJoin Dianne as she explores the profound impact of the TM Advanced Techniques Program on unlocking your full potential. Plus\, gain valuable insights from a recorded video presentation by Dr. Tony Nader. Don’t miss this opportunity to take your meditation practice to the next level. \nBegins with a 20-minute group TM. \nJoin Session \nPassword required to join this session. Access these sessions with the Zoom password provided to you by email from tmevents@tm.org.
URL:https://community.ca.tm.org/event/elevate-your-experience-advanced-techniques-orientation-3/
LOCATION:Online
CATEGORIES:Advanced Techniques Intro,Online Knowledge Session
END:VEVENT
BEGIN:VEVENT
DTSTART;TZID=America/Toronto:20241117T160000
DTEND;TZID=America/Toronto:20241117T180000
DTSTAMP:20260422T214011
CREATED:20240814T213445Z
LAST-MODIFIED:20240814T213644Z
UID:10000812-1731859200-1731866400@community.ca.tm.org
SUMMARY:TM Essentials: Accelerate Your Personal Growth
DESCRIPTION:Learn how you can accelerate your personal growth by deepening and refining your TM practice. This presentation will include an introduction to: \n\nTM Retreats (yoga\, breathing exercises\, and extended TM practice)\nAdvanced Techniques and TM-Sidhis\nTM communities to connect with other TM practitioners\n\nWe’ll also discuss the value of group TM for the individual and society – and why it’s worth taking the time to join group TM sessions. \nThis talk includes video presentations by Maharishi on Advanced Techniques and TM Retreats.
URL:https://community.ca.tm.org/event/tm-essentials-accelerate-your-personal-growth-19/
LOCATION:Toronto TM Centre\, 100 Front Street West (Retail floor - below main lobby\, Toronto\, On\, M5J 1E3\, Canada
CATEGORIES:Toronto TM Centre
ORGANIZER;CN="Toronto TM Centre":MAILTO:toronto@tm.org
END:VEVENT
BEGIN:VEVENT
DTSTART;TZID=America/Toronto:20241117T173000
DTEND;TZID=America/Toronto:20241117T190000
DTSTAMP:20260422T214011
CREATED:20240814T232555Z
LAST-MODIFIED:20241008T191252Z
UID:10000853-1731864600-1731870000@community.ca.tm.org
SUMMARY:Deep Dives: Group TM & Knowledge Session
DESCRIPTION:Join us each week for a Group TM & Knowledge session at the Toronto TM Centre. \nThe group meditation begins promptly at 5:30 pm\, with participants from our preceding TM Essentials class. \nTopic: Kama\, Karma and Dharma \nAfter the knowledge session\, stay to enjoy some tea and refreshments. It’s a great opportunity to connect with our community of meditators.
URL:https://community.ca.tm.org/event/deep-dives-group-tm-knowledge-session-32/
LOCATION:Toronto TM Centre\, 100 Front Street West (Retail floor - below main lobby\, Toronto\, On\, M5J 1E3\, Canada
CATEGORIES:Toronto TM Centre
ORGANIZER;CN="Toronto TM Centre":MAILTO:toronto@tm.org
END:VEVENT
BEGIN:VEVENT
DTSTART;TZID=America/Toronto:20241119T160000
DTEND;TZID=America/Toronto:20241119T180000
DTSTAMP:20260422T214011
CREATED:20240814T213813Z
LAST-MODIFIED:20240814T213813Z
UID:10000813-1732032000-1732039200@community.ca.tm.org
SUMMARY:TM Essentials: Accelerate Your Personal Growth
DESCRIPTION:Learn how you can accelerate your personal growth by deepening and refining your TM practice. This presentation will include an introduction to: \n\nTM Retreats (yoga\, breathing exercises\, and extended TM practice)\nAdvanced Techniques and TM-Sidhis\nTM communities to connect with other TM practitioners\n\nWe’ll also discuss the value of group TM for the individual and society – and why it’s worth taking the time to join group TM sessions. \nThis talk includes video presentations by Maharishi on Advanced Techniques and TM Retreats.
URL:https://community.ca.tm.org/event/tm-essentials-accelerate-your-personal-growth-20/
LOCATION:Toronto TM Centre\, 100 Front Street West (Retail floor - below main lobby\, Toronto\, On\, M5J 1E3\, Canada
CATEGORIES:Toronto TM Centre
ORGANIZER;CN="Toronto TM Centre":MAILTO:toronto@tm.org
END:VEVENT
BEGIN:VEVENT
DTSTART;TZID=America/Toronto:20241119T173000
DTEND;TZID=America/Toronto:20241119T180000
DTSTAMP:20260422T214011
CREATED:20240814T225930Z
LAST-MODIFIED:20240814T225930Z
UID:10000836-1732037400-1732039200@community.ca.tm.org
SUMMARY:Dive & Dash: Weekly 20-Minute Group TM
DESCRIPTION:Join us each week for a 20-minute Group TM at the Toronto TM Centre. \nThe group is growing every week\, so please be sure to register so that we know there’s room for everyone. \nThe group meditation begins promptly at 5:30 pm\, so please arrive and be seated at least a few minutes ahead of time.
URL:https://community.ca.tm.org/event/dive-dash-weekly-20-minute-group-tm-46/
LOCATION:Toronto TM Centre\, 100 Front Street West (Retail floor - below main lobby\, Toronto\, On\, M5J 1E3\, Canada
CATEGORIES:Toronto TM Centre
ORGANIZER;CN="Toronto TM Centre":MAILTO:toronto@tm.org
END:VEVENT
BEGIN:VEVENT
DTSTART;TZID=America/Vancouver:20241120T184500
DTEND;TZID=America/Vancouver:20241120T193000
DTSTAMP:20260422T214011
CREATED:20241016T193040Z
LAST-MODIFIED:20241016T193040Z
UID:10000962-1732128300-1732131000@community.ca.tm.org
SUMMARY:Dive & Dash: Weekly 20-Minute Group TM
DESCRIPTION:Join us each week for a 20-minute Group TM at the Vancouver TM Centre. \nRefresh\, recharge and relax with a group TM. \nGroup meditation starts promptly at 6:45 pm. \n 
URL:https://community.ca.tm.org/event/dive-dash-weekly-20-minute-group-tm-63/
LOCATION:Vancouver TM Centre\, 328 West 8th Avenue\, Vancouver\, BC\, V5Y 3X2\, Canada
CATEGORIES:Vancouver TM Centre
ORGANIZER;CN="Vancouver TM Centre":MAILTO:vancouver@tm.org
END:VEVENT
BEGIN:VEVENT
DTSTART;TZID=America/Vancouver:20241120T184500
DTEND;TZID=America/Vancouver:20241120T203000
DTSTAMP:20260422T214011
CREATED:20241016T193248Z
LAST-MODIFIED:20241016T193248Z
UID:10000964-1732128300-1732134600@community.ca.tm.org
SUMMARY:TM Essentials: Accelerate Your Personal Growth
DESCRIPTION:Learn how you can accelerate your personal growth by deepening and refining your TM practice. This presentation will include an introduction to: \n\nTM Retreats (yoga\, breathing exercises\, and extended TM practice)\nAdvanced Techniques and TM-Sidhis\nTM communities to connect with other TM practitioners\n\nWe’ll also discuss the value of group TM for the individual and society – and why it’s worth taking the time to join group TM sessions. \nThis talk includes video presentations by Maharishi on Advanced Techniques and TM Retreats.
URL:https://community.ca.tm.org/event/tm-essentials-accelerate-your-personal-growth-25/
LOCATION:Vancouver TM Centre\, 328 West 8th Avenue\, Vancouver\, BC\, V5Y 3X2\, Canada
CATEGORIES:TM Essentials,Vancouver TM Centre
ORGANIZER;CN="Vancouver TM Centre":MAILTO:vancouver@tm.org
END:VEVENT
BEGIN:VEVENT
DTSTART;TZID=America/Vancouver:20241121T183000
DTEND;TZID=America/Vancouver:20241121T203000
DTSTAMP:20260422T214011
CREATED:20241107T014210Z
LAST-MODIFIED:20241107T043042Z
UID:10000983-1732213800-1732221000@community.ca.tm.org
SUMMARY:In-Person Group Meditation & Knowledge Meeting
DESCRIPTION:Led by Joe Truscott\, Certified TM Teacher\n\nTopic: What is the nature of experiences of Cosmic Consciousness?\n\nPlease join us for an in-person group meditation & knowledge meeting on Thursday\, November 21 at 6:30 pm at the Victoria TM Centre. Each session will feature a group meditation\, an opportunity to ask questions about your practice\, and an inspiring video followed by discussion.\nWe look forward to seeing you there! \nNo registration required\, just drop in!
URL:https://community.ca.tm.org/event/in-person-group-meditation-knowledge-meeting-12/
LOCATION:Victoria TM Centre\, 1842 Oak Bay Ave #202\, Victoria\, BC\, V8R 1C2\, Canada
CATEGORIES:Victoria TM Centre
ORGANIZER;CN="Victoria TM Centre":MAILTO:victoria@tm.org
END:VEVENT
BEGIN:VEVENT
DTSTART;TZID=America/Vancouver:20241121T190000
DTEND;TZID=America/Vancouver:20241121T203000
DTSTAMP:20260422T214011
CREATED:20241108T164713Z
LAST-MODIFIED:20241108T164713Z
UID:10000992-1732215600-1732221000@community.ca.tm.org
SUMMARY:In-Person Group Meditation & Knowledge and Experience Meeting
DESCRIPTION:With Deboragh Varnel\, Certified TM Teacher \nPlease join us for an in-person group meditation & knowledge and experience meeting  on Thursday\, November 21 at 7:00 pm in Port Coquitlam. Each session begins with a full  20-minute group meditation. \nTopic: Personal Relationships \nIn a lecture from 3 July\, 1971 in Amherst\, Massachusetts\, Maharishi offers deep insights into creating fulfilling friendships\, marriages and all personal relationships. \nDuring the group meditation you’ll experience deeper\, more settled meditations than meditating on your own. \nMeet new friends and enjoy inspiring knowledge sessions featuring talks from Maharishi\, Dr. Tony Nader and other leaders in the worldwide TM organization. \nSeating is limited and a reservation is required. Please reserve your spot below. \nYou’ll receive a confirmation email with further instructions to enter the building. \nEnjoy this opportunity to meet other meditators and deepen your understanding  of your TM practice. You’ll leave feeling connected\, inspired\, and informed! \nWe look forward to seeing you there!
URL:https://community.ca.tm.org/event/in-person-group-meditation-knowledge-and-experience-meeting-5/
LOCATION:Tri-City Business Centre\, 2850 Shaughnessy St\, Port Coquitlam\, BC\, V3C 6K5\, Canada
CATEGORIES:Coquitlam TM Centre
ORGANIZER;CN="Coquitlam TM Centre":MAILTO:coquitlam@tm.org
END:VEVENT
BEGIN:VEVENT
DTSTART;TZID=America/Toronto:20241122T160000
DTEND;TZID=America/Toronto:20241124T160000
DTSTAMP:20260422T214011
CREATED:20240909T150800Z
LAST-MODIFIED:20240909T211143Z
UID:10000925-1732291200-1732464000@community.ca.tm.org
SUMMARY:TM Retreat - Niagara Falls\, Ontario
DESCRIPTION:Experience deep rest and rejuvenation over a Weekend TM Retreat. \nThis weekend course is designed to give you additional TM practice and insightful knowledge about the evolution of higher states of consciousness. \nDuring the TM Retreat\, you can experience a level of rest and rejuvenation that goes beyond what daily life typically allows. \nIt’s an excellent opportunity to deepen your meditation practice and dedicate yourself to getting maximum rest. \nCourse Overview \n\nDeep rest and profound experiences through an extended TM program.\nEngaging and inspiring knowledge sessions on the development of higher states of consciousness and the growth of the heart\nInstruction in Yoga Asana (yoga postures) and Pranayama (breathing exercises).\nAn introduction to Vedic concepts\, including the rhythms for our individual body types (doshas) and biological clocks.\nDelicious home-style meals from Friday evening to Sunday lunch.\n\nLOGISTICS: \nMount Carmel Spiritual Centre is located directly across from Niagara Falls itself\, and although sometimes the trees camouflage the falls\, we can hear the falls and feel the refreshing air that it generates. \nEach person will have their own private room with a full bathroom. Most beds are twin size. There are a few rooms with full size beds. Early registrants get first choice\, by request\, as available. \nNote: Mount Carmel’s policy: rates are per person\, not per room. i.e. there is no discount for doubling up. As a TM Retreat is structured for deepest possible rest\, it is recommended that couples take advantage of this situation and occupy two rooms. \nHome-made vegetarian meals made by experienced kitchen staff famous for their good food. Special dietary requirements are available by advance request. \nCourse leaders \nThe retreat will be led by experienced TM Teachers Wanda Gladun-Beaver and Helen Engelson-Law\, who have led numerous TM retreats together and bring decades of experience and a deep understanding of Maharishi Ayurveda. \nCOURSE FEE: $495 +HST per person \nYour course fee includes six meals\, two night stays (private room with bath)\, tuition\, and parking. \nRegister and Pay
URL:https://community.ca.tm.org/event/tm-retreat-niagara-falls-ontario/
LOCATION:Mount Carmel Spiritual Centre
CATEGORIES:Mississauga TM Centre,TM Retreat,Toronto TM Centre
END:VEVENT
BEGIN:VEVENT
DTSTART;TZID=America/Toronto:20241122T170000
DTEND;TZID=America/Toronto:20241122T183000
DTSTAMP:20260422T214011
CREATED:20240823T192857Z
LAST-MODIFIED:20240823T192857Z
UID:10000901-1732294800-1732300200@community.ca.tm.org
SUMMARY:Maharishi Yoga Asanas Instruction
DESCRIPTION:Led by Maharishi International University faculty. \nLearn Maharishi Yoga Asanas and Pranayama to promote the integration of mind\, body\, and spirit. \nDesigned to be practiced before your Transcendental Meditation\, Yoga Asanas are a gentle series of postures to complement your meditation. They help to remove stress\, strengthen flexibility\, improve health\, and prepare your body for TM. \nPranayama\, a breathing exercise\, helps to settle the body and mind for an even deeper TM experience. \nIn this class you will learn: \n\nMaharishi Yoga Asana postures\nPranayama\, deep breathing exercises\nHow to integrate Asanas and Pranayama into your daily routine\n\nWhether you’re completely new to yoga or an advanced practitioner\, this class will give you the instruction you need to add the Maharishi Yoga Asanas to your TM routine.  \nRequirements: \n\nInstruction in Transcendental Meditation\nComfortable sports or yoga clothes\nA yoga mat or thick blanket\nA settled environment\n\nThis 1-hour class will be followed by a 20-minute online group TM \nAt this time\, this class is being offered as a free service. \n► Register here \nWatch a recording here.
URL:https://community.ca.tm.org/event/maharishi-yoga-asanas-instruction-44/
LOCATION:Online
CATEGORIES:Yoga Asana Demo
END:VEVENT
BEGIN:VEVENT
DTSTART;VALUE=DATE:20241123
DTEND;VALUE=DATE:20241125
DTSTAMP:20260422T214011
CREATED:20241108T163328Z
LAST-MODIFIED:20241108T164311Z
UID:10000989-1732320000-1732492799@community.ca.tm.org
SUMMARY:Advanced Techniques Course in Vancouver
DESCRIPTION:The TM Advanced Techniques Program offers four techniques to enrich your experience and accelerate your personal progress. \nThrough the regular practice of the Transcendental Meditation technique\, you become familiar with the experience of pure consciousness. With the Advanced Techniques\, you can go even further\, experiencing finer levels of thought and perception. As a result\, your perception becomes more enriched\, and your thoughts and actions become more powerful\, leading to greater fulfillment of your desires in daily life. \nFour Advanced Techniques are offered in a sequence developed by Maharishi. The first Advanced Technique is specifically designed to accelerate growth to higher states of consciousness\, utilizing the time of sleep to support the development of enlightenment. The following three Advanced Techniques are incorporated into your TM practice. \nThe first Advanced Technique is specifically designed to accelerate growth to higher states of consciousness\, utilizing the time of sleep to support the development of enlightenment. The following three Advanced Techniques are incorporated into your TM practice. \nChelsea Cox will be leading the Advanced Techniques course at the Vancouver TM Centre this November. \nRegister Here
URL:https://community.ca.tm.org/event/advanced-techniques-course-in-vancouver/
LOCATION:Vancouver TM Centre\, 328 West 8th Avenue\, Vancouver\, BC\, V5Y 3X2\, Canada
CATEGORIES:Advanced Techniques Intro,Vancouver TM Centre
ORGANIZER;CN="Vancouver TM Centre":MAILTO:vancouver@tm.org
END:VEVENT
END:VCALENDAR