BEGIN:VCALENDAR
VERSION:2.0
PRODID:-//TM Canada Community Hub - ECPv6.15.11//NONSGML v1.0//EN
CALSCALE:GREGORIAN
METHOD:PUBLISH
X-WR-CALNAME:TM Canada Community Hub
X-ORIGINAL-URL:https://community.ca.tm.org
X-WR-CALDESC:Events for TM Canada Community Hub
REFRESH-INTERVAL;VALUE=DURATION:PT1H
X-Robots-Tag:noindex
X-PUBLISHED-TTL:PT1H
BEGIN:VTIMEZONE
TZID:America/Toronto
BEGIN:DAYLIGHT
TZOFFSETFROM:-0500
TZOFFSETTO:-0400
TZNAME:EDT
DTSTART:20230312T070000
END:DAYLIGHT
BEGIN:STANDARD
TZOFFSETFROM:-0400
TZOFFSETTO:-0500
TZNAME:EST
DTSTART:20231105T060000
END:STANDARD
BEGIN:DAYLIGHT
TZOFFSETFROM:-0500
TZOFFSETTO:-0400
TZNAME:EDT
DTSTART:20240310T070000
END:DAYLIGHT
BEGIN:STANDARD
TZOFFSETFROM:-0400
TZOFFSETTO:-0500
TZNAME:EST
DTSTART:20241103T060000
END:STANDARD
BEGIN:DAYLIGHT
TZOFFSETFROM:-0500
TZOFFSETTO:-0400
TZNAME:EDT
DTSTART:20250309T070000
END:DAYLIGHT
BEGIN:STANDARD
TZOFFSETFROM:-0400
TZOFFSETTO:-0500
TZNAME:EST
DTSTART:20251102T060000
END:STANDARD
END:VTIMEZONE
BEGIN:VTIMEZONE
TZID:America/Vancouver
BEGIN:DAYLIGHT
TZOFFSETFROM:-0800
TZOFFSETTO:-0700
TZNAME:PDT
DTSTART:20230312T100000
END:DAYLIGHT
BEGIN:STANDARD
TZOFFSETFROM:-0700
TZOFFSETTO:-0800
TZNAME:PST
DTSTART:20231105T090000
END:STANDARD
BEGIN:DAYLIGHT
TZOFFSETFROM:-0800
TZOFFSETTO:-0700
TZNAME:PDT
DTSTART:20240310T100000
END:DAYLIGHT
BEGIN:STANDARD
TZOFFSETFROM:-0700
TZOFFSETTO:-0800
TZNAME:PST
DTSTART:20241103T090000
END:STANDARD
BEGIN:DAYLIGHT
TZOFFSETFROM:-0800
TZOFFSETTO:-0700
TZNAME:PDT
DTSTART:20250309T100000
END:DAYLIGHT
BEGIN:STANDARD
TZOFFSETFROM:-0700
TZOFFSETTO:-0800
TZNAME:PST
DTSTART:20251102T090000
END:STANDARD
END:VTIMEZONE
BEGIN:VEVENT
DTSTART;TZID=America/Toronto:20240804T110000
DTEND;TZID=America/Toronto:20240804T123000
DTSTAMP:20260421T011130
CREATED:20240620T193501Z
LAST-MODIFIED:20240620T193501Z
UID:10000734-1722769200-1722774600@community.ca.tm.org
SUMMARY:Maharishi Yoga Asanas Instruction
DESCRIPTION:Led by Maharishi International University faculty. \nLearn Maharishi Yoga Asanas and Pranayama to promote the integration of mind\, body\, and spirit. \nDesigned to be practiced before your Transcendental Meditation\, Yoga Asanas are a gentle series of postures to complement your meditation. They help to remove stress\, strengthen flexibility\, improve health\, and prepare your body for TM. \nPranayama\, a breathing exercise\, helps to settle the body and mind for an even deeper TM experience. \nIn this class you will learn: \n\nMaharishi Yoga Asana postures\nPranayama\, deep breathing exercises\nHow to integrate Asanas and Pranayama into your daily routine\n\nWhether you’re completely new to yoga or an advanced practitioner\, this class will give you the instruction you need to add the Maharishi Yoga Asanas to your TM routine.  \nRequirements: \n\nInstruction in Transcendental Meditation\nComfortable sports or yoga clothes\nA yoga mat or thick blanket\nA settled environment\n\nThis 1-hour class will be followed by a 20-minute online group TM \nAt this time\, this class is being offered as a free service. \n► Register here \nWatch a recording here.
URL:https://community.ca.tm.org/event/maharishi-yoga-asanas-instruction-24/
LOCATION:Online
CATEGORIES:Yoga Asana Demo
END:VEVENT
BEGIN:VEVENT
DTSTART;TZID=America/Toronto:20240804T130000
DTEND;TZID=America/Toronto:20240804T143000
DTSTAMP:20260421T011130
CREATED:20240612T150748Z
LAST-MODIFIED:20240612T151152Z
UID:10000729-1722776400-1722781800@community.ca.tm.org
SUMMARY:Elevate Your Experience — Advanced Techniques Orientation
DESCRIPTION:Learn about the transformative potential of the TM Advanced Techniques Program. \nDiscover how these four special techniques can elevate your TM practice and reveal finer levels of thought and perception. As you practice TM regularly\, you become more familiar with the experience of pure consciousness. The Advanced Techniques take you even further\, allowing you to explore finer levels of thought and perception. This enhanced perception enriches your life\, leading to more powerful thoughts\, actions\, and greater fulfillment of your desires in daily life. \nJoin Advanced Techniques Teacher David Shaw for an engaging introduction to the Advanced Techniques Program. \nBegins with a 20-minute group TM. \nJoin Session \nPassword required to join this session. Access these sessions with the Zoom password provided to you by email from tmevents@tm.org.
URL:https://community.ca.tm.org/event/elevate-your-experience-advanced-techniques-orientation/
LOCATION:Online
CATEGORIES:Advanced Techniques Intro,Online Knowledge Session
END:VEVENT
BEGIN:VEVENT
DTSTART;TZID=America/Toronto:20240804T160000
DTEND;TZID=America/Toronto:20240804T180000
DTSTAMP:20260421T011130
CREATED:20240719T191507Z
LAST-MODIFIED:20240803T201044Z
UID:10000770-1722787200-1722794400@community.ca.tm.org
SUMMARY:TM Essentials: TM Is Guided by Nature - CANCELLED
DESCRIPTION:This session is an integral part of mastering the technique and practice of TM. \nEvery TM practitioner should attend this session early in their practice to have the critical understanding of how to prevent inserting effort and unnaturalness into the TM technique. \nThis session is only offered in person with a Certified TM Teacher and includes the following: \n\nA detailed discussion of our growing body of experiences in the light of the primary driver of transcending\nA video with Maharishi explaining aspects of forces of nature involved inside our TM practice and outside in our personal growth and evolution\nA full 20 minute group TM\nThis session helps shatter any inclination towards individual inception\, interference\, or effort in our TM technique. And helps us spontaneously live a life more in accord with all the laws of nature.\n\nBe sure to attend this Essentials session.
URL:https://community.ca.tm.org/event/tm-essentials-tm-is-guided-by-nature-15/
LOCATION:Toronto TM Centre\, 100 Front Street West (Retail floor - below main lobby\, Toronto\, On\, M5J 1E3\, Canada
CATEGORIES:TM Essentials,Toronto TM Centre
ORGANIZER;CN="Toronto TM Centre":MAILTO:toronto@tm.org
END:VEVENT
BEGIN:VEVENT
DTSTART;TZID=America/Toronto:20240804T173000
DTEND;TZID=America/Toronto:20240804T190000
DTSTAMP:20260421T011130
CREATED:20240719T195959Z
LAST-MODIFIED:20240719T195959Z
UID:10000781-1722792600-1722798000@community.ca.tm.org
SUMMARY:Deep Dives: Group TM & Knowledge Session
DESCRIPTION:Join us each week for a Group TM & Knowledge session at the Toronto TM Centre. \nThe group meditation begins promptly at 5:30 pm\, with participants from our preceding TM Essentials class. \nAfter the knowledge session\, stay to enjoy some tea and refreshments. It’s a great opportunity to connect with our community of meditators.
URL:https://community.ca.tm.org/event/deep-dives-group-tm-knowledge-session-10/
LOCATION:Toronto TM Centre\, 100 Front Street West (Retail floor - below main lobby\, Toronto\, On\, M5J 1E3\, Canada
CATEGORIES:Toronto TM Centre
ORGANIZER;CN="Toronto TM Centre":MAILTO:toronto@tm.org
END:VEVENT
BEGIN:VEVENT
DTSTART;TZID=America/Toronto:20240806T160000
DTEND;TZID=America/Toronto:20240806T180000
DTSTAMP:20260421T011130
CREATED:20240719T191407Z
LAST-MODIFIED:20240719T191525Z
UID:10000769-1722960000-1722967200@community.ca.tm.org
SUMMARY:TM Essentials: TM Is Guided by Nature
DESCRIPTION:This session is an integral part of mastering the technique and practice of TM. \nEvery TM practitioner should attend this session early in their practice to have the critical understanding of how to prevent inserting effort and unnaturalness into the TM technique. \nThis session is only offered in person with a Certified TM Teacher and includes the following: \n\nA detailed discussion of our growing body of experiences in the light of the primary driver of transcending\nA video with Maharishi explaining aspects of forces of nature involved inside our TM practice and outside in our personal growth and evolution\nA full 20 minute group TM\nThis session helps shatter any inclination towards individual inception\, interference\, or effort in our TM technique. And helps us spontaneously live a life more in accord with all the laws of nature.\n\nBe sure to attend this Essentials session.
URL:https://community.ca.tm.org/event/tm-essentials-tm-is-guided-by-nature-14/
LOCATION:Toronto TM Centre\, 100 Front Street West (Retail floor - below main lobby\, Toronto\, On\, M5J 1E3\, Canada
CATEGORIES:TM Essentials,Toronto TM Centre
ORGANIZER;CN="Toronto TM Centre":MAILTO:toronto@tm.org
END:VEVENT
BEGIN:VEVENT
DTSTART;TZID=America/Toronto:20240806T173000
DTEND;TZID=America/Toronto:20240806T180000
DTSTAMP:20260421T011130
CREATED:20240719T195614Z
LAST-MODIFIED:20240719T195614Z
UID:10000777-1722965400-1722967200@community.ca.tm.org
SUMMARY:Dive & Dash: Weekly 20-Minute Group TM
DESCRIPTION:Join us each week for a 20-minute Group TM at the Toronto TM Centre. \nThe group is growing every week\, so please be sure to register so that we know there’s room for everyone. \nThe group meditation begins promptly at 5:30 pm\, so please arrive and be seated at least a few minutes ahead of time.
URL:https://community.ca.tm.org/event/dive-dash-weekly-20-minute-group-tm-31/
LOCATION:Toronto TM Centre\, 100 Front Street West (Retail floor - below main lobby\, Toronto\, On\, M5J 1E3\, Canada
CATEGORIES:Toronto TM Centre
ORGANIZER;CN="Toronto TM Centre":MAILTO:toronto@tm.org
END:VEVENT
BEGIN:VEVENT
DTSTART;TZID=America/Vancouver:20240807T184500
DTEND;TZID=America/Vancouver:20240807T193000
DTSTAMP:20260421T011130
CREATED:20240626T134614Z
LAST-MODIFIED:20240626T134614Z
UID:10000745-1723056300-1723059000@community.ca.tm.org
SUMMARY:Dive & Dash: Weekly 20-Minute Group TM
DESCRIPTION:Join us each week for a 20-minute Group TM at the Vancouver TM Centre. \nRefresh\, recharge and relax with a group TM. \nGroup meditation starts promptly at 6:45 pm. \n 
URL:https://community.ca.tm.org/event/dive-dash-weekly-20-minute-group-tm-27/
LOCATION:Vancouver TM Centre\, 328 West 8th Avenue\, Vancouver\, BC\, V5Y 3X2\, Canada
CATEGORIES:Vancouver TM Centre
ORGANIZER;CN="Vancouver TM Centre":MAILTO:vancouver@tm.org
END:VEVENT
BEGIN:VEVENT
DTSTART;TZID=America/Vancouver:20240807T184500
DTEND;TZID=America/Vancouver:20240807T203000
DTSTAMP:20260421T011130
CREATED:20240626T133750Z
LAST-MODIFIED:20240626T134027Z
UID:10000741-1723056300-1723062600@community.ca.tm.org
SUMMARY:TM Essentials: TM Is Guided by Nature
DESCRIPTION:This session is an integral part of mastering the technique and practice of TM. \nEvery TM practitioner should attend this session early in their practice to have the critical understanding of how to prevent inserting effort and unnaturalness into the TM technique. \nThis session is only offered in person with a Certified TM Teacher and includes the following: \n\nA detailed discussion of our growing body of experiences in the light of the primary driver of transcending\nA video with Maharishi explaining aspects of forces of nature involved inside our TM practice and outside in our personal growth and evolution\nA full 20 minute group TM\n\nThis session helps shatter any inclination towards individual inception\, interference\, or effort in our TM technique. And helps us spontaneously live a life more in accord with all the laws of nature. \nBe sure to attend this Essentials session.
URL:https://community.ca.tm.org/event/tm-essentials-tm-is-guided-by-nature-13/
LOCATION:Vancouver TM Centre\, 328 West 8th Avenue\, Vancouver\, BC\, V5Y 3X2\, Canada
CATEGORIES:TM Essentials,Vancouver TM Centre
ORGANIZER;CN="Vancouver TM Centre":MAILTO:vancouver@tm.org
END:VEVENT
BEGIN:VEVENT
DTSTART;TZID=America/Toronto:20240809T170000
DTEND;TZID=America/Toronto:20240809T183000
DTSTAMP:20260421T011130
CREATED:20240620T193254Z
LAST-MODIFIED:20240620T193254Z
UID:10000730-1723222800-1723228200@community.ca.tm.org
SUMMARY:Maharishi Yoga Asanas Instruction
DESCRIPTION:Led by Maharishi International University faculty. \nLearn Maharishi Yoga Asanas and Pranayama to promote the integration of mind\, body\, and spirit. \nDesigned to be practiced before your Transcendental Meditation\, Yoga Asanas are a gentle series of postures to complement your meditation. They help to remove stress\, strengthen flexibility\, improve health\, and prepare your body for TM. \nPranayama\, a breathing exercise\, helps to settle the body and mind for an even deeper TM experience. \nIn this class you will learn: \n\nMaharishi Yoga Asana postures\nPranayama\, deep breathing exercises\nHow to integrate Asanas and Pranayama into your daily routine\n\nWhether you’re completely new to yoga or an advanced practitioner\, this class will give you the instruction you need to add the Maharishi Yoga Asanas to your TM routine.  \nRequirements: \n\nInstruction in Transcendental Meditation\nComfortable sports or yoga clothes\nA yoga mat or thick blanket\nA settled environment\n\nThis 1-hour class will be followed by a 20-minute online group TM \nAt this time\, this class is being offered as a free service. \n► Register here \nWatch a recording here.
URL:https://community.ca.tm.org/event/maharishi-yoga-asanas-instruction-20/
LOCATION:Online
CATEGORIES:Yoga Asana Demo
END:VEVENT
END:VCALENDAR