BEGIN:VCALENDAR
VERSION:2.0
PRODID:-//TM Canada Community Hub - ECPv6.15.11//NONSGML v1.0//EN
CALSCALE:GREGORIAN
METHOD:PUBLISH
X-ORIGINAL-URL:https://community.ca.tm.org
X-WR-CALDESC:Events for TM Canada Community Hub
REFRESH-INTERVAL;VALUE=DURATION:PT1H
X-Robots-Tag:noindex
X-PUBLISHED-TTL:PT1H
BEGIN:VTIMEZONE
TZID:America/Toronto
BEGIN:DAYLIGHT
TZOFFSETFROM:-0500
TZOFFSETTO:-0400
TZNAME:EDT
DTSTART:20230312T070000
END:DAYLIGHT
BEGIN:STANDARD
TZOFFSETFROM:-0400
TZOFFSETTO:-0500
TZNAME:EST
DTSTART:20231105T060000
END:STANDARD
BEGIN:DAYLIGHT
TZOFFSETFROM:-0500
TZOFFSETTO:-0400
TZNAME:EDT
DTSTART:20240310T070000
END:DAYLIGHT
BEGIN:STANDARD
TZOFFSETFROM:-0400
TZOFFSETTO:-0500
TZNAME:EST
DTSTART:20241103T060000
END:STANDARD
BEGIN:DAYLIGHT
TZOFFSETFROM:-0500
TZOFFSETTO:-0400
TZNAME:EDT
DTSTART:20250309T070000
END:DAYLIGHT
BEGIN:STANDARD
TZOFFSETFROM:-0400
TZOFFSETTO:-0500
TZNAME:EST
DTSTART:20251102T060000
END:STANDARD
END:VTIMEZONE
BEGIN:VTIMEZONE
TZID:America/Vancouver
BEGIN:DAYLIGHT
TZOFFSETFROM:-0800
TZOFFSETTO:-0700
TZNAME:PDT
DTSTART:20230312T100000
END:DAYLIGHT
BEGIN:STANDARD
TZOFFSETFROM:-0700
TZOFFSETTO:-0800
TZNAME:PST
DTSTART:20231105T090000
END:STANDARD
BEGIN:DAYLIGHT
TZOFFSETFROM:-0800
TZOFFSETTO:-0700
TZNAME:PDT
DTSTART:20240310T100000
END:DAYLIGHT
BEGIN:STANDARD
TZOFFSETFROM:-0700
TZOFFSETTO:-0800
TZNAME:PST
DTSTART:20241103T090000
END:STANDARD
BEGIN:DAYLIGHT
TZOFFSETFROM:-0800
TZOFFSETTO:-0700
TZNAME:PDT
DTSTART:20250309T100000
END:DAYLIGHT
BEGIN:STANDARD
TZOFFSETFROM:-0700
TZOFFSETTO:-0800
TZNAME:PST
DTSTART:20251102T090000
END:STANDARD
END:VTIMEZONE
BEGIN:VEVENT
DTSTART;VALUE=DATE:20240713
DTEND;VALUE=DATE:20240715
DTSTAMP:20260425T115442
CREATED:20240628T204834Z
LAST-MODIFIED:20240628T210027Z
UID:10000758-1720828800-1721001599@community.ca.tm.org
SUMMARY:Advanced Techniques Course — Toronto TM Centre
DESCRIPTION:The TM Advanced Techniques Program offers four techniques to enrich your experience and accelerate your personal progress. \nThrough the regular practice of the Transcendental Meditation technique\, you become familiar with the experience of pure consciousness. With the Advanced Techniques\, you can go even further\, experiencing finer levels of thought and perception. As a result\, your perception becomes more enriched\, and your thoughts and actions become more powerful\, leading to greater fulfillment of your desires in daily life. \nFour Advanced Techniques are offered in a sequence developed by Maharishi. The first Advanced Technique is specifically designed to accelerate growth to higher states of consciousness\, utilizing the time of sleep to support the development of enlightenment. The following three Advanced Techniques are incorporated into your TM practice. \nIf you are beginning the Advanced Techniques program\, you will receive the Night Technique instruction on Saturday evening with a checking session on Sunday morning. \nThose continuing their course will receive instruction on Saturday afternoon\, with a checking session on Sunday afternoon. \nEmail David Shaw at dshaw@tm.org to register.
URL:https://community.ca.tm.org/event/advanced-techniques-course-2/
LOCATION:Toronto TM Centre\, 100 Front Street West (Retail floor - below main lobby\, Toronto\, On\, M5J 1E3\, Canada
CATEGORIES:Advanced Techniques Intro,Toronto TM Centre
ORGANIZER;CN="Toronto TM Centre":MAILTO:toronto@tm.org
END:VEVENT
BEGIN:VEVENT
DTSTART;VALUE=DATE:20240713
DTEND;VALUE=DATE:20240715
DTSTAMP:20260425T115442
CREATED:20240628T205249Z
LAST-MODIFIED:20240628T205430Z
UID:10000759-1720828800-1721001599@community.ca.tm.org
SUMMARY:Advanced Techniques Course — Mississauga TM Centre
DESCRIPTION:The TM Advanced Techniques Program offers four techniques to enrich your experience and accelerate your personal progress. \nThrough the regular practice of the Transcendental Meditation technique\, you become familiar with the experience of pure consciousness. With the Advanced Techniques\, you can go even further\, experiencing finer levels of thought and perception. As a result\, your perception becomes more enriched\, and your thoughts and actions become more powerful\, leading to greater fulfillment of your desires in daily life. \nFour Advanced Techniques are offered in a sequence developed by Maharishi. The first Advanced Technique is specifically designed to accelerate growth to higher states of consciousness\, utilizing the time of sleep to support the development of enlightenment. The following three Advanced Techniques are incorporated into your TM practice. \nIf you are beginning the Advanced Techniques program\, you will receive the Night Technique instruction on Saturday evening with a checking session on Sunday morning. \nThose continuing their course will receive instruction on Saturday afternoon\, with a checking session on Sunday afternoon. \nEmail Dianne Field at dfield@tm.org to register.
URL:https://community.ca.tm.org/event/advanced-techniques-course-mississauga-tm-centre/
LOCATION:Mississauga TM Centre
CATEGORIES:Advanced Techniques Intro,Mississauga TM Centre
END:VEVENT
BEGIN:VEVENT
DTSTART;TZID=America/Toronto:20240714T110000
DTEND;TZID=America/Toronto:20240714T123000
DTSTAMP:20260425T115442
CREATED:20240606T161904Z
LAST-MODIFIED:20240606T161904Z
UID:10000580-1720954800-1720960200@community.ca.tm.org
SUMMARY:Maharishi Yoga Asanas Instruction
DESCRIPTION:Led by Maharishi International University faculty. \nLearn Maharishi Yoga Asanas and Pranayama to promote the integration of mind\, body\, and spirit. \nDesigned to be practiced before your Transcendental Meditation\, Yoga Asanas are a gentle series of postures to complement your meditation. They help to remove stress\, strengthen flexibility\, improve health\, and prepare your body for TM. \nPranayama\, a breathing exercise\, helps to settle the body and mind for an even deeper TM experience. \nIn this class you will learn: \n\nMaharishi Yoga Asana postures\nPranayama\, deep breathing exercises\nHow to integrate Asanas and Pranayama into your daily routine\n\nWhether you’re completely new to yoga or an advanced practitioner\, this class will give you the instruction you need to add the Maharishi Yoga Asanas to your TM routine.  \nRequirements: \n\nInstruction in Transcendental Meditation\nComfortable sports or yoga clothes\nA yoga mat or thick blanket\nA settled environment\n\nThis 1-hour class will be followed by a 20-minute online group TM \nAt this time\, this class is being offered as a free service. \n► Register here \nWatch a recording here.
URL:https://community.ca.tm.org/event/maharishi-yoga-asanas-instruction-7/
LOCATION:Online
CATEGORIES:Yoga Asana Demo
END:VEVENT
BEGIN:VEVENT
DTSTART;TZID=America/Toronto:20240714T130000
DTEND;TZID=America/Toronto:20240714T143000
DTSTAMP:20260425T115442
CREATED:20240611T195142Z
LAST-MODIFIED:20240611T195142Z
UID:10000721-1720962000-1720967400@community.ca.tm.org
SUMMARY:Stay Cool and Balanced this Summer with Maharishi Ayurveda
DESCRIPTION:With TM Teacher Lynne Hea. \nLooking for ways to maintain your cool and balance during the warm summer months? \nIn this engaging session\, our Maharishi Ayurveda experts will provide valuable dietary and lifestyle guidance to help you balance your pitta dosha. As the dosha responsible for digestion and metabolism\, pitta embodies the fiery quality that can easily become aggravated and imbalanced by the heat of summer. \nDon’t miss out on our practical advice for a truly enjoyable and harmonious summer season. \nBegins with a 20-minute group TM. \nJoin Session \nPassword required to join this session. Access these sessions with the Zoom password provided to you by email from tmevents@tm.org.
URL:https://community.ca.tm.org/event/stay-cool-and-balanced-this-summer-with-maharishi-ayurveda/
LOCATION:Online
CATEGORIES:Online Knowledge Session
END:VEVENT
BEGIN:VEVENT
DTSTART;TZID=America/Toronto:20240714T160000
DTEND;TZID=America/Toronto:20240714T180000
DTSTAMP:20260425T115442
CREATED:20240528T203103Z
LAST-MODIFIED:20240528T203103Z
UID:10000496-1720972800-1720980000@community.ca.tm.org
SUMMARY:TM Essentials: How to Get the Most From Your TM Practice
DESCRIPTION:Understand the factors that can influence your TM experience and help you gain the most benefits from your practice. You will learn practical tips that will help you enjoy the mental\, physical\, and emotional benefits of TM. \nThe session will culminate with an incredibly insightful talk by Maharishi\, “Love: Expansion of the Heart.” \nMaharishi weaves together a unique understanding of the body’s sensory mechanisms\, physiological reactions\, and metabolic processes related to the growth of the heart and our capacity to love. Maharishi’s talk is certain to give you a whole new perspective on the journey to higher states of consciousness. \nThis session will be particularly helpful for new and returning TM practitioners — and a great refresher for long-time practitioners.
URL:https://community.ca.tm.org/event/tm-essentials-how-to-get-the-most-from-your-tm-practice-11/
LOCATION:Toronto TM Centre\, 100 Front Street West (Retail floor - below main lobby\, Toronto\, On\, M5J 1E3\, Canada
CATEGORIES:TM Essentials,Toronto TM Centre
ORGANIZER;CN="Toronto TM Centre":MAILTO:toronto@tm.org
END:VEVENT
BEGIN:VEVENT
DTSTART;TZID=America/Toronto:20240714T173000
DTEND;TZID=America/Toronto:20240714T190000
DTSTAMP:20260425T115442
CREATED:20240528T201726Z
LAST-MODIFIED:20240528T201726Z
UID:10000491-1720978200-1720983600@community.ca.tm.org
SUMMARY:Deep Dives: Group TM & Knowledge Session
DESCRIPTION:Join us each week for a Group TM & Knowledge session at the Toronto TM Centre. \nThe group meditation begins promptly at 5:30 pm\, with participants from our preceding TM Essentials class. \nAfter the knowledge session\, stay to enjoy some tea and refreshments. It’s a great opportunity to connect with our community of meditators.
URL:https://community.ca.tm.org/event/deep-dives-group-tm-knowledge-session-15/
LOCATION:Toronto TM Centre\, 100 Front Street West (Retail floor - below main lobby\, Toronto\, On\, M5J 1E3\, Canada
CATEGORIES:Toronto TM Centre
ORGANIZER;CN="Toronto TM Centre":MAILTO:toronto@tm.org
END:VEVENT
BEGIN:VEVENT
DTSTART;TZID=America/Toronto:20240716T160000
DTEND;TZID=America/Toronto:20240716T180000
DTSTAMP:20260425T115442
CREATED:20240528T203254Z
LAST-MODIFIED:20240528T203254Z
UID:10000497-1721145600-1721152800@community.ca.tm.org
SUMMARY:TM Essentials: How to Get the Most From Your TM Practice
DESCRIPTION:Understand the factors that can influence your TM experience and help you gain the most benefits from your practice. You will learn practical tips that will help you enjoy the mental\, physical\, and emotional benefits of TM. \nThe session will culminate with an incredibly insightful talk by Maharishi\, “Love: Expansion of the Heart.” \nMaharishi weaves together a unique understanding of the body’s sensory mechanisms\, physiological reactions\, and metabolic processes related to the growth of the heart and our capacity to love. Maharishi’s talk is certain to give you a whole new perspective on the journey to higher states of consciousness. \nThis session will be particularly helpful for new and returning TM practitioners — and a great refresher for long-time practitioners.
URL:https://community.ca.tm.org/event/tm-essentials-how-to-get-the-most-from-your-tm-practice-12/
LOCATION:Toronto TM Centre\, 100 Front Street West (Retail floor - below main lobby\, Toronto\, On\, M5J 1E3\, Canada
CATEGORIES:TM Essentials,Toronto TM Centre
ORGANIZER;CN="Toronto TM Centre":MAILTO:toronto@tm.org
END:VEVENT
BEGIN:VEVENT
DTSTART;TZID=America/Toronto:20240716T173000
DTEND;TZID=America/Toronto:20240716T180000
DTSTAMP:20260425T115443
CREATED:20240528T200554Z
LAST-MODIFIED:20240528T200554Z
UID:10000484-1721151000-1721152800@community.ca.tm.org
SUMMARY:Dive & Dash: Weekly 20-Minute Group TM
DESCRIPTION:Join us each week for a 20-minute Group TM at the Toronto TM Centre. \nThe group is growing every week\, so please be sure to register so that we know there’s room for everyone. \nThe group meditation begins promptly at 5:30 pm\, so please arrive and be seated at least a few minutes ahead of time.
URL:https://community.ca.tm.org/event/dive-dash-weekly-20-minute-group-tm-25/
LOCATION:Toronto TM Centre\, 100 Front Street West (Retail floor - below main lobby\, Toronto\, On\, M5J 1E3\, Canada
CATEGORIES:Toronto TM Centre
ORGANIZER;CN="Toronto TM Centre":MAILTO:toronto@tm.org
END:VEVENT
BEGIN:VEVENT
DTSTART;TZID=America/Vancouver:20240717T184500
DTEND;TZID=America/Vancouver:20240717T193000
DTSTAMP:20260425T115443
CREATED:20240425T174107Z
LAST-MODIFIED:20240522T135420Z
UID:10000430-1721241900-1721244600@community.ca.tm.org
SUMMARY:Dive & Dash: Weekly 20-Minute Group TM
DESCRIPTION:Join us each week for a 20-minute Group TM at the Vancouver TM Centre. \nRefresh\, recharge and relax with a group TM. \nGroup meditation starts promptly at 6:45 pm. \n 
URL:https://community.ca.tm.org/event/dive-dash-weekly-20-minute-group-tm-16/
LOCATION:Vancouver TM Centre\, 328 West 8th Avenue\, Vancouver\, BC\, V5Y 3X2\, Canada
CATEGORIES:Vancouver TM Centre
ORGANIZER;CN="Vancouver TM Centre":MAILTO:vancouver@tm.org
END:VEVENT
BEGIN:VEVENT
DTSTART;TZID=America/Vancouver:20240717T184500
DTEND;TZID=America/Vancouver:20240717T203000
DTSTAMP:20260425T115443
CREATED:20240424T155011Z
LAST-MODIFIED:20240522T135452Z
UID:10000413-1721241900-1721248200@community.ca.tm.org
SUMMARY:TM Essentials: Accelerate Your Personal Growth
DESCRIPTION:Learn how you can accelerate your personal growth by deepening and refining your TM practice. This presentation will include an introduction to: \n\nTM Retreats (yoga\, breathing exercises\, and extended TM practice)\nAdvanced Techniques and TM-Sidhis\nTM communities to connect with other TM practitioners\n\nWe’ll also discuss the value of group TM for the individual and society – and why it’s worth taking the time to join group TM sessions. \nThis talk includes video presentations by Maharishi on Advanced Techniques and TM Retreats.
URL:https://community.ca.tm.org/event/tm-essentials-accelerate-your-personal-growth-9/
LOCATION:Vancouver TM Centre\, 328 West 8th Avenue\, Vancouver\, BC\, V5Y 3X2\, Canada
CATEGORIES:TM Essentials,Vancouver TM Centre
ORGANIZER;CN="Vancouver TM Centre":MAILTO:vancouver@tm.org
END:VEVENT
BEGIN:VEVENT
DTSTART;TZID=America/Vancouver:20240718T183000
DTEND;TZID=America/Vancouver:20240718T203000
DTSTAMP:20260425T115443
CREATED:20240703T150858Z
LAST-MODIFIED:20240703T150858Z
UID:10000765-1721327400-1721334600@community.ca.tm.org
SUMMARY:In-Person Group Meditation & Knowledge Meeting
DESCRIPTION:Led by Wayne Foster\, Certified TM Teacher\n\nPlease join us for an in-person group meditation & knowledge meeting on Thursday\, July 18 at 6:30 pm at the Victoria TM Centre. Each session will feature a group meditation\, an opportunity to ask questions about your practice\, and an inspiring video followed by discussion.\n\nSession topic: \nTranscendental Meditation is the Key to a Fuller Life and Harmonious Behaviour. \n\nWe look forward to seeing you there! \nNo registration required\, just drop in!
URL:https://community.ca.tm.org/event/in-person-group-meditation-knowledge-meeting-6/
LOCATION:Victoria TM Centre\, 1842 Oak Bay Ave #202\, Victoria\, BC\, V8R 1C2\, Canada
CATEGORIES:Victoria TM Centre
ORGANIZER;CN="Victoria TM Centre":MAILTO:victoria@tm.org
END:VEVENT
BEGIN:VEVENT
DTSTART;TZID=America/Toronto:20240719T170000
DTEND;TZID=America/Toronto:20240719T183000
DTSTAMP:20260425T115443
CREATED:20240606T163332Z
LAST-MODIFIED:20240606T163332Z
UID:10000718-1721408400-1721413800@community.ca.tm.org
SUMMARY:Maharishi Yoga Asanas Instruction
DESCRIPTION:Led by Maharishi International University faculty. \nLearn Maharishi Yoga Asanas and Pranayama to promote the integration of mind\, body\, and spirit. \nDesigned to be practiced before your Transcendental Meditation\, Yoga Asanas are a gentle series of postures to complement your meditation. They help to remove stress\, strengthen flexibility\, improve health\, and prepare your body for TM. \nPranayama\, a breathing exercise\, helps to settle the body and mind for an even deeper TM experience. \nIn this class you will learn: \n\nMaharishi Yoga Asana postures\nPranayama\, deep breathing exercises\nHow to integrate Asanas and Pranayama into your daily routine\n\nWhether you’re completely new to yoga or an advanced practitioner\, this class will give you the instruction you need to add the Maharishi Yoga Asanas to your TM routine.  \nRequirements: \n\nInstruction in Transcendental Meditation\nComfortable sports or yoga clothes\nA yoga mat or thick blanket\nA settled environment\n\nThis 1-hour class will be followed by a 20-minute online group TM \nAt this time\, this class is being offered as a free service. \n► Register here \nWatch a recording here.
URL:https://community.ca.tm.org/event/maharishi-yoga-asanas-instruction-17/
LOCATION:Online
CATEGORIES:Yoga Asana Demo
END:VEVENT
END:VCALENDAR