BEGIN:VCALENDAR
VERSION:2.0
PRODID:-//TM Canada Community Hub - ECPv6.15.11//NONSGML v1.0//EN
CALSCALE:GREGORIAN
METHOD:PUBLISH
X-ORIGINAL-URL:https://community.ca.tm.org
X-WR-CALDESC:Events for TM Canada Community Hub
REFRESH-INTERVAL;VALUE=DURATION:PT1H
X-Robots-Tag:noindex
X-PUBLISHED-TTL:PT1H
BEGIN:VTIMEZONE
TZID:America/Toronto
BEGIN:DAYLIGHT
TZOFFSETFROM:-0500
TZOFFSETTO:-0400
TZNAME:EDT
DTSTART:20230312T070000
END:DAYLIGHT
BEGIN:STANDARD
TZOFFSETFROM:-0400
TZOFFSETTO:-0500
TZNAME:EST
DTSTART:20231105T060000
END:STANDARD
BEGIN:DAYLIGHT
TZOFFSETFROM:-0500
TZOFFSETTO:-0400
TZNAME:EDT
DTSTART:20240310T070000
END:DAYLIGHT
BEGIN:STANDARD
TZOFFSETFROM:-0400
TZOFFSETTO:-0500
TZNAME:EST
DTSTART:20241103T060000
END:STANDARD
BEGIN:DAYLIGHT
TZOFFSETFROM:-0500
TZOFFSETTO:-0400
TZNAME:EDT
DTSTART:20250309T070000
END:DAYLIGHT
BEGIN:STANDARD
TZOFFSETFROM:-0400
TZOFFSETTO:-0500
TZNAME:EST
DTSTART:20251102T060000
END:STANDARD
END:VTIMEZONE
BEGIN:VTIMEZONE
TZID:America/Vancouver
BEGIN:DAYLIGHT
TZOFFSETFROM:-0800
TZOFFSETTO:-0700
TZNAME:PDT
DTSTART:20230312T100000
END:DAYLIGHT
BEGIN:STANDARD
TZOFFSETFROM:-0700
TZOFFSETTO:-0800
TZNAME:PST
DTSTART:20231105T090000
END:STANDARD
BEGIN:DAYLIGHT
TZOFFSETFROM:-0800
TZOFFSETTO:-0700
TZNAME:PDT
DTSTART:20240310T100000
END:DAYLIGHT
BEGIN:STANDARD
TZOFFSETFROM:-0700
TZOFFSETTO:-0800
TZNAME:PST
DTSTART:20241103T090000
END:STANDARD
BEGIN:DAYLIGHT
TZOFFSETFROM:-0800
TZOFFSETTO:-0700
TZNAME:PDT
DTSTART:20250309T100000
END:DAYLIGHT
BEGIN:STANDARD
TZOFFSETFROM:-0700
TZOFFSETTO:-0800
TZNAME:PST
DTSTART:20251102T090000
END:STANDARD
END:VTIMEZONE
BEGIN:VEVENT
DTSTART;TZID=America/Toronto:20240609T110000
DTEND;TZID=America/Toronto:20240609T123000
DTSTAMP:20260425T072653
CREATED:20240410T210110Z
LAST-MODIFIED:20240606T161642Z
UID:10000370-1717930800-1717936200@community.ca.tm.org
SUMMARY:Maharishi Yoga Asanas Instruction
DESCRIPTION:Led by Maharishi International University faculty. \nLearn Maharishi Yoga Asanas and Pranayama to promote the integration of mind\, body\, and spirit. \nDesigned to be practiced before your Transcendental Meditation\, Yoga Asanas are a gentle series of postures to complement your meditation. They help to remove stress\, strengthen flexibility\, improve health\, and prepare your body for TM. \nPranayama\, a breathing exercise\, helps to settle the body and mind for an even deeper TM experience. \nIn this class you will learn: \n\nMaharishi Yoga Asana postures\nPranayama\, deep breathing exercises\nHow to integrate Asanas and Pranayama into your daily routine\n\nWhether you’re completely new to yoga or an advanced practitioner\, this class will give you the instruction you need to add the Maharishi Yoga Asanas to your TM routine.  \nRequirements: \n\nInstruction in Transcendental Meditation\nComfortable sports or yoga clothes\nA yoga mat or thick blanket\nA settled environment\n\nThis 1-hour class will be followed by a 20-minute online group TM \nAt this time\, this class is being offered as a free service. \n► Register here \nWatch a recording here.
URL:https://community.ca.tm.org/event/maharishi-yoga-asanas-instruction-2/
LOCATION:Online
CATEGORIES:Yoga Asana Demo
END:VEVENT
BEGIN:VEVENT
DTSTART;TZID=America/Toronto:20240609T130000
DTEND;TZID=America/Toronto:20240609T143000
DTSTAMP:20260425T072653
CREATED:20240530T155019Z
LAST-MODIFIED:20240604T131044Z
UID:10000507-1717938000-1717943400@community.ca.tm.org
SUMMARY:Gaining Mastery of Spontaneous Right Action – the Power of the TM-Sidhis Program
DESCRIPTION:With TM-Sidhis Administrators Georgina Wilson\, Anne-Mareike Chu\, and Eric Simon \nHave you ever been so immersed in an activity that everything else fades away\, leaving you in a state of effortless flow? Would you like to cultivate this so it becomes a consistent part of your everyday life? \nThe TM-Sidhis Program builds on the experience of TM and the Advanced Techniques of TM\, enabling you to operate from that state of pure consciousness consistently – fostering a profound harmony among your mind\, body\, and the environment on the level of consciousness. This progression towards spontaneous right action is a big leap in your evolution — making what once seemed extraordinary a new\, enriching standard. \nJoin us for this session and discover how the TM-Sidhis accomplishes this is an effortless and systematic way. Georgina Wilson\, Anne-Mareike Chu\, and Eric Simon (TM-Sidhis Program Administrators for Canada) will share their insight of how by practicing the TM-Sidhis Program\, your actions become more effortless\, powerful\, and life-supporting. \nJoin Session \nPassword required to join this session. Access these sessions with the Zoom password provided to you by email from tmevents@tm.org.
URL:https://community.ca.tm.org/event/the-ultimate-advanced-tm-program-accelerate-your-personal-evolution-through-the-tm-sidhis-program/
LOCATION:Online
CATEGORIES:Online Knowledge Session,TM-Sidhis Intro
END:VEVENT
BEGIN:VEVENT
DTSTART;TZID=America/Toronto:20240609T160000
DTEND;TZID=America/Toronto:20240609T180000
DTSTAMP:20260425T072653
CREATED:20240528T194147Z
LAST-MODIFIED:20240528T194147Z
UID:10000469-1717948800-1717956000@community.ca.tm.org
SUMMARY:TM Essentials: How to Get the Most From Your TM Practice
DESCRIPTION:Understand the factors that can influence your TM experience and help you gain the most benefits from your practice. You will learn practical tips that will help you enjoy the mental\, physical\, and emotional benefits of TM. \nThe session will culminate with an incredibly insightful talk by Maharishi\, “Love: Expansion of the Heart.” \nMaharishi weaves together a unique understanding of the body’s sensory mechanisms\, physiological reactions\, and metabolic processes related to the growth of the heart and our capacity to love. Maharishi’s talk is certain to give you a whole new perspective on the journey to higher states of consciousness. \nThis session will be particularly helpful for new and returning TM practitioners — and a great refresher for long-time practitioners.
URL:https://community.ca.tm.org/event/tm-essentials-how-to-get-the-most-from-your-tm-practice-9/
LOCATION:Toronto TM Centre\, 100 Front Street West (Retail floor - below main lobby\, Toronto\, On\, M5J 1E3\, Canada
CATEGORIES:TM Essentials,Toronto TM Centre
ORGANIZER;CN="Toronto TM Centre":MAILTO:toronto@tm.org
END:VEVENT
BEGIN:VEVENT
DTSTART;TZID=America/Toronto:20240609T173000
DTEND;TZID=America/Toronto:20240609T190000
DTSTAMP:20260425T072653
CREATED:20240528T201459Z
LAST-MODIFIED:20240528T201459Z
UID:10000487-1717954200-1717959600@community.ca.tm.org
SUMMARY:Deep Dives: Group TM & Knowledge Session
DESCRIPTION:Join us each week for a Group TM & Knowledge session at the Toronto TM Centre. \nThe group meditation begins promptly at 5:30 pm\, with participants from our preceding TM Essentials class. \nAfter the knowledge session\, stay to enjoy some tea and refreshments. It’s a great opportunity to connect with our community of meditators.
URL:https://community.ca.tm.org/event/deep-dives-group-tm-knowledge-session-11/
LOCATION:Toronto TM Centre\, 100 Front Street West (Retail floor - below main lobby\, Toronto\, On\, M5J 1E3\, Canada
CATEGORIES:Toronto TM Centre
ORGANIZER;CN="Toronto TM Centre":MAILTO:toronto@tm.org
END:VEVENT
BEGIN:VEVENT
DTSTART;TZID=America/Toronto:20240611T160000
DTEND;TZID=America/Toronto:20240611T180000
DTSTAMP:20260425T072653
CREATED:20240528T194238Z
LAST-MODIFIED:20240528T194238Z
UID:10000470-1718121600-1718128800@community.ca.tm.org
SUMMARY:TM Essentials: How to Get the Most From Your TM Practice
DESCRIPTION:Understand the factors that can influence your TM experience and help you gain the most benefits from your practice. You will learn practical tips that will help you enjoy the mental\, physical\, and emotional benefits of TM. \nThe session will culminate with an incredibly insightful talk by Maharishi\, “Love: Expansion of the Heart.” \nMaharishi weaves together a unique understanding of the body’s sensory mechanisms\, physiological reactions\, and metabolic processes related to the growth of the heart and our capacity to love. Maharishi’s talk is certain to give you a whole new perspective on the journey to higher states of consciousness. \nThis session will be particularly helpful for new and returning TM practitioners — and a great refresher for long-time practitioners.
URL:https://community.ca.tm.org/event/tm-essentials-how-to-get-the-most-from-your-tm-practice-10/
LOCATION:Toronto TM Centre\, 100 Front Street West (Retail floor - below main lobby\, Toronto\, On\, M5J 1E3\, Canada
CATEGORIES:TM Essentials,Toronto TM Centre
ORGANIZER;CN="Toronto TM Centre":MAILTO:toronto@tm.org
END:VEVENT
BEGIN:VEVENT
DTSTART;TZID=America/Toronto:20240611T173000
DTEND;TZID=America/Toronto:20240611T180000
DTSTAMP:20260425T072653
CREATED:20240528T195827Z
LAST-MODIFIED:20240528T195827Z
UID:10000478-1718127000-1718128800@community.ca.tm.org
SUMMARY:Dive & Dash: Weekly 20-Minute Group TM
DESCRIPTION:Join us each week for a 20-minute Group TM at the Toronto TM Centre. \nThe group is growing every week\, so please be sure to register so that we know there’s room for everyone. \nThe group meditation begins promptly at 5:30 pm\, so please arrive and be seated at least a few minutes ahead of time.
URL:https://community.ca.tm.org/event/dive-dash-weekly-20-minute-group-tm-19/
LOCATION:Toronto TM Centre\, 100 Front Street West (Retail floor - below main lobby\, Toronto\, On\, M5J 1E3\, Canada
CATEGORIES:Toronto TM Centre
ORGANIZER;CN="Toronto TM Centre":MAILTO:toronto@tm.org
END:VEVENT
BEGIN:VEVENT
DTSTART;TZID=America/Vancouver:20240612T184500
DTEND;TZID=America/Vancouver:20240612T193000
DTSTAMP:20260425T072653
CREATED:20240425T173120Z
LAST-MODIFIED:20240522T134737Z
UID:10000425-1718217900-1718220600@community.ca.tm.org
SUMMARY:Dive & Dash: Weekly 20-Minute Group TM
DESCRIPTION:Join us each week for a 20-minute Group TM at the Vancouver TM Centre. \nRefresh\, recharge and relax with a group TM. \nGroup meditation starts promptly at 6:45 pm. \n 
URL:https://community.ca.tm.org/event/dive-dash-weekly-20-minute-group-tm-11/
LOCATION:Vancouver TM Centre\, 328 West 8th Avenue\, Vancouver\, BC\, V5Y 3X2\, Canada
CATEGORIES:Vancouver TM Centre
ORGANIZER;CN="Vancouver TM Centre":MAILTO:vancouver@tm.org
END:VEVENT
BEGIN:VEVENT
DTSTART;TZID=America/Vancouver:20240612T184500
DTEND;TZID=America/Vancouver:20240612T203000
DTSTAMP:20260425T072653
CREATED:20240422T194652Z
LAST-MODIFIED:20240531T210926Z
UID:10000393-1718217900-1718224200@community.ca.tm.org
SUMMARY:TM Essentials: How to Get the Most From Your TM Practice
DESCRIPTION:Understand the factors that can influence your TM experience and help you gain the most benefits from your practice. You will learn practical tips that will help you enjoy the mental\, physical\, and emotional benefits of TM. \nThe session will culminate with an incredibly insightful talk by Maharishi on Love: Expansion of the Heart. \nMaharishi weaves together a unique understanding of the body’s sensory mechanisms\, physiological reactions\, and metabolic processes related to the growth of the heart and our capacity to love. \nMaharishi’s talk is certain to give you a whole new perspective on the journey to higher states of consciousness. \nThis session will be particularly helpful for new and returning TM practitioners – and a great refresher for long-time practitioners.
URL:https://community.ca.tm.org/event/tm-essentials-how-to-get-the-most-from-your-tm-practice-7/
LOCATION:Vancouver TM Centre\, 328 West 8th Avenue\, Vancouver\, BC\, V5Y 3X2\, Canada
CATEGORIES:TM Essentials,Vancouver TM Centre
ORGANIZER;CN="Vancouver TM Centre":MAILTO:vancouver@tm.org
END:VEVENT
BEGIN:VEVENT
DTSTART;TZID=America/Vancouver:20240613T183000
DTEND;TZID=America/Vancouver:20240613T203000
DTSTAMP:20260425T072653
CREATED:20240527T200251Z
LAST-MODIFIED:20240527T200251Z
UID:10000458-1718303400-1718310600@community.ca.tm.org
SUMMARY:In-Person Group Meditation & Knowledge Meeting
DESCRIPTION:Led by Andy Guest\, Certified TM Teacher\n\nPlease join us for an in-person group meditation & knowledge meeting on Thursday\, June 13 at 6:30 pm at the Victoria TM Centre. Each session will feature a group meditation\, an opportunity to ask questions about your practice\, and an inspiring video followed by discussion.\n\nTopic: The Six tastes in Maharishi Ayurveda\n\nNo registration required\, just drop in!
URL:https://community.ca.tm.org/event/in-person-group-meditation-knowledge-meeting-2/
LOCATION:Victoria TM Centre\, 1842 Oak Bay Ave #202\, Victoria\, BC\, V8R 1C2\, Canada
CATEGORIES:Victoria TM Centre
ORGANIZER;CN="Victoria TM Centre":MAILTO:victoria@tm.org
END:VEVENT
BEGIN:VEVENT
DTSTART;TZID=America/Toronto:20240614T170000
DTEND;TZID=America/Toronto:20240614T183000
DTSTAMP:20260425T072653
CREATED:20240606T162843Z
LAST-MODIFIED:20240606T162843Z
UID:10000712-1718384400-1718389800@community.ca.tm.org
SUMMARY:Maharishi Yoga Asanas Instruction
DESCRIPTION:Led by Maharishi International University faculty. \nLearn Maharishi Yoga Asanas and Pranayama to promote the integration of mind\, body\, and spirit. \nDesigned to be practiced before your Transcendental Meditation\, Yoga Asanas are a gentle series of postures to complement your meditation. They help to remove stress\, strengthen flexibility\, improve health\, and prepare your body for TM. \nPranayama\, a breathing exercise\, helps to settle the body and mind for an even deeper TM experience. \nIn this class you will learn: \n\nMaharishi Yoga Asana postures\nPranayama\, deep breathing exercises\nHow to integrate Asanas and Pranayama into your daily routine\n\nWhether you’re completely new to yoga or an advanced practitioner\, this class will give you the instruction you need to add the Maharishi Yoga Asanas to your TM routine.  \nRequirements: \n\nInstruction in Transcendental Meditation\nComfortable sports or yoga clothes\nA yoga mat or thick blanket\nA settled environment\n\nThis 1-hour class will be followed by a 20-minute online group TM \nAt this time\, this class is being offered as a free service. \n► Register here \nWatch a recording here.
URL:https://community.ca.tm.org/event/maharishi-yoga-asanas-instruction-11/
LOCATION:Online
CATEGORIES:Yoga Asana Demo
END:VEVENT
BEGIN:VEVENT
DTSTART;TZID=America/Toronto:20240614T173000
DTEND;TZID=America/Toronto:20240614T190000
DTSTAMP:20260425T072653
CREATED:20240506T154724Z
LAST-MODIFIED:20240506T155157Z
UID:10000439-1718386200-1718391600@community.ca.tm.org
SUMMARY:Advanced Techniques Orientation
DESCRIPTION:Elevate your TM practice to new heights with the TM Advanced Techniques. \nAs you practice TM regularly\, you become more familiar with the experience of pure consciousness. The Advanced Techniques take you even further\, allowing you to explore finer levels of thought and perception. This enhanced perception enriches your life\, leading to more powerful thoughts and actions and greater fulfillment of your desires in daily life. \nAdvanced Techniques Teacher David Shaw will lead the Orientation. David will explore the profound impact that the TM Advanced Techniques Program can have in unlocking your full potential. \nThe Orientation is free to attend\, and it’s a no-obligation opportunity to learn more about the higher and refined states of consciousness and the TM Advanced Techniques. \nThe next Advanced Techniques course will be June 15-16 at the Toronto centre.
URL:https://community.ca.tm.org/event/advanced-techniques-orientation-2/
LOCATION:Toronto TM Centre\, 100 Front Street West (Retail floor - below main lobby\, Toronto\, On\, M5J 1E3\, Canada
CATEGORIES:Advanced Techniques Intro,Toronto TM Centre
ORGANIZER;CN="Toronto TM Centre":MAILTO:toronto@tm.org
END:VEVENT
BEGIN:VEVENT
DTSTART;VALUE=DATE:20240615
DTEND;VALUE=DATE:20240617
DTSTAMP:20260425T072653
CREATED:20240506T155141Z
LAST-MODIFIED:20240506T155259Z
UID:10000440-1718409600-1718582399@community.ca.tm.org
SUMMARY:Advanced Techniques Course
DESCRIPTION:The TM Advanced Techniques Program offers four techniques to enrich your experience and accelerate your personal progress. \nThrough the regular practice of the Transcendental Meditation technique\, you become familiar with the experience of pure consciousness. With the Advanced Techniques\, you can go even further\, experiencing finer levels of thought and perception. As a result\, your perception becomes more enriched\, and your thoughts and actions become more powerful\, leading to greater fulfillment of your desires in daily life. \nFour Advanced Techniques are offered in a sequence developed by Maharishi. The first Advanced Technique is specifically designed to accelerate growth to higher states of consciousness\, utilizing the time of sleep to support the development of enlightenment. The following three Advanced Techniques are incorporated into your TM practice. \nIf you are beginning the Advanced Techniques program\, you will receive the Night Technique instruction on Saturday evening with a checking session on Sunday morning. \nThose continuing their course will receive instruction on Saturday afternoon\, with a checking session on Sunday afternoon. \nEmail David Shaw at dshaw@tm.org to register.
URL:https://community.ca.tm.org/event/advanced-techniques-course/
LOCATION:Toronto TM Centre\, 100 Front Street West (Retail floor - below main lobby\, Toronto\, On\, M5J 1E3\, Canada
CATEGORIES:Advanced Techniques Intro,Toronto TM Centre
ORGANIZER;CN="Toronto TM Centre":MAILTO:toronto@tm.org
END:VEVENT
END:VCALENDAR