BEGIN:VCALENDAR
VERSION:2.0
PRODID:-//TM Canada Community Hub - ECPv6.15.11//NONSGML v1.0//EN
CALSCALE:GREGORIAN
METHOD:PUBLISH
X-WR-CALNAME:TM Canada Community Hub
X-ORIGINAL-URL:https://community.ca.tm.org
X-WR-CALDESC:Events for TM Canada Community Hub
REFRESH-INTERVAL;VALUE=DURATION:PT1H
X-Robots-Tag:noindex
X-PUBLISHED-TTL:PT1H
BEGIN:VTIMEZONE
TZID:America/Toronto
BEGIN:DAYLIGHT
TZOFFSETFROM:-0500
TZOFFSETTO:-0400
TZNAME:EDT
DTSTART:20220313T070000
END:DAYLIGHT
BEGIN:STANDARD
TZOFFSETFROM:-0400
TZOFFSETTO:-0500
TZNAME:EST
DTSTART:20221106T060000
END:STANDARD
BEGIN:DAYLIGHT
TZOFFSETFROM:-0500
TZOFFSETTO:-0400
TZNAME:EDT
DTSTART:20230312T070000
END:DAYLIGHT
BEGIN:STANDARD
TZOFFSETFROM:-0400
TZOFFSETTO:-0500
TZNAME:EST
DTSTART:20231105T060000
END:STANDARD
BEGIN:DAYLIGHT
TZOFFSETFROM:-0500
TZOFFSETTO:-0400
TZNAME:EDT
DTSTART:20240310T070000
END:DAYLIGHT
BEGIN:STANDARD
TZOFFSETFROM:-0400
TZOFFSETTO:-0500
TZNAME:EST
DTSTART:20241103T060000
END:STANDARD
END:VTIMEZONE
BEGIN:VEVENT
DTSTART;TZID=America/Toronto:20231205T080000
DTEND;TZID=America/Toronto:20231205T170000
DTSTAMP:20260420T024919
CREATED:20231205T210037Z
LAST-MODIFIED:20231205T210037Z
UID:10000039-1701763200-1701795600@community.ca.tm.org
SUMMARY:One-Day TM Retreat
DESCRIPTION:Step away from your busy schedule and dedicate a day to relaxing\, recharging\, and deepening your meditation experience. \nJoin us for a One–Day Retreat and enjoy: \n\nExtended group TM practice\nAn introduction to Yoga Asanas and Pranayama (breathing exercises)\nA refresher on the core TM principles\nA nutritious vegetarian lunch\n\nCourse fee: $108 plus tax. This covers the full retreat experience\, including a catered lunch.
URL:https://community.ca.tm.org/event/one-day-tm-retreat/
LOCATION:BC\, Canada
CATEGORIES:TM Day Retreat
END:VEVENT
END:VCALENDAR