BEGIN:VCALENDAR
VERSION:2.0
PRODID:-//TM Canada Community Hub - ECPv6.15.11//NONSGML v1.0//EN
CALSCALE:GREGORIAN
METHOD:PUBLISH
X-ORIGINAL-URL:https://community.ca.tm.org
X-WR-CALDESC:Events for TM Canada Community Hub
REFRESH-INTERVAL;VALUE=DURATION:PT1H
X-Robots-Tag:noindex
X-PUBLISHED-TTL:PT1H
BEGIN:VTIMEZONE
TZID:America/Vancouver
BEGIN:DAYLIGHT
TZOFFSETFROM:-0800
TZOFFSETTO:-0700
TZNAME:PDT
DTSTART:20250309T100000
END:DAYLIGHT
BEGIN:STANDARD
TZOFFSETFROM:-0700
TZOFFSETTO:-0800
TZNAME:PST
DTSTART:20251102T090000
END:STANDARD
BEGIN:DAYLIGHT
TZOFFSETFROM:-0800
TZOFFSETTO:-0700
TZNAME:PDT
DTSTART:20260308T100000
END:DAYLIGHT
BEGIN:STANDARD
TZOFFSETFROM:-0700
TZOFFSETTO:-0800
TZNAME:PST
DTSTART:20261101T090000
END:STANDARD
BEGIN:DAYLIGHT
TZOFFSETFROM:-0800
TZOFFSETTO:-0700
TZNAME:PDT
DTSTART:20270314T100000
END:DAYLIGHT
BEGIN:STANDARD
TZOFFSETFROM:-0700
TZOFFSETTO:-0800
TZNAME:PST
DTSTART:20271107T090000
END:STANDARD
END:VTIMEZONE
BEGIN:VEVENT
DTSTART;TZID=America/Vancouver:20260205T183000
DTEND;TZID=America/Vancouver:20260205T203000
DTSTAMP:20260425T133834
CREATED:20260203T170117Z
LAST-MODIFIED:20260203T170117Z
UID:10005777-1770316200-1770323400@community.ca.tm.org
SUMMARY:Group Meditation & Knowledge Meeting
DESCRIPTION:Please join us for an in-person group meditation & knowledge meeting every Thursday\, at 6:30 pm. \nDive and Dash or come for the whole thing! The knowledge session will be led by certified TM teachers associated with the Victoria TM Centre. \n\n Each session will feature a group meditation\, an opportunity to ask questions about your practice\, and an inspiring video followed by discussion.\nWe look forward to seeing you there! \nNo registration required\, just drop in!
URL:https://community.ca.tm.org/event/group-meditation-knowledge-meeting-10/2026-02-05/
LOCATION:Victoria TM Centre\, 1842 Oak Bay Ave #202\, Victoria\, BC\, V8R 1C2\, Canada
CATEGORIES:Victoria TM Centre
ORGANIZER;CN="Victoria TM Centre":MAILTO:victoria@tm.org
END:VEVENT
BEGIN:VEVENT
DTSTART;TZID=America/Vancouver:20260206T150000
DTEND;TZID=America/Vancouver:20260208T120000
DTSTAMP:20260425T133834
CREATED:20251117T230113Z
LAST-MODIFIED:20251118T173728Z
UID:10005597-1770390000-1770552000@community.ca.tm.org
SUMMARY:TM Retreat – Salt Spring Island\, British Columbia
DESCRIPTION:Come and experience a rejuvenating TM Retreat at World Peace House on Salt Spring Island\, British Columbia. \nNestled on twenty acres of woodlands\, World Peace House offers a perfect setting for our global TM Community to participate in retreats\, knowledge courses\, and special events while enjoying panoramic views of the Salish Sea\, Gulf Islands\, and Mount Baker. \nDuring the retreat\, you will have ample opportunities to deepen your practice with an easy and relaxing routine\, extended meditation sessions\, and instruction in Yoga Asanas and Pranayama (breathing exercises). Delicious meals are served\, leaving you worry-free about your daily needs. \nCourse Fee \nTM Retreat rates vary by room. Visit worldpeacehouse.ca for more information. \nFor those who may find it difficult to attend for financial reasons\, we’re offering two Taster Retreats in January and February — short\, 2-night programs designed to make the retreat experience more accessible.\nAll rooms are offered at cost: $150/night per person (single or shared).\nNo GST\, no extra fees. \nA chance to experience the peace and depth of rest and rejuvenation — affordable\, welcoming\, and open to all sincere applicants. \nChecking in \nCheck-in times are 1:00 -3:00 PM on the arrival day\, and check-out times are by 12:00 PM on the departure day. \nHow to Register \n To register\, visit worldpeacehouse.ca and check out the course dates and availability. Choose from a variety of single\, twin\, queen\, or king guest rooms\, each with an ensuite. Rooms are limited\, and bookings are on a first-come\, first-served basis. \nLearn More and Register
URL:https://community.ca.tm.org/event/tm-retreat-salt-spring-island-british-columbia-22/
LOCATION:BC\, Canada
CATEGORIES:TM Retreat,Vancouver TM Centre,Victoria TM Centre
END:VEVENT
END:VCALENDAR