BEGIN:VCALENDAR
VERSION:2.0
PRODID:-//TM Canada Community Hub - ECPv6.15.11//NONSGML v1.0//EN
CALSCALE:GREGORIAN
METHOD:PUBLISH
X-WR-CALNAME:TM Canada Community Hub
X-ORIGINAL-URL:https://community.ca.tm.org
X-WR-CALDESC:Events for TM Canada Community Hub
REFRESH-INTERVAL;VALUE=DURATION:PT1H
X-Robots-Tag:noindex
X-PUBLISHED-TTL:PT1H
BEGIN:VTIMEZONE
TZID:America/Toronto
BEGIN:DAYLIGHT
TZOFFSETFROM:-0500
TZOFFSETTO:-0400
TZNAME:EDT
DTSTART:20230312T070000
END:DAYLIGHT
BEGIN:STANDARD
TZOFFSETFROM:-0400
TZOFFSETTO:-0500
TZNAME:EST
DTSTART:20231105T060000
END:STANDARD
BEGIN:DAYLIGHT
TZOFFSETFROM:-0500
TZOFFSETTO:-0400
TZNAME:EDT
DTSTART:20240310T070000
END:DAYLIGHT
BEGIN:STANDARD
TZOFFSETFROM:-0400
TZOFFSETTO:-0500
TZNAME:EST
DTSTART:20241103T060000
END:STANDARD
BEGIN:DAYLIGHT
TZOFFSETFROM:-0500
TZOFFSETTO:-0400
TZNAME:EDT
DTSTART:20250309T070000
END:DAYLIGHT
BEGIN:STANDARD
TZOFFSETFROM:-0400
TZOFFSETTO:-0500
TZNAME:EST
DTSTART:20251102T060000
END:STANDARD
END:VTIMEZONE
BEGIN:VEVENT
DTSTART;TZID=America/Toronto:20240602T160000
DTEND;TZID=America/Toronto:20240602T180000
DTSTAMP:20260422T044325
CREATED:20240528T193619Z
LAST-MODIFIED:20240528T193619Z
UID:10000468-1717344000-1717351200@community.ca.tm.org
SUMMARY:TM Essentials: TM Is Guided by Nature
DESCRIPTION:This session is an integral part of mastering the technique and practice of TM. \nEvery TM practitioner should attend this session early in their practice to have the critical understanding of how to prevent inserting effort and unnaturalness into the TM technique. \nThis session is only offered in person with a Certified TM Teacher and includes the following: \n\nA detailed discussion of our growing body of experiences in the light of the primary driver of transcending\nA video with Maharishi explaining aspects of forces of nature involved inside our TM practice and outside in our personal growth and evolution\nA full 20 minute group TM\nThis session helps shatter any inclination towards individual inception\, interference\, or effort in our TM technique. And helps us spontaneously live a life more in accord with all the laws of nature.\n\nBe sure to attend this Essentials session.
URL:https://community.ca.tm.org/event/tm-essentials-tm-is-guided-by-nature-10/
LOCATION:Toronto TM Centre\, 100 Front Street West (Retail floor - below main lobby\, Toronto\, On\, M5J 1E3\, Canada
CATEGORIES:TM Essentials,Toronto TM Centre
ORGANIZER;CN="Toronto TM Centre":MAILTO:toronto@tm.org
END:VEVENT
BEGIN:VEVENT
DTSTART;TZID=America/Toronto:20240602T173000
DTEND;TZID=America/Toronto:20240602T190000
DTSTAMP:20260422T044325
CREATED:20240506T154607Z
LAST-MODIFIED:20240506T155001Z
UID:10000438-1717349400-1717354800@community.ca.tm.org
SUMMARY:Advanced Techniques Orientation
DESCRIPTION:Elevate your TM practice to new heights with the TM Advanced Techniques. \nAs you practice TM regularly\, you become more familiar with the experience of pure consciousness. The Advanced Techniques take you even further\, allowing you to explore finer levels of thought and perception. This enhanced perception enriches your life\, leading to more powerful thoughts and actions and greater fulfillment of your desires in daily life. \nAdvanced Techniques Teacher David Shaw will lead the Orientation. David will explore the profound impact that the TM Advanced Techniques Program can have in unlocking your full potential. \nThe Orientation is free to attend\, and it’s a no-obligation opportunity to learn more about the higher and refined states of consciousness and the TM Advanced Techniques. \nWe’ll also have savouries\, sweets\, and refreshments. \nThe next Advanced Techniques course will be June 15-16 at the Toronto centre.
URL:https://community.ca.tm.org/event/advanced-techniques-orientation/
LOCATION:Toronto TM Centre\, 100 Front Street West (Retail floor - below main lobby\, Toronto\, On\, M5J 1E3\, Canada
CATEGORIES:Advanced Techniques Intro,Toronto TM Centre
ORGANIZER;CN="Toronto TM Centre":MAILTO:toronto@tm.org
END:VEVENT
BEGIN:VEVENT
DTSTART;TZID=America/Toronto:20240604T160000
DTEND;TZID=America/Toronto:20240604T180000
DTSTAMP:20260422T044325
CREATED:20240528T193445Z
LAST-MODIFIED:20240604T193628Z
UID:10000467-1717516800-1717524000@community.ca.tm.org
SUMMARY:TM Essentials: TM Is Guided by Nature
DESCRIPTION:This session is an integral part of mastering the technique and practice of TM. \nEvery TM practitioner should attend this session early in their practice to have the critical understanding of how to prevent inserting effort and unnaturalness into the TM technique. \nThis session is only offered in person with a Certified TM Teacher and includes the following: \n\nA detailed discussion of our growing body of experiences in the light of the primary driver of transcending\nA video with Maharishi explaining aspects of forces of nature involved inside our TM practice and outside in our personal growth and evolution\nA full 20 minute group TM\n\nThis session helps shatter any inclination towards individual inception\, interference\, or effort in our TM technique. And helps us spontaneously live a life more in accord with all the laws of nature. \nBe sure to attend this Essentials session.
URL:https://community.ca.tm.org/event/tm-essentials-tm-is-guided-by-nature-9/
LOCATION:Toronto TM Centre\, 100 Front Street West (Retail floor - below main lobby\, Toronto\, On\, M5J 1E3\, Canada
CATEGORIES:Toronto TM Centre
ORGANIZER;CN="Toronto TM Centre":MAILTO:toronto@tm.org
END:VEVENT
BEGIN:VEVENT
DTSTART;TZID=America/Toronto:20240604T173000
DTEND;TZID=America/Toronto:20240604T180000
DTSTAMP:20260422T044325
CREATED:20240528T195745Z
LAST-MODIFIED:20240528T195745Z
UID:10000477-1717522200-1717524000@community.ca.tm.org
SUMMARY:Dive & Dash: Weekly 20-Minute Group TM
DESCRIPTION:Join us each week for a 20-minute Group TM at the Toronto TM Centre. \nThe group is growing every week\, so please be sure to register so that we know there’s room for everyone. \nThe group meditation begins promptly at 5:30 pm\, so please arrive and be seated at least a few minutes ahead of time.
URL:https://community.ca.tm.org/event/dive-dash-weekly-20-minute-group-tm-18/
LOCATION:Toronto TM Centre\, 100 Front Street West (Retail floor - below main lobby\, Toronto\, On\, M5J 1E3\, Canada
CATEGORIES:Toronto TM Centre
ORGANIZER;CN="Toronto TM Centre":MAILTO:toronto@tm.org
END:VEVENT
END:VCALENDAR