BEGIN:VCALENDAR
VERSION:2.0
PRODID:-//TM Canada Community Hub - ECPv6.15.11//NONSGML v1.0//EN
CALSCALE:GREGORIAN
METHOD:PUBLISH
X-ORIGINAL-URL:https://community.ca.tm.org
X-WR-CALDESC:Events for TM Canada Community Hub
REFRESH-INTERVAL;VALUE=DURATION:PT1H
X-Robots-Tag:noindex
X-PUBLISHED-TTL:PT1H
BEGIN:VTIMEZONE
TZID:America/Toronto
BEGIN:DAYLIGHT
TZOFFSETFROM:-0500
TZOFFSETTO:-0400
TZNAME:EDT
DTSTART:20230312T070000
END:DAYLIGHT
BEGIN:STANDARD
TZOFFSETFROM:-0400
TZOFFSETTO:-0500
TZNAME:EST
DTSTART:20231105T060000
END:STANDARD
BEGIN:DAYLIGHT
TZOFFSETFROM:-0500
TZOFFSETTO:-0400
TZNAME:EDT
DTSTART:20240310T070000
END:DAYLIGHT
BEGIN:STANDARD
TZOFFSETFROM:-0400
TZOFFSETTO:-0500
TZNAME:EST
DTSTART:20241103T060000
END:STANDARD
BEGIN:DAYLIGHT
TZOFFSETFROM:-0500
TZOFFSETTO:-0400
TZNAME:EDT
DTSTART:20250309T070000
END:DAYLIGHT
BEGIN:STANDARD
TZOFFSETFROM:-0400
TZOFFSETTO:-0500
TZNAME:EST
DTSTART:20251102T060000
END:STANDARD
END:VTIMEZONE
BEGIN:VEVENT
DTSTART;TZID=America/Toronto:20240519T160000
DTEND;TZID=America/Toronto:20240519T180000
DTSTAMP:20260422T102650
CREATED:20240306T202237Z
LAST-MODIFIED:20240422T215120Z
UID:10000130-1716134400-1716141600@community.ca.tm.org
SUMMARY:TM Essentials: Accelerate Your Personal Growth
DESCRIPTION:Learn how you can accelerate your personal growth by deepening and refining your TM practice. This presentation will include an introduction to: \n\nTM Retreats (yoga\, breathing exercises\, and extended TM practice)\nAdvanced Techniques and TM-Sidhis\nTM communities to connect with other TM practitioners\n\nWe’ll also discuss the value of group TM for the individual and society and why it’s worth taking the time to join group TM sessions. \nThis talk includes video presentations by Maharishi on Advanced Techniques and TM Retreats.
URL:https://community.ca.tm.org/event/tm-essentials-accelerate-your-personal-growth-3-3/
LOCATION:Toronto TM Centre\, 100 Front Street West (Retail floor - below main lobby\, Toronto\, On\, M5J 1E3\, Canada
CATEGORIES:TM Essentials,Toronto TM Centre
ORGANIZER;CN="Toronto TM Centre":MAILTO:toronto@tm.org
END:VEVENT
BEGIN:VEVENT
DTSTART;TZID=America/Toronto:20240519T173000
DTEND;TZID=America/Toronto:20240519T190000
DTSTAMP:20260422T102650
CREATED:20240422T220842Z
LAST-MODIFIED:20240422T221044Z
UID:10000400-1716139800-1716145200@community.ca.tm.org
SUMMARY:Deep Dives: Group TM & Knowledge Session
DESCRIPTION:Join us each week for a Group TM & Knowledge session at the Toronto TM Centre. \nThe group meditation begins promptly at 5:30 pm\, with participants from our preceding TM Essentials class. \nAfter the knowledge session\, stay to enjoy some tea and refreshments. It’s a great opportunity to connect with our community of meditators.
URL:https://community.ca.tm.org/event/deep-dives-group-tm-knowledge-session-8/
LOCATION:Toronto TM Centre\, 100 Front Street West (Retail floor - below main lobby\, Toronto\, On\, M5J 1E3\, Canada
CATEGORIES:Toronto TM Centre
ORGANIZER;CN="Toronto TM Centre":MAILTO:toronto@tm.org
END:VEVENT
BEGIN:VEVENT
DTSTART;TZID=America/Toronto:20240521T173000
DTEND;TZID=America/Toronto:20240521T180000
DTSTAMP:20260422T102650
CREATED:20240422T222123Z
LAST-MODIFIED:20240422T222126Z
UID:10000404-1716312600-1716314400@community.ca.tm.org
SUMMARY:Dive & Dash: Weekly 20-Minute Group TM
DESCRIPTION:Join us each week for a 20-minute Group TM at the Toronto TM Centre. \nThe group is growing every week\, so please be sure to register so that we know there’s room for everyone. \nThe group meditation begins promptly at 5:30 pm\, so please arrive and be seated at least a few minutes ahead of time.
URL:https://community.ca.tm.org/event/dive-dash-weekly-20-minute-group-tm-3/
LOCATION:Toronto TM Centre\, 100 Front Street West (Retail floor - below main lobby\, Toronto\, On\, M5J 1E3\, Canada
CATEGORIES:Toronto TM Centre
ORGANIZER;CN="Toronto TM Centre":MAILTO:toronto@tm.org
END:VEVENT
END:VCALENDAR