BEGIN:VCALENDAR
VERSION:2.0
PRODID:-//TM Canada Community Hub - ECPv6.15.11//NONSGML v1.0//EN
CALSCALE:GREGORIAN
METHOD:PUBLISH
X-ORIGINAL-URL:https://community.ca.tm.org
X-WR-CALDESC:Events for TM Canada Community Hub
REFRESH-INTERVAL;VALUE=DURATION:PT1H
X-Robots-Tag:noindex
X-PUBLISHED-TTL:PT1H
BEGIN:VTIMEZONE
TZID:America/Toronto
BEGIN:DAYLIGHT
TZOFFSETFROM:-0500
TZOFFSETTO:-0400
TZNAME:EDT
DTSTART:20230312T070000
END:DAYLIGHT
BEGIN:STANDARD
TZOFFSETFROM:-0400
TZOFFSETTO:-0500
TZNAME:EST
DTSTART:20231105T060000
END:STANDARD
BEGIN:DAYLIGHT
TZOFFSETFROM:-0500
TZOFFSETTO:-0400
TZNAME:EDT
DTSTART:20240310T070000
END:DAYLIGHT
BEGIN:STANDARD
TZOFFSETFROM:-0400
TZOFFSETTO:-0500
TZNAME:EST
DTSTART:20241103T060000
END:STANDARD
BEGIN:DAYLIGHT
TZOFFSETFROM:-0500
TZOFFSETTO:-0400
TZNAME:EDT
DTSTART:20250309T070000
END:DAYLIGHT
BEGIN:STANDARD
TZOFFSETFROM:-0400
TZOFFSETTO:-0500
TZNAME:EST
DTSTART:20251102T060000
END:STANDARD
END:VTIMEZONE
BEGIN:VEVENT
DTSTART;TZID=America/Toronto:20240621T160000
DTEND;TZID=America/Toronto:20240623T160000
DTSTAMP:20260424T192508
CREATED:20240305T231438Z
LAST-MODIFIED:20240506T155653Z
UID:10000113-1718985600-1719158400@community.ca.tm.org
SUMMARY:Weekend TM Retreat - Niagara Falls\, Ontario
DESCRIPTION:Experience deep rest and rejuvenation over a Weekend TM Retreat. \nThis weekend course is designed to give you additional TM practice and insightful knowledge about the evolution of higher states of consciousness. \nDuring the TM Retreat\, you can experience a level of rest and rejuvenation that goes beyond what daily life typically allows. \nIt’s an excellent opportunity to deepen your meditation practice and dedicate yourself to getting maximum rest. \nOur June Weekend Retreat features James and Lynne Hea discussing “Your Consciousness Journey: Unfolding the Reality that Consciousness Is All There Is.” Explore the profound impact of consciousness on your life over a weekend dedicated to personal growth and rest. \nCourse Overview \n\nDeep rest and profound experiences through an extended TM program.\nEngaging and inspiring knowledge sessions on the development of higher states of consciousness and the growth of the heart\nInstruction in Yoga Asana (yoga postures) and Pranayama (breathing exercises).\nDelicious home-style meals from Friday evening to Sunday lunch.\n\nCourse Fee: $495 plus tax \nYour course fee covers six meals\, a two-night stay in a private room with a bathroom\, tuition\, and parking. \nLOGISTICS: \nMount Carmel Spiritual Centre is located directly across from Niagara Falls itself\, and although sometimes the trees camouflage the falls\, we can hear the falls and feel the refreshing air that it generates. \nEach person will have their own private room with a full bathroom. Most beds are twin size. There are a few rooms with full size beds. Early registrants get first choice\, by request\, as available. \nNote: Mount Carmel’s policy: rates are per person\, not per room. i.e. there is no discount for doubling up. As a TM Retreat is structured for deepest possible rest\, it is recommended that couples take advantage of this situation and occupy two rooms. \nHome-made vegetarian meals made by experienced kitchen staff famous for their good food. Special dietary requirements are available by advance request. \nTeachers for this course will be James and Lynne Hea. \nCOURSE FEE: $495 +HST per person \nYour course fee includes six meals\, two-night stays (private room with bath)\, tuition\, and parking. \nPlease register on Eventbrite. Once the course is fully booked\, you can join the wait list in case spaces open up closer to the date. \nYou can pay with your credit card online. If there is any difficulty contact Retreat Coordinator Dianne Field (dfield@tm.org) 647-2927534 \n  \nRegister & Pay
URL:https://community.ca.tm.org/event/weekend-tm-retreat-niagara-falls-2/
LOCATION:Mount Carmel Spiritual Centre
CATEGORIES:TM Retreat,Toronto TM Centre
ORGANIZER;CN="Toronto TM Centre":MAILTO:toronto@tm.org
END:VEVENT
BEGIN:VEVENT
DTSTART;TZID=America/Toronto:20240623T160000
DTEND;TZID=America/Toronto:20240623T180000
DTSTAMP:20260424T192508
CREATED:20240528T195043Z
LAST-MODIFIED:20240528T204848Z
UID:10000473-1719158400-1719165600@community.ca.tm.org
SUMMARY:TM Essentials: Discover Your Full Potential
DESCRIPTION:There is more to life than waking\, sleeping\, and dreaming. As TM practitioners we have begun to experience a fourth state of consciousness known as transcendental consciousness or samadhi.\nHowever\, that’s not the end of the story. Maharishi has delineated the knowledge of the progression of enlightenment into seven states of consciousness. \nIn this session\, Maharishi describes the hallmarks of these seven states of consciousness. He provides a concise explanation of how each state of consciousness has different qualitative changes in perception and sense of self.
URL:https://community.ca.tm.org/event/tm-essentials-discover-your-full-potential-13/
LOCATION:Toronto TM Centre\, 100 Front Street West (Retail floor - below main lobby\, Toronto\, On\, M5J 1E3\, Canada
CATEGORIES:TM Essentials,Toronto TM Centre
ORGANIZER;CN="Toronto TM Centre":MAILTO:toronto@tm.org
END:VEVENT
BEGIN:VEVENT
DTSTART;TZID=America/Toronto:20240623T173000
DTEND;TZID=America/Toronto:20240623T190000
DTSTAMP:20260424T192508
CREATED:20240528T201600Z
LAST-MODIFIED:20240528T201600Z
UID:10000489-1719163800-1719169200@community.ca.tm.org
SUMMARY:Deep Dives: Group TM & Knowledge Session
DESCRIPTION:Join us each week for a Group TM & Knowledge session at the Toronto TM Centre. \nThe group meditation begins promptly at 5:30 pm\, with participants from our preceding TM Essentials class. \nAfter the knowledge session\, stay to enjoy some tea and refreshments. It’s a great opportunity to connect with our community of meditators.
URL:https://community.ca.tm.org/event/deep-dives-group-tm-knowledge-session-13/
LOCATION:Toronto TM Centre\, 100 Front Street West (Retail floor - below main lobby\, Toronto\, On\, M5J 1E3\, Canada
CATEGORIES:Toronto TM Centre
ORGANIZER;CN="Toronto TM Centre":MAILTO:toronto@tm.org
END:VEVENT
END:VCALENDAR