BEGIN:VCALENDAR
VERSION:2.0
PRODID:-//TM Canada Community Hub - ECPv6.15.11//NONSGML v1.0//EN
CALSCALE:GREGORIAN
METHOD:PUBLISH
X-ORIGINAL-URL:https://community.ca.tm.org
X-WR-CALDESC:Events for TM Canada Community Hub
REFRESH-INTERVAL;VALUE=DURATION:PT1H
X-Robots-Tag:noindex
X-PUBLISHED-TTL:PT1H
BEGIN:VTIMEZONE
TZID:America/Toronto
BEGIN:DAYLIGHT
TZOFFSETFROM:-0500
TZOFFSETTO:-0400
TZNAME:EDT
DTSTART:20230312T070000
END:DAYLIGHT
BEGIN:STANDARD
TZOFFSETFROM:-0400
TZOFFSETTO:-0500
TZNAME:EST
DTSTART:20231105T060000
END:STANDARD
BEGIN:DAYLIGHT
TZOFFSETFROM:-0500
TZOFFSETTO:-0400
TZNAME:EDT
DTSTART:20240310T070000
END:DAYLIGHT
BEGIN:STANDARD
TZOFFSETFROM:-0400
TZOFFSETTO:-0500
TZNAME:EST
DTSTART:20241103T060000
END:STANDARD
BEGIN:DAYLIGHT
TZOFFSETFROM:-0500
TZOFFSETTO:-0400
TZNAME:EDT
DTSTART:20250309T070000
END:DAYLIGHT
BEGIN:STANDARD
TZOFFSETFROM:-0400
TZOFFSETTO:-0500
TZNAME:EST
DTSTART:20251102T060000
END:STANDARD
END:VTIMEZONE
BEGIN:VEVENT
DTSTART;TZID=America/Toronto:20240702T173000
DTEND;TZID=America/Toronto:20240702T180000
DTSTAMP:20260425T125440
CREATED:20240528T200149Z
LAST-MODIFIED:20240528T200149Z
UID:10000481-1719941400-1719943200@community.ca.tm.org
SUMMARY:Dive & Dash: Weekly 20-Minute Group TM
DESCRIPTION:Join us each week for a 20-minute Group TM at the Toronto TM Centre. \nThe group is growing every week\, so please be sure to register so that we know there’s room for everyone. \nThe group meditation begins promptly at 5:30 pm\, so please arrive and be seated at least a few minutes ahead of time.
URL:https://community.ca.tm.org/event/dive-dash-weekly-20-minute-group-tm-22/
LOCATION:Toronto TM Centre\, 100 Front Street West (Retail floor - below main lobby\, Toronto\, On\, M5J 1E3\, Canada
CATEGORIES:Toronto TM Centre
ORGANIZER;CN="Toronto TM Centre":MAILTO:toronto@tm.org
END:VEVENT
BEGIN:VEVENT
DTSTART;TZID=America/Toronto:20240706T080000
DTEND;TZID=America/Toronto:20240706T180000
DTSTAMP:20260425T125440
CREATED:20240528T190954Z
LAST-MODIFIED:20240628T202150Z
UID:10000465-1720252800-1720288800@community.ca.tm.org
SUMMARY:TM Day Retreat - Toronto TM Centre
DESCRIPTION:A TM Day Retreat nourishes your mind and body through extended meditation sessions\, rest\, knowledge sessions\, and gentle Yoga Asanas. The whole day is designed to give you the utmost in relaxation\, setting you up to return to your daily activities with renewed energy\, vitality\, and resilience. \nTM Day Retreats give you a taste of a Weekend Retreat\, where you’ll get to experience: \n\nAdditional rounds of group TM practice.\nLessons in Maharishi Yoga Asanas and Pranayama breathing exercises\, which are designed to complement your TM practice.\nInsightful knowledge sessions\, workshops\, and discussions.\nA delicious vegetarian lunch with fellow course participants.\n\nWhether you want to establish a better routine\, accelerate your growth\, or fully maximize the benefits of TM in your daily life\, even a single day at a Retreat can lead to remarkable breakthroughs in your TM practice. \nMany participants find themselves amazed by the transformative impact that even just one day at a Retreat can have on you. \nTM Day Retreat Topic \nA walk and picnic lunch down by the Waterfront – (weather permitting) \nTM Day Retreat Schedule \n8:00 – 8:15 am Arrival. Please make every effort to be on time. \n8:15 – 8:30 am Orientation \n8:30 – 12:00 pm Morning program (includes extra TM meditations\, refresher and knowledge\, and group meditation) \n12:00 – 2:00 pm Lunch\, Walk & Talk \n2:00 – 6:00 pm Afternoon program (includes knowledge videos and discussion as well as afternoon TM program) \nYour course leader will be David Shaw – 416-938-9411 \nCourse fee: \n$108 plus tax \nThe course fee includes the full day of TM and knowledge\, plus lunch. \nParking: \nIn the underground parking lot of the TD Centre\, parking is $10 for the day. Enter from York St. N\, and turn right into the alley north of the Royal York Hotel. There is a connecting door/elevator from the parking lot into the Royal York Hotel. \nWhat to wear: \nPlease bring indoor and outdoor clothing. \nIndoor – casual stretchy/comfy clothing\, so it’s easy to practice the asanas ( yoga exercises). \nOutdoor – warm clothing suitable for walking outside. \nWhat to bring: \nPlease bring a yoga mat or a blanket to lie on; otherwise\, you’ll be on the bare carpet. \nYoga Asanas: \nWe strongly encourage you to watch a Maharishi Yoga Asanas demonstration before the start of the retreat. For any questions\, please do not hesitate to contact your hosting teachers. \nRegister and Pay
URL:https://community.ca.tm.org/event/tm-day-retreat-toronto-tm-centre-3/
LOCATION:Toronto TM Centre\, 100 Front Street West (Retail floor - below main lobby\, Toronto\, On\, M5J 1E3\, Canada
CATEGORIES:TM Day Retreat,Toronto TM Centre
ORGANIZER;CN="Toronto TM Centre":MAILTO:toronto@tm.org
END:VEVENT
BEGIN:VEVENT
DTSTART;TZID=America/Toronto:20240707T160000
DTEND;TZID=America/Toronto:20240707T180000
DTSTAMP:20260425T125440
CREATED:20240528T202646Z
LAST-MODIFIED:20240528T202646Z
UID:10000494-1720368000-1720375200@community.ca.tm.org
SUMMARY:TM Essentials: TM Is Guided by Nature
DESCRIPTION:This session is an integral part of mastering the technique and practice of TM. \nEvery TM practitioner should attend this session early in their practice to have the critical understanding of how to prevent inserting effort and unnaturalness into the TM technique. \nThis session is only offered in person with a Certified TM Teacher and includes the following: \n\nA detailed discussion of our growing body of experiences in the light of the primary driver of transcending\nA video with Maharishi explaining aspects of forces of nature involved inside our TM practice and outside in our personal growth and evolution\nA full 20 minute group TM\nThis session helps shatter any inclination towards individual inception\, interference\, or effort in our TM technique. And helps us spontaneously live a life more in accord with all the laws of nature.\n\nBe sure to attend this Essentials session.
URL:https://community.ca.tm.org/event/tm-essentials-tm-is-guided-by-nature-11/
LOCATION:Toronto TM Centre\, 100 Front Street West (Retail floor - below main lobby\, Toronto\, On\, M5J 1E3\, Canada
CATEGORIES:TM Essentials,Toronto TM Centre
ORGANIZER;CN="Toronto TM Centre":MAILTO:toronto@tm.org
END:VEVENT
BEGIN:VEVENT
DTSTART;TZID=America/Toronto:20240707T173000
DTEND;TZID=America/Toronto:20240707T190000
DTSTAMP:20260425T125440
CREATED:20240528T201657Z
LAST-MODIFIED:20240628T202824Z
UID:10000490-1720373400-1720378800@community.ca.tm.org
SUMMARY:Deep Dives: Group TM & Knowledge Session
DESCRIPTION:Join us each week for a Group TM & Knowledge session at the Toronto TM Centre. \nThe group meditation begins promptly at 5:30 pm\, along with participants from our preceding TM Essentials class. \nThese sessions are a great opportunity to connect with our local community\, enjoy some tea and refreshments\, and participant in interesting knowledge discussions. \nYou’re encouraged to register so we know who to expect. \nSpecial Topic \nHave you ever wondered what the training is like to become a Teacher of Transcendental Meditation? Come join us for a group meditation and knowledge session at the Toronto TM Centre on July 7th where Ashia Fredeen\, Canada’s newest TM Teacher\, shares her experiences from her five month Teacher Training Course in Thailand. \nAshia will talk about how her experiences in her TM practice led her to becoming a TM Teacher\, which includes her time as a student at Maharishi International University in Fairfield\, Iowa. She’ll also share some pictures and stories from her Teacher Training Course in Thailand and talk about how becoming a TM Teacher is one of the best ways to accelerate your own personal growth of Consciousness. \nGroup Meditation starts at 5:30PM with the knowledge session starting at 6:00PM.
URL:https://community.ca.tm.org/event/deep-dives-group-tm-knowledge-session-14/
LOCATION:Toronto TM Centre\, 100 Front Street West (Retail floor - below main lobby\, Toronto\, On\, M5J 1E3\, Canada
CATEGORIES:Toronto TM Centre
ORGANIZER;CN="Toronto TM Centre":MAILTO:toronto@tm.org
END:VEVENT
BEGIN:VEVENT
DTSTART;TZID=America/Toronto:20240709T160000
DTEND;TZID=America/Toronto:20240709T180000
DTSTAMP:20260425T125440
CREATED:20240528T202820Z
LAST-MODIFIED:20240528T202820Z
UID:10000495-1720540800-1720548000@community.ca.tm.org
SUMMARY:TM Essentials: TM Is Guided by Nature
DESCRIPTION:This session is an integral part of mastering the technique and practice of TM. \nEvery TM practitioner should attend this session early in their practice to have the critical understanding of how to prevent inserting effort and unnaturalness into the TM technique. \nThis session is only offered in person with a Certified TM Teacher and includes the following: \n\nA detailed discussion of our growing body of experiences in the light of the primary driver of transcending\nA video with Maharishi explaining aspects of forces of nature involved inside our TM practice and outside in our personal growth and evolution\nA full 20 minute group TM\nThis session helps shatter any inclination towards individual inception\, interference\, or effort in our TM technique. And helps us spontaneously live a life more in accord with all the laws of nature.\n\nBe sure to attend this Essentials session.
URL:https://community.ca.tm.org/event/tm-essentials-tm-is-guided-by-nature-12/
LOCATION:Toronto TM Centre\, 100 Front Street West (Retail floor - below main lobby\, Toronto\, On\, M5J 1E3\, Canada
CATEGORIES:TM Essentials,Toronto TM Centre
ORGANIZER;CN="Toronto TM Centre":MAILTO:toronto@tm.org
END:VEVENT
BEGIN:VEVENT
DTSTART;TZID=America/Toronto:20240709T173000
DTEND;TZID=America/Toronto:20240709T180000
DTSTAMP:20260425T125440
CREATED:20240528T200233Z
LAST-MODIFIED:20240528T200233Z
UID:10000482-1720546200-1720548000@community.ca.tm.org
SUMMARY:Dive & Dash: Weekly 20-Minute Group TM
DESCRIPTION:Join us each week for a 20-minute Group TM at the Toronto TM Centre. \nThe group is growing every week\, so please be sure to register so that we know there’s room for everyone. \nThe group meditation begins promptly at 5:30 pm\, so please arrive and be seated at least a few minutes ahead of time.
URL:https://community.ca.tm.org/event/dive-dash-weekly-20-minute-group-tm-23/
LOCATION:Toronto TM Centre\, 100 Front Street West (Retail floor - below main lobby\, Toronto\, On\, M5J 1E3\, Canada
CATEGORIES:Toronto TM Centre
ORGANIZER;CN="Toronto TM Centre":MAILTO:toronto@tm.org
END:VEVENT
BEGIN:VEVENT
DTSTART;VALUE=DATE:20240713
DTEND;VALUE=DATE:20240715
DTSTAMP:20260425T125440
CREATED:20240628T204834Z
LAST-MODIFIED:20240628T210027Z
UID:10000758-1720828800-1721001599@community.ca.tm.org
SUMMARY:Advanced Techniques Course — Toronto TM Centre
DESCRIPTION:The TM Advanced Techniques Program offers four techniques to enrich your experience and accelerate your personal progress. \nThrough the regular practice of the Transcendental Meditation technique\, you become familiar with the experience of pure consciousness. With the Advanced Techniques\, you can go even further\, experiencing finer levels of thought and perception. As a result\, your perception becomes more enriched\, and your thoughts and actions become more powerful\, leading to greater fulfillment of your desires in daily life. \nFour Advanced Techniques are offered in a sequence developed by Maharishi. The first Advanced Technique is specifically designed to accelerate growth to higher states of consciousness\, utilizing the time of sleep to support the development of enlightenment. The following three Advanced Techniques are incorporated into your TM practice. \nIf you are beginning the Advanced Techniques program\, you will receive the Night Technique instruction on Saturday evening with a checking session on Sunday morning. \nThose continuing their course will receive instruction on Saturday afternoon\, with a checking session on Sunday afternoon. \nEmail David Shaw at dshaw@tm.org to register.
URL:https://community.ca.tm.org/event/advanced-techniques-course-2/
LOCATION:Toronto TM Centre\, 100 Front Street West (Retail floor - below main lobby\, Toronto\, On\, M5J 1E3\, Canada
CATEGORIES:Advanced Techniques Intro,Toronto TM Centre
ORGANIZER;CN="Toronto TM Centre":MAILTO:toronto@tm.org
END:VEVENT
BEGIN:VEVENT
DTSTART;TZID=America/Toronto:20240714T160000
DTEND;TZID=America/Toronto:20240714T180000
DTSTAMP:20260425T125440
CREATED:20240528T203103Z
LAST-MODIFIED:20240528T203103Z
UID:10000496-1720972800-1720980000@community.ca.tm.org
SUMMARY:TM Essentials: How to Get the Most From Your TM Practice
DESCRIPTION:Understand the factors that can influence your TM experience and help you gain the most benefits from your practice. You will learn practical tips that will help you enjoy the mental\, physical\, and emotional benefits of TM. \nThe session will culminate with an incredibly insightful talk by Maharishi\, “Love: Expansion of the Heart.” \nMaharishi weaves together a unique understanding of the body’s sensory mechanisms\, physiological reactions\, and metabolic processes related to the growth of the heart and our capacity to love. Maharishi’s talk is certain to give you a whole new perspective on the journey to higher states of consciousness. \nThis session will be particularly helpful for new and returning TM practitioners — and a great refresher for long-time practitioners.
URL:https://community.ca.tm.org/event/tm-essentials-how-to-get-the-most-from-your-tm-practice-11/
LOCATION:Toronto TM Centre\, 100 Front Street West (Retail floor - below main lobby\, Toronto\, On\, M5J 1E3\, Canada
CATEGORIES:TM Essentials,Toronto TM Centre
ORGANIZER;CN="Toronto TM Centre":MAILTO:toronto@tm.org
END:VEVENT
BEGIN:VEVENT
DTSTART;TZID=America/Toronto:20240714T173000
DTEND;TZID=America/Toronto:20240714T190000
DTSTAMP:20260425T125440
CREATED:20240528T201726Z
LAST-MODIFIED:20240528T201726Z
UID:10000491-1720978200-1720983600@community.ca.tm.org
SUMMARY:Deep Dives: Group TM & Knowledge Session
DESCRIPTION:Join us each week for a Group TM & Knowledge session at the Toronto TM Centre. \nThe group meditation begins promptly at 5:30 pm\, with participants from our preceding TM Essentials class. \nAfter the knowledge session\, stay to enjoy some tea and refreshments. It’s a great opportunity to connect with our community of meditators.
URL:https://community.ca.tm.org/event/deep-dives-group-tm-knowledge-session-15/
LOCATION:Toronto TM Centre\, 100 Front Street West (Retail floor - below main lobby\, Toronto\, On\, M5J 1E3\, Canada
CATEGORIES:Toronto TM Centre
ORGANIZER;CN="Toronto TM Centre":MAILTO:toronto@tm.org
END:VEVENT
BEGIN:VEVENT
DTSTART;TZID=America/Toronto:20240716T160000
DTEND;TZID=America/Toronto:20240716T180000
DTSTAMP:20260425T125440
CREATED:20240528T203254Z
LAST-MODIFIED:20240528T203254Z
UID:10000497-1721145600-1721152800@community.ca.tm.org
SUMMARY:TM Essentials: How to Get the Most From Your TM Practice
DESCRIPTION:Understand the factors that can influence your TM experience and help you gain the most benefits from your practice. You will learn practical tips that will help you enjoy the mental\, physical\, and emotional benefits of TM. \nThe session will culminate with an incredibly insightful talk by Maharishi\, “Love: Expansion of the Heart.” \nMaharishi weaves together a unique understanding of the body’s sensory mechanisms\, physiological reactions\, and metabolic processes related to the growth of the heart and our capacity to love. Maharishi’s talk is certain to give you a whole new perspective on the journey to higher states of consciousness. \nThis session will be particularly helpful for new and returning TM practitioners — and a great refresher for long-time practitioners.
URL:https://community.ca.tm.org/event/tm-essentials-how-to-get-the-most-from-your-tm-practice-12/
LOCATION:Toronto TM Centre\, 100 Front Street West (Retail floor - below main lobby\, Toronto\, On\, M5J 1E3\, Canada
CATEGORIES:TM Essentials,Toronto TM Centre
ORGANIZER;CN="Toronto TM Centre":MAILTO:toronto@tm.org
END:VEVENT
BEGIN:VEVENT
DTSTART;TZID=America/Toronto:20240716T173000
DTEND;TZID=America/Toronto:20240716T180000
DTSTAMP:20260425T125440
CREATED:20240528T200554Z
LAST-MODIFIED:20240528T200554Z
UID:10000484-1721151000-1721152800@community.ca.tm.org
SUMMARY:Dive & Dash: Weekly 20-Minute Group TM
DESCRIPTION:Join us each week for a 20-minute Group TM at the Toronto TM Centre. \nThe group is growing every week\, so please be sure to register so that we know there’s room for everyone. \nThe group meditation begins promptly at 5:30 pm\, so please arrive and be seated at least a few minutes ahead of time.
URL:https://community.ca.tm.org/event/dive-dash-weekly-20-minute-group-tm-25/
LOCATION:Toronto TM Centre\, 100 Front Street West (Retail floor - below main lobby\, Toronto\, On\, M5J 1E3\, Canada
CATEGORIES:Toronto TM Centre
ORGANIZER;CN="Toronto TM Centre":MAILTO:toronto@tm.org
END:VEVENT
BEGIN:VEVENT
DTSTART;TZID=America/Toronto:20240721T170000
DTEND;TZID=America/Toronto:20240721T203000
DTSTAMP:20260425T125440
CREATED:20240628T200102Z
LAST-MODIFIED:20240711T212524Z
UID:10000751-1721581200-1721593800@community.ca.tm.org
SUMMARY:Guru Purnima Celebration — Toronto TM Centre
DESCRIPTION:In the Vedic Tradition\, the source of knowledge for Transcendental Meditation\, the full moon of July is celebrated as Guru Purnima — the day of the Guru. \nOnce a year\, on the first full moon after the summer solstice\, we celebrate and honour the teachers of our tradition. In the TM organization\, we pay homage to Guru Dev\, Maharishi’s teacher. \nThe full moon symbolizes the fullness of life — Guru Dev’s teachings revived the message of living fullness of life. \nSchedule:  \n\n5:00 pm arrival\n5:30 pm group TM\n6:00 pm refreshments\, savouries and sweets (from Wanda’s Pie in the Sky).\nEntertainment – live performances by Joey Cosentino on Guitar and Waheeb Alshaar on Lute\n7:00 pm David Shaw introduces the Vedic tradition from which the TM teaching is derived. Maharishi on video speaks to the life of Guru Dev\n8:00 pm Traditional Ceremony of Gratitude\n8:30 pm – a leisure walk down to the waterfront for a view of the full moon rising on the east end of Lake Ontario\n\nPlease RSVP below. If more than one person will be attending\, please include all names.
URL:https://community.ca.tm.org/event/guru-purnima-celebration-toronto-tm-centre/
LOCATION:Toronto TM Centre\, 100 Front Street West (Retail floor - below main lobby\, Toronto\, On\, M5J 1E3\, Canada
CATEGORIES:Toronto TM Centre
ORGANIZER;CN="Toronto TM Centre":MAILTO:toronto@tm.org
END:VEVENT
BEGIN:VEVENT
DTSTART;TZID=America/Toronto:20240723T160000
DTEND;TZID=America/Toronto:20240723T180000
DTSTAMP:20260425T125440
CREATED:20240528T203513Z
LAST-MODIFIED:20240528T203513Z
UID:10000499-1721750400-1721757600@community.ca.tm.org
SUMMARY:TM Essentials: Accelerate Your Personal Growth
DESCRIPTION:Learn how you can accelerate your personal growth by deepening and refining your TM practice. This presentation will include an introduction to: \n\nTM Retreats (yoga\, breathing exercises\, and extended TM practice)\nAdvanced Techniques and TM-Sidhis\nTM communities to connect with other TM practitioners\n\nWe’ll also discuss the value of group TM for the individual and society – and why it’s worth taking the time to join group TM sessions. \nThis talk includes video presentations by Maharishi on Advanced Techniques and TM Retreats.
URL:https://community.ca.tm.org/event/tm-essentials-accelerate-your-personal-growth-13/
LOCATION:Toronto TM Centre\, 100 Front Street West (Retail floor - below main lobby\, Toronto\, On\, M5J 1E3\, Canada
CATEGORIES:Toronto TM Centre
ORGANIZER;CN="Toronto TM Centre":MAILTO:toronto@tm.org
END:VEVENT
BEGIN:VEVENT
DTSTART;TZID=America/Toronto:20240723T173000
DTEND;TZID=America/Toronto:20240723T180000
DTSTAMP:20260425T125440
CREATED:20240528T200422Z
LAST-MODIFIED:20240528T200806Z
UID:10000483-1721755800-1721757600@community.ca.tm.org
SUMMARY:Dive & Dash: Weekly 20-Minute Group TM
DESCRIPTION:Join us each week for a 20-minute Group TM at the Toronto TM Centre. \nThe group is growing every week\, so please be sure to register so that we know there’s room for everyone. \nThe group meditation begins promptly at 5:30 pm\, so please arrive and be seated at least a few minutes ahead of time.
URL:https://community.ca.tm.org/event/dive-dash-weekly-20-minute-group-tm-24/
LOCATION:Toronto TM Centre\, 100 Front Street West (Retail floor - below main lobby\, Toronto\, On\, M5J 1E3\, Canada
CATEGORIES:Toronto TM Centre
ORGANIZER;CN="Toronto TM Centre":MAILTO:toronto@tm.org
END:VEVENT
BEGIN:VEVENT
DTSTART;TZID=America/Toronto:20240728T160000
DTEND;TZID=America/Toronto:20240728T180000
DTSTAMP:20260425T125440
CREATED:20240528T203636Z
LAST-MODIFIED:20240528T205052Z
UID:10000500-1722182400-1722189600@community.ca.tm.org
SUMMARY:TM Essentials: Discover Your Full Potential
DESCRIPTION:There is more to life than waking\, sleeping\, and dreaming. As TM practitioners we have begun to experience a fourth state of consciousness known as transcendental consciousness or samadhi. \nHowever\, that’s not the end of the story. Maharishi has delineated the knowledge of the progression of enlightenment into seven states of consciousness. \nIn this session\, Maharishi describes the hallmarks of these seven states of consciousness. He provides a concise explanation of how each state of consciousness has different qualitative changes in perception and sense of self.
URL:https://community.ca.tm.org/event/tm-essentials-discover-your-full-potential-15/
LOCATION:Toronto TM Centre\, 100 Front Street West (Retail floor - below main lobby\, Toronto\, On\, M5J 1E3\, Canada
CATEGORIES:TM Essentials,Toronto TM Centre
ORGANIZER;CN="Toronto TM Centre":MAILTO:toronto@tm.org
END:VEVENT
BEGIN:VEVENT
DTSTART;TZID=America/Toronto:20240728T173000
DTEND;TZID=America/Toronto:20240728T190000
DTSTAMP:20260425T125440
CREATED:20240528T201827Z
LAST-MODIFIED:20240528T201827Z
UID:10000493-1722187800-1722193200@community.ca.tm.org
SUMMARY:Deep Dives: Group TM & Knowledge Session
DESCRIPTION:Join us each week for a Group TM & Knowledge session at the Toronto TM Centre. \nThe group meditation begins promptly at 5:30 pm\, with participants from our preceding TM Essentials class. \nAfter the knowledge session\, stay to enjoy some tea and refreshments. It’s a great opportunity to connect with our community of meditators.
URL:https://community.ca.tm.org/event/deep-dives-group-tm-knowledge-session-17/
LOCATION:Toronto TM Centre\, 100 Front Street West (Retail floor - below main lobby\, Toronto\, On\, M5J 1E3\, Canada
CATEGORIES:Toronto TM Centre
ORGANIZER;CN="Toronto TM Centre":MAILTO:toronto@tm.org
END:VEVENT
BEGIN:VEVENT
DTSTART;TZID=America/Toronto:20240730T160000
DTEND;TZID=America/Toronto:20240730T180000
DTSTAMP:20260425T125440
CREATED:20240528T203703Z
LAST-MODIFIED:20240528T204636Z
UID:10000501-1722355200-1722362400@community.ca.tm.org
SUMMARY:TM Essentials: Discover Your Full Potential
DESCRIPTION:There is more to life than waking\, sleeping\, and dreaming. As TM practitioners we have begun to experience a fourth state of consciousness known as transcendental consciousness or samadhi. \nHowever\, that’s not the end of the story. Maharishi has delineated the knowledge of the progression of enlightenment into seven states of consciousness. \nIn this session\, Maharishi describes the hallmarks of these seven states of consciousness. He provides a concise explanation of how each state of consciousness has different qualitative changes in perception and sense of self.
URL:https://community.ca.tm.org/event/tm-essentials-discover-your-full-potential-16/
LOCATION:Toronto TM Centre\, 100 Front Street West (Retail floor - below main lobby\, Toronto\, On\, M5J 1E3\, Canada
CATEGORIES:TM Essentials,Toronto TM Centre
ORGANIZER;CN="Toronto TM Centre":MAILTO:toronto@tm.org
END:VEVENT
BEGIN:VEVENT
DTSTART;TZID=America/Toronto:20240730T173000
DTEND;TZID=America/Toronto:20240730T180000
DTSTAMP:20260425T125440
CREATED:20240528T200647Z
LAST-MODIFIED:20240528T200647Z
UID:10000485-1722360600-1722362400@community.ca.tm.org
SUMMARY:Dive & Dash: Weekly 20-Minute Group TM
DESCRIPTION:Join us each week for a 20-minute Group TM at the Toronto TM Centre. \nThe group is growing every week\, so please be sure to register so that we know there’s room for everyone. \nThe group meditation begins promptly at 5:30 pm\, so please arrive and be seated at least a few minutes ahead of time.
URL:https://community.ca.tm.org/event/dive-dash-weekly-20-minute-group-tm-26/
LOCATION:Toronto TM Centre\, 100 Front Street West (Retail floor - below main lobby\, Toronto\, On\, M5J 1E3\, Canada
CATEGORIES:Toronto TM Centre
ORGANIZER;CN="Toronto TM Centre":MAILTO:toronto@tm.org
END:VEVENT
END:VCALENDAR