BEGIN:VCALENDAR
VERSION:2.0
PRODID:-//TM Canada Community Hub - ECPv6.15.11//NONSGML v1.0//EN
CALSCALE:GREGORIAN
METHOD:PUBLISH
X-WR-CALNAME:TM Canada Community Hub
X-ORIGINAL-URL:https://community.ca.tm.org
X-WR-CALDESC:Events for TM Canada Community Hub
REFRESH-INTERVAL;VALUE=DURATION:PT1H
X-Robots-Tag:noindex
X-PUBLISHED-TTL:PT1H
BEGIN:VTIMEZONE
TZID:America/Toronto
BEGIN:DAYLIGHT
TZOFFSETFROM:-0500
TZOFFSETTO:-0400
TZNAME:EDT
DTSTART:20250309T070000
END:DAYLIGHT
BEGIN:STANDARD
TZOFFSETFROM:-0400
TZOFFSETTO:-0500
TZNAME:EST
DTSTART:20251102T060000
END:STANDARD
BEGIN:DAYLIGHT
TZOFFSETFROM:-0500
TZOFFSETTO:-0400
TZNAME:EDT
DTSTART:20260308T070000
END:DAYLIGHT
BEGIN:STANDARD
TZOFFSETFROM:-0400
TZOFFSETTO:-0500
TZNAME:EST
DTSTART:20261101T060000
END:STANDARD
BEGIN:DAYLIGHT
TZOFFSETFROM:-0500
TZOFFSETTO:-0400
TZNAME:EDT
DTSTART:20270314T070000
END:DAYLIGHT
BEGIN:STANDARD
TZOFFSETFROM:-0400
TZOFFSETTO:-0500
TZNAME:EST
DTSTART:20271107T060000
END:STANDARD
END:VTIMEZONE
BEGIN:VTIMEZONE
TZID:America/Vancouver
BEGIN:DAYLIGHT
TZOFFSETFROM:-0800
TZOFFSETTO:-0700
TZNAME:PDT
DTSTART:20250309T100000
END:DAYLIGHT
BEGIN:STANDARD
TZOFFSETFROM:-0700
TZOFFSETTO:-0800
TZNAME:PST
DTSTART:20251102T090000
END:STANDARD
BEGIN:DAYLIGHT
TZOFFSETFROM:-0800
TZOFFSETTO:-0700
TZNAME:PDT
DTSTART:20260308T100000
END:DAYLIGHT
BEGIN:STANDARD
TZOFFSETFROM:-0700
TZOFFSETTO:-0800
TZNAME:PST
DTSTART:20261101T090000
END:STANDARD
BEGIN:DAYLIGHT
TZOFFSETFROM:-0800
TZOFFSETTO:-0700
TZNAME:PDT
DTSTART:20270314T100000
END:DAYLIGHT
BEGIN:STANDARD
TZOFFSETFROM:-0700
TZOFFSETTO:-0800
TZNAME:PST
DTSTART:20271107T090000
END:STANDARD
END:VTIMEZONE
BEGIN:VEVENT
DTSTART;TZID=America/Toronto:20260412T140000
DTEND;TZID=America/Toronto:20260412T143000
DTSTAMP:20260423T154901
CREATED:20250503T183647Z
LAST-MODIFIED:20251029T151503Z
UID:10001602-1776002400-1776004200@community.ca.tm.org
SUMMARY:Creating Coherence Daily Group TM
DESCRIPTION:With a TM Teacher. \nJoin us every day for a powerful online group meditation dedicated to Creating Coherence for Canada — and beyond. \nBy coming together at the same time each day\, we amplify our collective consciousness and radiate peace and harmony into the environment. As Maharishi Mahesh Yogi beautifully put it “There is one unity\, unified wholeness\, total natural law\, in the transcendental unified consciousness.” \nParticipants have expressed their gratitude and sense of connection\, making this a truly unifying experience. Please join us for 20 minutes every day\, your participation contributes to the peaceful evolution of our country and the world. \nThe event takes place everyday at 2:00 PM ET / 11:00 AM PT \nJoin Session \nPassword required to join this session. Access these sessions with the Zoom password provided to you by email from tmevents@tm.org.
URL:https://community.ca.tm.org/event/creating-coherence-daily-group-tm-18/2026-04-12/
LOCATION:Online
CATEGORIES:Online Knowledge Session
END:VEVENT
BEGIN:VEVENT
DTSTART;TZID=America/Toronto:20260412T140000
DTEND;TZID=America/Toronto:20260412T153000
DTSTAMP:20260423T154901
CREATED:20260330T141951Z
LAST-MODIFIED:20260330T141951Z
UID:10006120-1776002400-1776007800@community.ca.tm.org
SUMMARY:Diet and Digestion for Improved Health and Well-Being
DESCRIPTION:With TM Teacher Maria Rosa Papetti. \nWhat can we do through diet and nutrition to maintain good health and prevent disease? \nIn this recorded presentation\, Dr Karin Pirc and Dr Keith Wallace explore the critical roles of diet and digestion as seen through the lens of Maharishi Ayurveda. \nThey will reveal how different foods interact with our unique physiology\, particularly in relation to our doshas (vata\, pitta\, and kapha). \nThey will also provide practical recommendations tailored to nurturing health and elevating overall well-being\, guided by the principles of Ayurveda. \nBegins with a 20-minute group TM. \nJoin Session \nPassword required to join this session. Access these sessions with the Zoom password provided to you by email from tmevents@tm.org.
URL:https://community.ca.tm.org/event/diet-and-digestion-for-improved-health-and-well-being-3/
LOCATION:Online
CATEGORIES:Online Knowledge Session
END:VEVENT
BEGIN:VEVENT
DTSTART;TZID=America/Vancouver:20260412T170000
DTEND;TZID=America/Vancouver:20260412T180000
DTSTAMP:20260423T154901
CREATED:20260327T153548Z
LAST-MODIFIED:20260403T013823Z
UID:10006114-1776013200-1776016800@community.ca.tm.org
SUMMARY:Consciousness Based Education in Maharishi Schools in the United States\, Canada\, and Australia
DESCRIPTION:Join the Advanced Lecture Series for an insightful and fascinating discussion. \nJoin us for a panel discussion with insights and stories from leaders in the application of Consciousness Based Education in Maharishi Schools in the United States\, Canada\, and Australia.The panel will include Richard Beall\, PhD\, Natalie Miller\, BS and Frances Clarke\, BEc (Hons)\, DipEd \nDr. Richard Beall — Head of School Emeritus of Maharishi School in Fairfield\, IA\, United States \nDr. Richard Beall has had a distinguished 40+ year career in education. In 1981 he and his wife Andrea helped establish Maharishi School in Fairfield\, Iowa\, the first complete Preschool-Grade 12 system of Consciousness-Based Education (CBE) in the world. He has served as administrative director\, teacher\, coach\, and principal\, and Head of School for the past 17 years. \nDr. Beall earned a Masters Degree in Educational Administration and his Doctorate in Curriculum Development in 1996 at Maharishi International University. His dissertation was selected as the university’s most outstanding of the year.\nIn 2003 Dr. Beall founded Carolina International School\, an award-winning public charter school near Charlotte\, North Carolina. After guiding the school for four years\, he returned to Maharishi School in 2008 when he was appointed Head of School. In the past 17 years Dr. Beall restored the school’s boarding program and oversaw significant changes to the school culture and functioning. He is passionate about the field of education\, with special interests in individual learning differences\, global education\, and the holistic effects of developing consciousness. \nNatalie Miller\, BED — School Principal at Victoria School for Ideal Education in Victoria\, BC\, Canada \nNatalie Miller is the Principal of Victoria School for Ideal Education in Victoria\, BC\, Canada. As well\, she is a proud board member of the Maharishi Age of Enlightenment Society which includes the school\, the out of school care and as the plan unfolds will also include a high school. She is an impassioned teacher\, who fell in love with the Science of Creative Intelligence\, which she studied in the classroom over a decade ago.. As a teacher and parent\, she appreciates all that CBE offers to the community and her family. Prior to becoming Principal\, and teaching at Victoria School for Ideal Education\, Natalie worked in several private schools\, school districts\, and daycares\, nurturing and learning from students of all ages. With all of this experience\, she developed high academic standards grounded in compassion and flexibility. She is able to understand each student’s unique needs and assist them to flourish and grow. In her enjoyment of teaching Natalie leans on nature for its fundamental blueprint of knowledge\, “I believe real life samples and examples are the best teaching tools”. For this approach\, she appreciates the amount of nature and outdoor education embedded in the curriculum at Victoria School for Ideal Education. \nFrances Clarke\, BEc (Hons)\, DipEd — Principal Emeritus of Maharishi School in Reservoir\, Victoria\, Australia. \nFrances Clarke was a pioneering founder and long-serving principal of the Maharishi School in Victoria\, Australia\, where she established a curriculum focused on Consciousness-Based Education (CBE)\, including the practice of Transcendental Meditation (TM) and the Science of Creative Intelligence\, integrated with the standard Victorian curriculum. She has been recognized for fostering a calm\, stress-free learning environment. Following her retirement in 2015 the school established the Frances Clarke Scholarship\, which is available for children whose parents practice TM. \nMore recently\, Frances has worked internationally providing CBE professional development to teachers and online courses for schools and universities around the world. Frances is also developing and guiding the TM Teacher Training Course for teachers (ST-TTC) in schools where TM has been introduced. In January 2026 the second course graduated 32 TM teachers for schools in India. \nThe schedule of the Advanced Lecturers series is available in the TM App\, under Events > Online Events. \n**Note: If you would like to join a 20 minute Group Meditation please join the meeting 4:30 pm PT / 7:30 pm ET. \n\nJoin Session
URL:https://community.ca.tm.org/event/consciousness-based-education-in-maharishi-schools-in-the-united-states-canada-and-australia/
LOCATION:Online
CATEGORIES:Online Knowledge Session
END:VEVENT
BEGIN:VEVENT
DTSTART;TZID=America/Toronto:20260413T140000
DTEND;TZID=America/Toronto:20260413T143000
DTSTAMP:20260423T154901
CREATED:20250503T183647Z
LAST-MODIFIED:20251029T151503Z
UID:10001603-1776088800-1776090600@community.ca.tm.org
SUMMARY:Creating Coherence Daily Group TM
DESCRIPTION:With a TM Teacher. \nJoin us every day for a powerful online group meditation dedicated to Creating Coherence for Canada — and beyond. \nBy coming together at the same time each day\, we amplify our collective consciousness and radiate peace and harmony into the environment. As Maharishi Mahesh Yogi beautifully put it “There is one unity\, unified wholeness\, total natural law\, in the transcendental unified consciousness.” \nParticipants have expressed their gratitude and sense of connection\, making this a truly unifying experience. Please join us for 20 minutes every day\, your participation contributes to the peaceful evolution of our country and the world. \nThe event takes place everyday at 2:00 PM ET / 11:00 AM PT \nJoin Session \nPassword required to join this session. Access these sessions with the Zoom password provided to you by email from tmevents@tm.org.
URL:https://community.ca.tm.org/event/creating-coherence-daily-group-tm-18/2026-04-13/
LOCATION:Online
CATEGORIES:Online Knowledge Session
END:VEVENT
BEGIN:VEVENT
DTSTART;TZID=America/Toronto:20260414T140000
DTEND;TZID=America/Toronto:20260414T143000
DTSTAMP:20260423T154901
CREATED:20250503T183647Z
LAST-MODIFIED:20251029T151503Z
UID:10001604-1776175200-1776177000@community.ca.tm.org
SUMMARY:Creating Coherence Daily Group TM
DESCRIPTION:With a TM Teacher. \nJoin us every day for a powerful online group meditation dedicated to Creating Coherence for Canada — and beyond. \nBy coming together at the same time each day\, we amplify our collective consciousness and radiate peace and harmony into the environment. As Maharishi Mahesh Yogi beautifully put it “There is one unity\, unified wholeness\, total natural law\, in the transcendental unified consciousness.” \nParticipants have expressed their gratitude and sense of connection\, making this a truly unifying experience. Please join us for 20 minutes every day\, your participation contributes to the peaceful evolution of our country and the world. \nThe event takes place everyday at 2:00 PM ET / 11:00 AM PT \nJoin Session \nPassword required to join this session. Access these sessions with the Zoom password provided to you by email from tmevents@tm.org.
URL:https://community.ca.tm.org/event/creating-coherence-daily-group-tm-18/2026-04-14/
LOCATION:Online
CATEGORIES:Online Knowledge Session
END:VEVENT
BEGIN:VEVENT
DTSTART;TZID=America/Toronto:20260414T140000
DTEND;TZID=America/Toronto:20260414T153000
DTSTAMP:20260423T154901
CREATED:20260327T154442Z
LAST-MODIFIED:20260327T154723Z
UID:10006115-1776175200-1776180600@community.ca.tm.org
SUMMARY:Projects Dr. Nader Initiated Around the World
DESCRIPTION:With TM Teacher John Cowhig and Special Guest Raja Rafael David \nRaja Rafael David is special assistant to Dr. Tony Nader\, the leader of the global TM organization. He will explain the many projects Dr. Nader has initiated around the world\, including his meetings with Prime Minister Narendra Modi of India. \nBegins with a 20-minute group TM. \nJoin Session \nPassword required to join this session. Access these sessions with the Zoom password provided to you by email from tmevents@tm.org.
URL:https://community.ca.tm.org/event/projects-dr-nader-initiated-around-the-world/
LOCATION:Online
CATEGORIES:Online Knowledge Session
END:VEVENT
BEGIN:VEVENT
DTSTART;TZID=America/Toronto:20260415T140000
DTEND;TZID=America/Toronto:20260415T143000
DTSTAMP:20260423T154901
CREATED:20250503T183647Z
LAST-MODIFIED:20251029T151503Z
UID:10001605-1776261600-1776263400@community.ca.tm.org
SUMMARY:Creating Coherence Daily Group TM
DESCRIPTION:With a TM Teacher. \nJoin us every day for a powerful online group meditation dedicated to Creating Coherence for Canada — and beyond. \nBy coming together at the same time each day\, we amplify our collective consciousness and radiate peace and harmony into the environment. As Maharishi Mahesh Yogi beautifully put it “There is one unity\, unified wholeness\, total natural law\, in the transcendental unified consciousness.” \nParticipants have expressed their gratitude and sense of connection\, making this a truly unifying experience. Please join us for 20 minutes every day\, your participation contributes to the peaceful evolution of our country and the world. \nThe event takes place everyday at 2:00 PM ET / 11:00 AM PT \nJoin Session \nPassword required to join this session. Access these sessions with the Zoom password provided to you by email from tmevents@tm.org.
URL:https://community.ca.tm.org/event/creating-coherence-daily-group-tm-18/2026-04-15/
LOCATION:Online
CATEGORIES:Online Knowledge Session
END:VEVENT
BEGIN:VEVENT
DTSTART;TZID=America/Toronto:20260416T140000
DTEND;TZID=America/Toronto:20260416T143000
DTSTAMP:20260423T154901
CREATED:20250503T183647Z
LAST-MODIFIED:20251029T151503Z
UID:10001606-1776348000-1776349800@community.ca.tm.org
SUMMARY:Creating Coherence Daily Group TM
DESCRIPTION:With a TM Teacher. \nJoin us every day for a powerful online group meditation dedicated to Creating Coherence for Canada — and beyond. \nBy coming together at the same time each day\, we amplify our collective consciousness and radiate peace and harmony into the environment. As Maharishi Mahesh Yogi beautifully put it “There is one unity\, unified wholeness\, total natural law\, in the transcendental unified consciousness.” \nParticipants have expressed their gratitude and sense of connection\, making this a truly unifying experience. Please join us for 20 minutes every day\, your participation contributes to the peaceful evolution of our country and the world. \nThe event takes place everyday at 2:00 PM ET / 11:00 AM PT \nJoin Session \nPassword required to join this session. Access these sessions with the Zoom password provided to you by email from tmevents@tm.org.
URL:https://community.ca.tm.org/event/creating-coherence-daily-group-tm-18/2026-04-16/
LOCATION:Online
CATEGORIES:Online Knowledge Session
END:VEVENT
BEGIN:VEVENT
DTSTART;TZID=America/Toronto:20260417T140000
DTEND;TZID=America/Toronto:20260417T143000
DTSTAMP:20260423T154901
CREATED:20250503T183647Z
LAST-MODIFIED:20251029T151503Z
UID:10001607-1776434400-1776436200@community.ca.tm.org
SUMMARY:Creating Coherence Daily Group TM
DESCRIPTION:With a TM Teacher. \nJoin us every day for a powerful online group meditation dedicated to Creating Coherence for Canada — and beyond. \nBy coming together at the same time each day\, we amplify our collective consciousness and radiate peace and harmony into the environment. As Maharishi Mahesh Yogi beautifully put it “There is one unity\, unified wholeness\, total natural law\, in the transcendental unified consciousness.” \nParticipants have expressed their gratitude and sense of connection\, making this a truly unifying experience. Please join us for 20 minutes every day\, your participation contributes to the peaceful evolution of our country and the world. \nThe event takes place everyday at 2:00 PM ET / 11:00 AM PT \nJoin Session \nPassword required to join this session. Access these sessions with the Zoom password provided to you by email from tmevents@tm.org.
URL:https://community.ca.tm.org/event/creating-coherence-daily-group-tm-18/2026-04-17/
LOCATION:Online
CATEGORIES:Online Knowledge Session
END:VEVENT
BEGIN:VEVENT
DTSTART;TZID=America/Toronto:20260418T140000
DTEND;TZID=America/Toronto:20260418T143000
DTSTAMP:20260423T154901
CREATED:20250503T183647Z
LAST-MODIFIED:20251029T151503Z
UID:10001608-1776520800-1776522600@community.ca.tm.org
SUMMARY:Creating Coherence Daily Group TM
DESCRIPTION:With a TM Teacher. \nJoin us every day for a powerful online group meditation dedicated to Creating Coherence for Canada — and beyond. \nBy coming together at the same time each day\, we amplify our collective consciousness and radiate peace and harmony into the environment. As Maharishi Mahesh Yogi beautifully put it “There is one unity\, unified wholeness\, total natural law\, in the transcendental unified consciousness.” \nParticipants have expressed their gratitude and sense of connection\, making this a truly unifying experience. Please join us for 20 minutes every day\, your participation contributes to the peaceful evolution of our country and the world. \nThe event takes place everyday at 2:00 PM ET / 11:00 AM PT \nJoin Session \nPassword required to join this session. Access these sessions with the Zoom password provided to you by email from tmevents@tm.org.
URL:https://community.ca.tm.org/event/creating-coherence-daily-group-tm-18/2026-04-18/
LOCATION:Online
CATEGORIES:Online Knowledge Session
END:VEVENT
END:VCALENDAR