BEGIN:VCALENDAR
VERSION:2.0
PRODID:-//TM Canada Community Hub - ECPv6.15.11//NONSGML v1.0//EN
CALSCALE:GREGORIAN
METHOD:PUBLISH
X-WR-CALNAME:TM Canada Community Hub
X-ORIGINAL-URL:https://community.ca.tm.org
X-WR-CALDESC:Events for TM Canada Community Hub
REFRESH-INTERVAL;VALUE=DURATION:PT1H
X-Robots-Tag:noindex
X-PUBLISHED-TTL:PT1H
BEGIN:VTIMEZONE
TZID:America/Toronto
BEGIN:DAYLIGHT
TZOFFSETFROM:-0500
TZOFFSETTO:-0400
TZNAME:EDT
DTSTART:20250309T070000
END:DAYLIGHT
BEGIN:STANDARD
TZOFFSETFROM:-0400
TZOFFSETTO:-0500
TZNAME:EST
DTSTART:20251102T060000
END:STANDARD
BEGIN:DAYLIGHT
TZOFFSETFROM:-0500
TZOFFSETTO:-0400
TZNAME:EDT
DTSTART:20260308T070000
END:DAYLIGHT
BEGIN:STANDARD
TZOFFSETFROM:-0400
TZOFFSETTO:-0500
TZNAME:EST
DTSTART:20261101T060000
END:STANDARD
BEGIN:DAYLIGHT
TZOFFSETFROM:-0500
TZOFFSETTO:-0400
TZNAME:EDT
DTSTART:20270314T070000
END:DAYLIGHT
BEGIN:STANDARD
TZOFFSETFROM:-0400
TZOFFSETTO:-0500
TZNAME:EST
DTSTART:20271107T060000
END:STANDARD
END:VTIMEZONE
BEGIN:VEVENT
DTSTART;TZID=America/Toronto:20260329T140000
DTEND;TZID=America/Toronto:20260329T143000
DTSTAMP:20260423T181049
CREATED:20250503T183647Z
LAST-MODIFIED:20251029T151503Z
UID:10001588-1774792800-1774794600@community.ca.tm.org
SUMMARY:Creating Coherence Daily Group TM
DESCRIPTION:With a TM Teacher. \nJoin us every day for a powerful online group meditation dedicated to Creating Coherence for Canada — and beyond. \nBy coming together at the same time each day\, we amplify our collective consciousness and radiate peace and harmony into the environment. As Maharishi Mahesh Yogi beautifully put it “There is one unity\, unified wholeness\, total natural law\, in the transcendental unified consciousness.” \nParticipants have expressed their gratitude and sense of connection\, making this a truly unifying experience. Please join us for 20 minutes every day\, your participation contributes to the peaceful evolution of our country and the world. \nThe event takes place everyday at 2:00 PM ET / 11:00 AM PT \nJoin Session \nPassword required to join this session. Access these sessions with the Zoom password provided to you by email from tmevents@tm.org.
URL:https://community.ca.tm.org/event/creating-coherence-daily-group-tm-18/2026-03-29/
LOCATION:Online
CATEGORIES:Online Knowledge Session
END:VEVENT
BEGIN:VEVENT
DTSTART;TZID=America/Toronto:20260329T140000
DTEND;TZID=America/Toronto:20260329T153000
DTSTAMP:20260423T181049
CREATED:20260211T195650Z
LAST-MODIFIED:20260313T160412Z
UID:10006068-1774792800-1774798200@community.ca.tm.org
SUMMARY:Experience Circle — Exploring Ordinary Experiences of an Extraordinary Nature
DESCRIPTION:With TM Teachers Anne-Mareike Chu\, Mark McCooey and Special Guests Harri Aalto and Rod Falk \nOur monthly Experience Circle provides a platform for TM practitioners to share their journeys toward growth\, inner peace\, and higher states of consciousness. By learning from each other’s experiences\, we can accelerate our progress and continue to evolve. \nWe begin our session by interviewing TM practitioners who have experiences in the direction of Higher States of Consciousness so that their words might trigger a resonance with our own experiences\, which\, at times\, can seem too abstract to understand fully. \nAfter our chat with our guest\, we will enjoy conversations with our Zoom participants about their experiences in a “circle format\,” going from one person to another for a brief insight into their current experiences. \nOur special guests this week will be Harri Aalto and Rod Falk. Harri and Rod\, both Canadians by origin\, and both now living in Fairfield Iowa\, will share some beautiful experiences of Higher States of Consciousness as articulated by Maharishi. Harri is a successful artist and businessman as head of Aalto Marble Inlay\, specialty designers for marble designs\, and Rod has been a senior manager at MIU for over 30 years. Both bring their unique insights into the development of Higher States. Harri is the author of several books on this fascinating topic and speaks about Heaven with his feet firmly on the ground. Rod speaks clearly about experiences all in the context of Maharishi’s knowledge. Join us for this discussion about the field of Brahm which we seek and which also seeks us out. \nThrough this shared experience\, we can gain inspiration\, insight\, and motivation to continue on our journey toward higher states of consciousness. \nWhat one of our zoom participants has said about the Experience Circle: \n“What I like about the Experience Circle sessions is the simple\, direct descriptions of Higher States from everyday people that I respect; and not theoretical descriptions that sometimes seem so far out of reach.” \nClick on the button below to join the session on Sunday\, March 29th\, at 2pm Eastern/ 11 am Pacific for the next instalment of our monthly series. \nBegins with a 20-minute group \nJoin Session \nPassword required to join this session. Access these sessions with the Zoom password provided to you by email from tmevents@tm.org.
URL:https://community.ca.tm.org/event/experience-circle-exploring-ordinary-experiences-of-an-extraordinary-nature-22/
LOCATION:Online
CATEGORIES:Online Knowledge Session
END:VEVENT
BEGIN:VEVENT
DTSTART;TZID=America/Toronto:20260330T140000
DTEND;TZID=America/Toronto:20260330T143000
DTSTAMP:20260423T181049
CREATED:20250503T183647Z
LAST-MODIFIED:20251029T151503Z
UID:10001589-1774879200-1774881000@community.ca.tm.org
SUMMARY:Creating Coherence Daily Group TM
DESCRIPTION:With a TM Teacher. \nJoin us every day for a powerful online group meditation dedicated to Creating Coherence for Canada — and beyond. \nBy coming together at the same time each day\, we amplify our collective consciousness and radiate peace and harmony into the environment. As Maharishi Mahesh Yogi beautifully put it “There is one unity\, unified wholeness\, total natural law\, in the transcendental unified consciousness.” \nParticipants have expressed their gratitude and sense of connection\, making this a truly unifying experience. Please join us for 20 minutes every day\, your participation contributes to the peaceful evolution of our country and the world. \nThe event takes place everyday at 2:00 PM ET / 11:00 AM PT \nJoin Session \nPassword required to join this session. Access these sessions with the Zoom password provided to you by email from tmevents@tm.org.
URL:https://community.ca.tm.org/event/creating-coherence-daily-group-tm-18/2026-03-30/
LOCATION:Online
CATEGORIES:Online Knowledge Session
END:VEVENT
BEGIN:VEVENT
DTSTART;TZID=America/Toronto:20260331T140000
DTEND;TZID=America/Toronto:20260331T143000
DTSTAMP:20260423T181049
CREATED:20250503T183647Z
LAST-MODIFIED:20251029T151503Z
UID:10001590-1774965600-1774967400@community.ca.tm.org
SUMMARY:Creating Coherence Daily Group TM
DESCRIPTION:With a TM Teacher. \nJoin us every day for a powerful online group meditation dedicated to Creating Coherence for Canada — and beyond. \nBy coming together at the same time each day\, we amplify our collective consciousness and radiate peace and harmony into the environment. As Maharishi Mahesh Yogi beautifully put it “There is one unity\, unified wholeness\, total natural law\, in the transcendental unified consciousness.” \nParticipants have expressed their gratitude and sense of connection\, making this a truly unifying experience. Please join us for 20 minutes every day\, your participation contributes to the peaceful evolution of our country and the world. \nThe event takes place everyday at 2:00 PM ET / 11:00 AM PT \nJoin Session \nPassword required to join this session. Access these sessions with the Zoom password provided to you by email from tmevents@tm.org.
URL:https://community.ca.tm.org/event/creating-coherence-daily-group-tm-18/2026-03-31/
LOCATION:Online
CATEGORIES:Online Knowledge Session
END:VEVENT
BEGIN:VEVENT
DTSTART;TZID=America/Toronto:20260331T140000
DTEND;TZID=America/Toronto:20260331T153000
DTSTAMP:20260423T181049
CREATED:20260218T001626Z
LAST-MODIFIED:20260324T163926Z
UID:10006073-1774965600-1774971000@community.ca.tm.org
SUMMARY:A Journey Through 53 Years Working for the TM Organization
DESCRIPTION:With TM Teacher John Cowhig and Special Guest Rig Gelfand \nThere is a saying\, “Join the Navy and See the World\,” which often applies to TM teachers! In 1973\, Rig Gelfand began working with Maharishi in Seelisberg\, Switzerland — the former international headquarters of the Transcendental Meditation Organization. Since then\, he has assumed innumerable roles in Europe\, North America\, and Asia. \nAn Unparalleled Education: \nJoin us to hear about the priceless experiences and insights gained by taking on challenging new roles and living in different countries. Rig Gelfand: \n\nServed as Maharishi’s personal secretary from 1974 to 1975.\nTaught three teacher training courses in Switzerland from 1975 to 1979.\nSpent four years as director of housing\, overseeing our headquarters in Seelisberg and international courses with over 4\,000 course participants across 40-50 hotels in Switzerland\, France\, Germany\, and Italy—akin to running a multi-national organization.\nTaught TM in several cities in Canada\, as well as Washington D.C.\, Paris\, the Philippines\, and Hong Kong.\nHeld various positions from 1990 until 2005 at Maharishi International University (MIU)\nBecame the athletic director for the Maharishi School.\nCurrently serves as the Director of Safety and Security at MIU.\n\nRig is a gifted leader with an infectious sense of humor. Having worked with him for many of those years\, we look forward to a lively conversation\, sharing our experiences trying to ‘do the impossible:’ teaching TM around the world and reaching for Maharishi’s mandate of world peace. \nBegins with a 20-minute group TM. \nJoin Session \nPassword required to join this session. Access these sessions with the Zoom password provided to you by email from tmevents@tm.org.
URL:https://community.ca.tm.org/event/how-to-evaluate-your-health-with-special-guest-andrew-stenberg/
LOCATION:Online
CATEGORIES:Online Knowledge Session
END:VEVENT
BEGIN:VEVENT
DTSTART;TZID=America/Toronto:20260401T140000
DTEND;TZID=America/Toronto:20260401T143000
DTSTAMP:20260423T181049
CREATED:20250503T183647Z
LAST-MODIFIED:20251029T151503Z
UID:10001591-1775052000-1775053800@community.ca.tm.org
SUMMARY:Creating Coherence Daily Group TM
DESCRIPTION:With a TM Teacher. \nJoin us every day for a powerful online group meditation dedicated to Creating Coherence for Canada — and beyond. \nBy coming together at the same time each day\, we amplify our collective consciousness and radiate peace and harmony into the environment. As Maharishi Mahesh Yogi beautifully put it “There is one unity\, unified wholeness\, total natural law\, in the transcendental unified consciousness.” \nParticipants have expressed their gratitude and sense of connection\, making this a truly unifying experience. Please join us for 20 minutes every day\, your participation contributes to the peaceful evolution of our country and the world. \nThe event takes place everyday at 2:00 PM ET / 11:00 AM PT \nJoin Session \nPassword required to join this session. Access these sessions with the Zoom password provided to you by email from tmevents@tm.org.
URL:https://community.ca.tm.org/event/creating-coherence-daily-group-tm-18/2026-04-01/
LOCATION:Online
CATEGORIES:Online Knowledge Session
END:VEVENT
BEGIN:VEVENT
DTSTART;TZID=America/Toronto:20260402T140000
DTEND;TZID=America/Toronto:20260402T143000
DTSTAMP:20260423T181049
CREATED:20250503T183647Z
LAST-MODIFIED:20251029T151503Z
UID:10001592-1775138400-1775140200@community.ca.tm.org
SUMMARY:Creating Coherence Daily Group TM
DESCRIPTION:With a TM Teacher. \nJoin us every day for a powerful online group meditation dedicated to Creating Coherence for Canada — and beyond. \nBy coming together at the same time each day\, we amplify our collective consciousness and radiate peace and harmony into the environment. As Maharishi Mahesh Yogi beautifully put it “There is one unity\, unified wholeness\, total natural law\, in the transcendental unified consciousness.” \nParticipants have expressed their gratitude and sense of connection\, making this a truly unifying experience. Please join us for 20 minutes every day\, your participation contributes to the peaceful evolution of our country and the world. \nThe event takes place everyday at 2:00 PM ET / 11:00 AM PT \nJoin Session \nPassword required to join this session. Access these sessions with the Zoom password provided to you by email from tmevents@tm.org.
URL:https://community.ca.tm.org/event/creating-coherence-daily-group-tm-18/2026-04-02/
LOCATION:Online
CATEGORIES:Online Knowledge Session
END:VEVENT
BEGIN:VEVENT
DTSTART;TZID=America/Toronto:20260403T140000
DTEND;TZID=America/Toronto:20260403T143000
DTSTAMP:20260423T181049
CREATED:20250503T183647Z
LAST-MODIFIED:20251029T151503Z
UID:10001593-1775224800-1775226600@community.ca.tm.org
SUMMARY:Creating Coherence Daily Group TM
DESCRIPTION:With a TM Teacher. \nJoin us every day for a powerful online group meditation dedicated to Creating Coherence for Canada — and beyond. \nBy coming together at the same time each day\, we amplify our collective consciousness and radiate peace and harmony into the environment. As Maharishi Mahesh Yogi beautifully put it “There is one unity\, unified wholeness\, total natural law\, in the transcendental unified consciousness.” \nParticipants have expressed their gratitude and sense of connection\, making this a truly unifying experience. Please join us for 20 minutes every day\, your participation contributes to the peaceful evolution of our country and the world. \nThe event takes place everyday at 2:00 PM ET / 11:00 AM PT \nJoin Session \nPassword required to join this session. Access these sessions with the Zoom password provided to you by email from tmevents@tm.org.
URL:https://community.ca.tm.org/event/creating-coherence-daily-group-tm-18/2026-04-03/
LOCATION:Online
CATEGORIES:Online Knowledge Session
END:VEVENT
BEGIN:VEVENT
DTSTART;TZID=America/Toronto:20260404T140000
DTEND;TZID=America/Toronto:20260404T143000
DTSTAMP:20260423T181049
CREATED:20250503T183647Z
LAST-MODIFIED:20251029T151503Z
UID:10001594-1775311200-1775313000@community.ca.tm.org
SUMMARY:Creating Coherence Daily Group TM
DESCRIPTION:With a TM Teacher. \nJoin us every day for a powerful online group meditation dedicated to Creating Coherence for Canada — and beyond. \nBy coming together at the same time each day\, we amplify our collective consciousness and radiate peace and harmony into the environment. As Maharishi Mahesh Yogi beautifully put it “There is one unity\, unified wholeness\, total natural law\, in the transcendental unified consciousness.” \nParticipants have expressed their gratitude and sense of connection\, making this a truly unifying experience. Please join us for 20 minutes every day\, your participation contributes to the peaceful evolution of our country and the world. \nThe event takes place everyday at 2:00 PM ET / 11:00 AM PT \nJoin Session \nPassword required to join this session. Access these sessions with the Zoom password provided to you by email from tmevents@tm.org.
URL:https://community.ca.tm.org/event/creating-coherence-daily-group-tm-18/2026-04-04/
LOCATION:Online
CATEGORIES:Online Knowledge Session
END:VEVENT
END:VCALENDAR