BEGIN:VCALENDAR
VERSION:2.0
PRODID:-//TM Canada Community Hub - ECPv6.15.11//NONSGML v1.0//EN
CALSCALE:GREGORIAN
METHOD:PUBLISH
X-ORIGINAL-URL:https://community.ca.tm.org
X-WR-CALDESC:Events for TM Canada Community Hub
REFRESH-INTERVAL;VALUE=DURATION:PT1H
X-Robots-Tag:noindex
X-PUBLISHED-TTL:PT1H
BEGIN:VTIMEZONE
TZID:America/Toronto
BEGIN:DAYLIGHT
TZOFFSETFROM:-0500
TZOFFSETTO:-0400
TZNAME:EDT
DTSTART:20230312T070000
END:DAYLIGHT
BEGIN:STANDARD
TZOFFSETFROM:-0400
TZOFFSETTO:-0500
TZNAME:EST
DTSTART:20231105T060000
END:STANDARD
BEGIN:DAYLIGHT
TZOFFSETFROM:-0500
TZOFFSETTO:-0400
TZNAME:EDT
DTSTART:20240310T070000
END:DAYLIGHT
BEGIN:STANDARD
TZOFFSETFROM:-0400
TZOFFSETTO:-0500
TZNAME:EST
DTSTART:20241103T060000
END:STANDARD
BEGIN:DAYLIGHT
TZOFFSETFROM:-0500
TZOFFSETTO:-0400
TZNAME:EDT
DTSTART:20250309T070000
END:DAYLIGHT
BEGIN:STANDARD
TZOFFSETFROM:-0400
TZOFFSETTO:-0500
TZNAME:EST
DTSTART:20251102T060000
END:STANDARD
END:VTIMEZONE
BEGIN:VEVENT
DTSTART;TZID=America/Toronto:20240428T130000
DTEND;TZID=America/Toronto:20240428T143000
DTSTAMP:20260419T230229
CREATED:20240411T193135Z
LAST-MODIFIED:20240423T182143Z
UID:10000101-1714309200-1714314600@community.ca.tm.org
SUMMARY:Experience Circle — Exploring Ordinary Experiences of an Extraordinary Nature
DESCRIPTION:With TM Teachers Mark McCooey & Anne-Mareike Chu \nOur Experience Circle offers a unique session to listen and share personal stories of growth\, inner peace\, and the journey towards higher states of consciousness. \nEach session begins with an engaging interview with a TM Practitioner. We speak with our guest about their personal experiences of higher states of consciousness. These narratives often shed light on our own journeys\, offering new perspectives and a deeper understanding of our experiences. \nOur special guest this Sunday will be Margo Cochlan\, a TM Teacher and a long-time practitioner of the TM-Sidhis program and a career trainer\, coach\, and consultant in many areas of business. Combining the challenges of motherhood and a career\, while balancing and responding to the natural unfoldment of inner experience and growth\, Margo is a wonderful example of integration of inner and outer life. \nAfter the interview\, we transition into an interactive discussion. This is a time for participants to connect and share insights into their own experiences. \nEvery story shared within our Experience Circle not only deepens our collective understanding but also serves as a source of inspiration on our continued journey towards higher states of consciousness. \nBegins with a 20-minute group \nJoin Session \nPassword required to join this session. Access these sessions with the Zoom password provided to you by email from tmevents@tm.org.
URL:https://community.ca.tm.org/event/experience-circle-exploring-ordinary-experiences-of-an-extraordinary-nature-2/
LOCATION:Online
CATEGORIES:Online Knowledge Session
END:VEVENT
BEGIN:VEVENT
DTSTART;TZID=America/Toronto:20240502T200000
DTEND;TZID=America/Toronto:20240502T213000
DTSTAMP:20260419T230229
CREATED:20240422T225107Z
LAST-MODIFIED:20240422T225107Z
UID:10000407-1714680000-1714685400@community.ca.tm.org
SUMMARY:How to Get More Restful Sleep with Transcendental Meditation
DESCRIPTION:Join Dr Guy-Paul Gagné for a live talk exploring the benefits of Transcendental Meditation for restful sleep. \nDrawing on his extensive clinical experience and the latest scientific research\, Dr Gagné will show how Transcendental Meditation not only improves sleep quality but also acts as a cornerstone for overall well-being. \nIn this live session\, you will discover: \n\nInsights into the vital importance of sleep for wellness and longevity.\nThe science of how TM can significantly improve your sleep quality.\nPractical recommendations for getting a better night’s sleep based on the latest research.\n\nThis live introduction to TM is a great way to introduce friends and family to TM\, with Dr Gagné offering an engaging look at the science behind TM’s benefits on sleep and health. View the public event page here. \nRegistration required \nRegister
URL:https://community.ca.tm.org/event/how-to-get-more-restful-sleep-with-transcendental-meditation/
LOCATION:Online
CATEGORIES:Online Knowledge Session
END:VEVENT
END:VCALENDAR