BEGIN:VCALENDAR
VERSION:2.0
PRODID:-//TM Canada Community Hub - ECPv6.15.11//NONSGML v1.0//EN
CALSCALE:GREGORIAN
METHOD:PUBLISH
X-WR-CALNAME:TM Canada Community Hub
X-ORIGINAL-URL:https://community.ca.tm.org
X-WR-CALDESC:Events for TM Canada Community Hub
REFRESH-INTERVAL;VALUE=DURATION:PT1H
X-Robots-Tag:noindex
X-PUBLISHED-TTL:PT1H
BEGIN:VTIMEZONE
TZID:America/Toronto
BEGIN:DAYLIGHT
TZOFFSETFROM:-0500
TZOFFSETTO:-0400
TZNAME:EDT
DTSTART:20230312T070000
END:DAYLIGHT
BEGIN:STANDARD
TZOFFSETFROM:-0400
TZOFFSETTO:-0500
TZNAME:EST
DTSTART:20231105T060000
END:STANDARD
BEGIN:DAYLIGHT
TZOFFSETFROM:-0500
TZOFFSETTO:-0400
TZNAME:EDT
DTSTART:20240310T070000
END:DAYLIGHT
BEGIN:STANDARD
TZOFFSETFROM:-0400
TZOFFSETTO:-0500
TZNAME:EST
DTSTART:20241103T060000
END:STANDARD
BEGIN:DAYLIGHT
TZOFFSETFROM:-0500
TZOFFSETTO:-0400
TZNAME:EDT
DTSTART:20250309T070000
END:DAYLIGHT
BEGIN:STANDARD
TZOFFSETFROM:-0400
TZOFFSETTO:-0500
TZNAME:EST
DTSTART:20251102T060000
END:STANDARD
END:VTIMEZONE
BEGIN:VEVENT
DTSTART;TZID=America/Toronto:20240317T130000
DTEND;TZID=America/Toronto:20240317T143000
DTSTAMP:20260423T194724
CREATED:20240206T213059Z
LAST-MODIFIED:20240305T162103Z
UID:10000078-1710680400-1710685800@community.ca.tm.org
SUMMARY:How to Supercharge Your Spring Routine
DESCRIPTION:With TM Teacher Dianne Field. \nLearn how to improve your health and establish balance in your physiology with the changing seasons. \nWe’ll explore the benefits of a spring detox recommended by Maharishi Ayurveda to counteract imbalances that can accumulate during the winter months. \nHost Dianne Field will share practical and easy-to-implement adjustments to your daily routine and diet that will set the stage for a vibrant and healthy spring and summer. \nTake Maharishi Ayurveda’s Dosha quiz at the link below to gain insight into your dominant doshas (Vata\, Pitta\, and Kapha) in your physiology. \nTake the Dosha quiz. https://mapi.com/pages/dosha-quiz-landing \nBegins with a 20-minute group TM. \nJoin Session \nPassword required to join this session. Access these sessions with the Zoom password provided to you by email from tmevents@tm.org.
URL:https://community.ca.tm.org/event/how-to-supercharge-your-spring-routine/
LOCATION:Online
CATEGORIES:Online Knowledge Session
END:VEVENT
END:VCALENDAR