BEGIN:VCALENDAR
VERSION:2.0
PRODID:-//TM Canada Community Hub - ECPv6.15.11//NONSGML v1.0//EN
CALSCALE:GREGORIAN
METHOD:PUBLISH
X-ORIGINAL-URL:https://community.ca.tm.org
X-WR-CALDESC:Events for TM Canada Community Hub
REFRESH-INTERVAL;VALUE=DURATION:PT1H
X-Robots-Tag:noindex
X-PUBLISHED-TTL:PT1H
BEGIN:VTIMEZONE
TZID:America/Toronto
BEGIN:DAYLIGHT
TZOFFSETFROM:-0500
TZOFFSETTO:-0400
TZNAME:EDT
DTSTART:20240310T070000
END:DAYLIGHT
BEGIN:STANDARD
TZOFFSETFROM:-0400
TZOFFSETTO:-0500
TZNAME:EST
DTSTART:20241103T060000
END:STANDARD
BEGIN:DAYLIGHT
TZOFFSETFROM:-0500
TZOFFSETTO:-0400
TZNAME:EDT
DTSTART:20250309T070000
END:DAYLIGHT
BEGIN:STANDARD
TZOFFSETFROM:-0400
TZOFFSETTO:-0500
TZNAME:EST
DTSTART:20251102T060000
END:STANDARD
BEGIN:DAYLIGHT
TZOFFSETFROM:-0500
TZOFFSETTO:-0400
TZNAME:EDT
DTSTART:20260308T070000
END:DAYLIGHT
BEGIN:STANDARD
TZOFFSETFROM:-0400
TZOFFSETTO:-0500
TZNAME:EST
DTSTART:20261101T060000
END:STANDARD
END:VTIMEZONE
BEGIN:VEVENT
DTSTART;TZID=America/Toronto:20251209T140000
DTEND;TZID=America/Toronto:20251209T143000
DTSTAMP:20260422T172202
CREATED:20250503T183647Z
LAST-MODIFIED:20251029T151503Z
UID:10001478-1765288800-1765290600@community.ca.tm.org
SUMMARY:Creating Coherence Daily Group TM
DESCRIPTION:With a TM Teacher. \nJoin us every day for a powerful online group meditation dedicated to Creating Coherence for Canada — and beyond. \nBy coming together at the same time each day\, we amplify our collective consciousness and radiate peace and harmony into the environment. As Maharishi Mahesh Yogi beautifully put it “There is one unity\, unified wholeness\, total natural law\, in the transcendental unified consciousness.” \nParticipants have expressed their gratitude and sense of connection\, making this a truly unifying experience. Please join us for 20 minutes every day\, your participation contributes to the peaceful evolution of our country and the world. \nThe event takes place everyday at 2:00 PM ET / 11:00 AM PT \nJoin Session \nPassword required to join this session. Access these sessions with the Zoom password provided to you by email from tmevents@tm.org.
URL:https://community.ca.tm.org/event/creating-coherence-daily-group-tm-18/2025-12-09/
LOCATION:Online
CATEGORIES:Online Knowledge Session
END:VEVENT
BEGIN:VEVENT
DTSTART;TZID=America/Toronto:20251209T140000
DTEND;TZID=America/Toronto:20251209T143000
DTSTAMP:20260422T172202
CREATED:20250503T191354Z
LAST-MODIFIED:20250503T192724Z
UID:10003309-1765288800-1765290600@community.ca.tm.org
SUMMARY:Méditation de groupe quotidienne  pour créer de la cohérence
DESCRIPTION:Avec le professeur de MT  \nJoignez-vous à nous chaque jour pour une puissante méditation de groupe en ligne dédiée à la Création de Cohérence pour le Canada — et au-delà. \nEn nous réunissant chaque jour à la même heure\, nous amplifions notre conscience collective et rayonnons la paix et l’harmonie dans l’environnement. Comme l’a magnifiquement dit Maharishi Mahesh Yogi\, « il n’y a qu’une unité\, une totalité unifiée\, une loi naturelle totale\, dans la conscience unifiée transcendantale ». \nLes participants ont exprimé leur gratitude et leur sentiment de solidarité\, ce qui en fait une expérience véritablement unificatrice. Joignez-vous à nous pendant 20 minutes chaque jour\, votre participation contribue à l’évolution pacifique de notre pays et du monde. \nL’événement a lieu tous les jours à 14h00 ET / 11h00 PT. \nJoindre la séance\nMot de passe requis pour participer à cette séance. Accédez à ces séances avec le mot de passe Zoom qui vous a été communiqué par courriel par tmevents@tm.org
URL:https://community.ca.tm.org/event/meditation-de-groupe-quotidienne-pour-creer-de-la-coherence-3-6/2025-12-09/
LOCATION:BC
CATEGORIES:Online Knowledge Session – French
END:VEVENT
BEGIN:VEVENT
DTSTART;TZID=America/Toronto:20251209T140000
DTEND;TZID=America/Toronto:20251209T153000
DTSTAMP:20260422T172202
CREATED:20251202T181211Z
LAST-MODIFIED:20251204T152842Z
UID:10005630-1765288800-1765294200@community.ca.tm.org
SUMMARY:Veda and Vedic Sounds are the Inner Reality of Your Life
DESCRIPTION:With TM Teacher John Cowhig and Special Guest Dr. Keith Wegman \nThe Veda and Vedic literature are the sounds or vibratory impulses of the universal field of consciousness that can be experienced deep within everyone\, at the most settled level of our minds. \nReading the Vedic literature in sequence effortlessly trains the brain and the whole physiology of speech to function in the most orderly way\, so that every thought\, speech\, and action enjoys the full support of nature — the intelligence that upholds order and evolution in the entire universe. \nIn this context\, Dr. Wegman will introduce us to the Sanskrit language — the language of Nature — and show us the value of reading and listening to the Vedic literature in Sanskrit: a technique in itself to develop higher states of consciousness. \nThe perfect orderliness of the Vedic language\, Maharishi explains\, “creates orderliness and balance in the brain\, expands memory\, and purifies the body. When one recites the Vedic language\, the brain functions from more silent levels\, bringing peace and harmony to the mind and awakening deeper levels of consciousness.” \nDr. Wegman received his Ph.D. in Maharishi Vedic Science in 2004 and his MA in Science of Creative Intelligence in 1993\, both from Maharishi International University (MIU). He obtained a BA in Philosophy/Art from St. Olaf College in 1991. He has taught numerous undergraduate and graduate-level courses in Sanskrit and Maharishi Vedic Science and has researched and lectured in these subjects around the world for the last 25 years. \nDr. Wegman is the Director of the Masters program in Consciousness and Human Potential at MIU\, and the Director of TM instruction at the Raj Ayurveda Health Spa in Fairfield\, Iowa\, where he lives with his wife Sankari and their two children Jayanta and Uma. \nBegins with a 20-minute group TM. \nJoin Session \nPassword required to join this session. Access these sessions with the Zoom password provided to you by email from tmevents@tm.org.
URL:https://community.ca.tm.org/event/veda-and-vedic-sounds-are-the-inner-reality-of-your-life/
LOCATION:Online
CATEGORIES:Online Knowledge Session
END:VEVENT
BEGIN:VEVENT
DTSTART;TZID=America/Toronto:20251209T173000
DTEND;TZID=America/Toronto:20251209T180000
DTSTAMP:20260422T172202
CREATED:20251117T193722Z
LAST-MODIFIED:20251117T193722Z
UID:10005586-1765301400-1765303200@community.ca.tm.org
SUMMARY:Dive & Dash: Weekly 20-Minute Group TM
DESCRIPTION:Join us each week for a 20-minute Group TM at the Toronto TM Centre. \nThe group is growing every week\, so please be sure to register so that we know there’s room for everyone. \nThe group meditation begins promptly at 5:30 pm\, so please arrive and be seated at least a few minutes ahead of time.
URL:https://community.ca.tm.org/event/dive-dash-weekly-20-minute-group-tm-161/
LOCATION:Toronto TM Centre\, 100 Front Street West (Retail floor - below main lobby\, Toronto\, On\, M5J 1E3\, Canada
CATEGORIES:Toronto TM Centre
ORGANIZER;CN="Toronto TM Centre":MAILTO:toronto@tm.org
END:VEVENT
END:VCALENDAR