BEGIN:VCALENDAR
VERSION:2.0
PRODID:-//TM Canada Community Hub - ECPv6.15.11//NONSGML v1.0//EN
CALSCALE:GREGORIAN
METHOD:PUBLISH
X-WR-CALNAME:TM Canada Community Hub
X-ORIGINAL-URL:https://community.ca.tm.org
X-WR-CALDESC:Events for TM Canada Community Hub
REFRESH-INTERVAL;VALUE=DURATION:PT1H
X-Robots-Tag:noindex
X-PUBLISHED-TTL:PT1H
BEGIN:VTIMEZONE
TZID:America/Toronto
BEGIN:DAYLIGHT
TZOFFSETFROM:-0500
TZOFFSETTO:-0400
TZNAME:EDT
DTSTART:20240310T070000
END:DAYLIGHT
BEGIN:STANDARD
TZOFFSETFROM:-0400
TZOFFSETTO:-0500
TZNAME:EST
DTSTART:20241103T060000
END:STANDARD
BEGIN:DAYLIGHT
TZOFFSETFROM:-0500
TZOFFSETTO:-0400
TZNAME:EDT
DTSTART:20250309T070000
END:DAYLIGHT
BEGIN:STANDARD
TZOFFSETFROM:-0400
TZOFFSETTO:-0500
TZNAME:EST
DTSTART:20251102T060000
END:STANDARD
BEGIN:DAYLIGHT
TZOFFSETFROM:-0500
TZOFFSETTO:-0400
TZNAME:EDT
DTSTART:20260308T070000
END:DAYLIGHT
BEGIN:STANDARD
TZOFFSETFROM:-0400
TZOFFSETTO:-0500
TZNAME:EST
DTSTART:20261101T060000
END:STANDARD
END:VTIMEZONE
BEGIN:VEVENT
DTSTART;TZID=America/Toronto:20251207T140000
DTEND;TZID=America/Toronto:20251207T143000
DTSTAMP:20260420T074541
CREATED:20250503T183647Z
LAST-MODIFIED:20251029T151503Z
UID:10001476-1765116000-1765117800@community.ca.tm.org
SUMMARY:Creating Coherence Daily Group TM
DESCRIPTION:With a TM Teacher. \nJoin us every day for a powerful online group meditation dedicated to Creating Coherence for Canada — and beyond. \nBy coming together at the same time each day\, we amplify our collective consciousness and radiate peace and harmony into the environment. As Maharishi Mahesh Yogi beautifully put it “There is one unity\, unified wholeness\, total natural law\, in the transcendental unified consciousness.” \nParticipants have expressed their gratitude and sense of connection\, making this a truly unifying experience. Please join us for 20 minutes every day\, your participation contributes to the peaceful evolution of our country and the world. \nThe event takes place everyday at 2:00 PM ET / 11:00 AM PT \nJoin Session \nPassword required to join this session. Access these sessions with the Zoom password provided to you by email from tmevents@tm.org.
URL:https://community.ca.tm.org/event/creating-coherence-daily-group-tm-18/2025-12-07/
LOCATION:Online
CATEGORIES:Online Knowledge Session
END:VEVENT
BEGIN:VEVENT
DTSTART;TZID=America/Toronto:20251207T140000
DTEND;TZID=America/Toronto:20251207T143000
DTSTAMP:20260420T074541
CREATED:20250503T191354Z
LAST-MODIFIED:20250503T192724Z
UID:10003307-1765116000-1765117800@community.ca.tm.org
SUMMARY:Méditation de groupe quotidienne  pour créer de la cohérence
DESCRIPTION:Avec le professeur de MT  \nJoignez-vous à nous chaque jour pour une puissante méditation de groupe en ligne dédiée à la Création de Cohérence pour le Canada — et au-delà. \nEn nous réunissant chaque jour à la même heure\, nous amplifions notre conscience collective et rayonnons la paix et l’harmonie dans l’environnement. Comme l’a magnifiquement dit Maharishi Mahesh Yogi\, « il n’y a qu’une unité\, une totalité unifiée\, une loi naturelle totale\, dans la conscience unifiée transcendantale ». \nLes participants ont exprimé leur gratitude et leur sentiment de solidarité\, ce qui en fait une expérience véritablement unificatrice. Joignez-vous à nous pendant 20 minutes chaque jour\, votre participation contribue à l’évolution pacifique de notre pays et du monde. \nL’événement a lieu tous les jours à 14h00 ET / 11h00 PT. \nJoindre la séance\nMot de passe requis pour participer à cette séance. Accédez à ces séances avec le mot de passe Zoom qui vous a été communiqué par courriel par tmevents@tm.org
URL:https://community.ca.tm.org/event/meditation-de-groupe-quotidienne-pour-creer-de-la-coherence-3-6/2025-12-07/
LOCATION:BC
CATEGORIES:Online Knowledge Session – French
END:VEVENT
BEGIN:VEVENT
DTSTART;TZID=America/Toronto:20251207T140000
DTEND;TZID=America/Toronto:20251207T153000
DTSTAMP:20260420T074541
CREATED:20251201T195808Z
LAST-MODIFIED:20251201T195808Z
UID:10005627-1765116000-1765121400@community.ca.tm.org
SUMMARY:The Difference Between Cosmic Consciousness and God Consciousness
DESCRIPTION:With TM Teacher James Hea. \nOur perception of the world around us grows and evolves as we grow in our experiences of enlightenment. \nIn this session\, featuring a video lecture by Maharishi\, we will explore this growth of perception that comes with the development of higher states of consciousness. \nWith our regular practice of TM\, our experience of the inner Self becomes more and more present during daily life. This leads to a greater sense of fulfillment during our daily activity\, such as pursuing our passions\, working\, and spending time with loved ones. \nMoving from Cosmic to God Consciousness\, we perceive and appreciate the world more and more\, while maintaining the experience of the Self. \nUltimately\, this growth and refinement in perception culminates in the experience of Unity Consciousness\, where everything is as unified within the Self.  \nJoin Session \nPassword required to join this session. Access these sessions with the Zoom password provided to you by email from tmevents@tm.org.
URL:https://community.ca.tm.org/event/the-difference-between-cosmic-consciousness-and-god-consciousness-3/
LOCATION:Online
CATEGORIES:Online Knowledge Session
END:VEVENT
BEGIN:VEVENT
DTSTART;TZID=America/Toronto:20251207T160000
DTEND;TZID=America/Toronto:20251207T180000
DTSTAMP:20260420T074541
CREATED:20251117T200737Z
LAST-MODIFIED:20251117T200737Z
UID:10005591-1765123200-1765130400@community.ca.tm.org
SUMMARY:Toronto TM Essentials: TM Is Guided by Nature
DESCRIPTION:This session is an integral part of mastering the technique and practice of TM. \nEvery TM practitioner should attend this session early in their practice to have the critical understanding of how to prevent inserting effort and unnaturalness into the TM technique. \nThis session is only offered in person with a Certified TM Teacher and includes the following: \n\nA detailed discussion of our growing body of experiences in the light of the primary driver of transcending\nA video with Maharishi explaining aspects of forces of nature involved inside our TM practice and outside in our personal growth and evolution\nA full 20 minute group TM\n\nThis session helps shatter any inclination towards individual inception\, interference\, or effort in our TM technique. And helps us spontaneously live a life more in accord with all the laws of nature. \nBe sure to attend this Essentials session.
URL:https://community.ca.tm.org/event/toronto-tm-essentials-tm-is-guided-by-nature-18/
LOCATION:Toronto TM Centre\, 100 Front Street West (Retail floor - below main lobby\, Toronto\, On\, M5J 1E3\, Canada
CATEGORIES:Toronto TM Centre
ORGANIZER;CN="Toronto TM Centre":MAILTO:toronto@tm.org
END:VEVENT
BEGIN:VEVENT
DTSTART;TZID=America/Toronto:20251207T170000
DTEND;TZID=America/Toronto:20251207T193000
DTSTAMP:20260420T074541
CREATED:20251117T191404Z
LAST-MODIFIED:20251117T191404Z
UID:10005580-1765126800-1765135800@community.ca.tm.org
SUMMARY:Winter Celebration at the Mississauga TM Centre
DESCRIPTION:Don’t miss our winter celebration potluck at the Mississauga TM Centre this December. \nThe evening will start with a group meditation at 5:15pm\, followed by a delightful potluck dinner and an inspiring talk. \nPlease RSVP by December 4th by emailing Helen Engleson-Law at hengelsonlaw@tm.org. \nWhen you RSVP\, please mention the vegetarian dish you plan to bring. \nWe look forward to celebrating this festive season and enjoying a wonderful meal together.
URL:https://community.ca.tm.org/event/winter-celebration-at-the-mississauga-tm-centre-2/
LOCATION:Mississauga TM Centre
CATEGORIES:Mississauga TM Centre
END:VEVENT
BEGIN:VEVENT
DTSTART;TZID=America/Toronto:20251207T173000
DTEND;TZID=America/Toronto:20251207T190000
DTSTAMP:20260420T074541
CREATED:20251117T224420Z
LAST-MODIFIED:20251117T224420Z
UID:10005593-1765128600-1765134000@community.ca.tm.org
SUMMARY:Deep Dives: Group TM & Knowledge Session
DESCRIPTION:Join us each week for a Group TM & Knowledge session at the Toronto TM Centre. \nThe group meditation begins promptly at 5:30 pm\, with participants from our preceding TM Essentials class. \nAfter the knowledge session\, stay to enjoy some tea and refreshments. It’s a great opportunity to connect with our community of meditators.
URL:https://community.ca.tm.org/event/deep-dives-group-tm-knowledge-session-84/
LOCATION:Toronto TM Centre\, 100 Front Street West (Retail floor - below main lobby\, Toronto\, On\, M5J 1E3\, Canada
CATEGORIES:Toronto TM Centre
ORGANIZER;CN="Toronto TM Centre":MAILTO:toronto@tm.org
END:VEVENT
END:VCALENDAR