BEGIN:VCALENDAR
VERSION:2.0
PRODID:-//TM Canada Community Hub - ECPv6.15.11//NONSGML v1.0//EN
CALSCALE:GREGORIAN
METHOD:PUBLISH
X-WR-CALNAME:TM Canada Community Hub
X-ORIGINAL-URL:https://community.ca.tm.org
X-WR-CALDESC:Events for TM Canada Community Hub
REFRESH-INTERVAL;VALUE=DURATION:PT1H
X-Robots-Tag:noindex
X-PUBLISHED-TTL:PT1H
BEGIN:VTIMEZONE
TZID:America/Toronto
BEGIN:DAYLIGHT
TZOFFSETFROM:-0500
TZOFFSETTO:-0400
TZNAME:EDT
DTSTART:20240310T070000
END:DAYLIGHT
BEGIN:STANDARD
TZOFFSETFROM:-0400
TZOFFSETTO:-0500
TZNAME:EST
DTSTART:20241103T060000
END:STANDARD
BEGIN:DAYLIGHT
TZOFFSETFROM:-0500
TZOFFSETTO:-0400
TZNAME:EDT
DTSTART:20250309T070000
END:DAYLIGHT
BEGIN:STANDARD
TZOFFSETFROM:-0400
TZOFFSETTO:-0500
TZNAME:EST
DTSTART:20251102T060000
END:STANDARD
BEGIN:DAYLIGHT
TZOFFSETFROM:-0500
TZOFFSETTO:-0400
TZNAME:EDT
DTSTART:20260308T070000
END:DAYLIGHT
BEGIN:STANDARD
TZOFFSETFROM:-0400
TZOFFSETTO:-0500
TZNAME:EST
DTSTART:20261101T060000
END:STANDARD
END:VTIMEZONE
BEGIN:VEVENT
DTSTART;TZID=America/Toronto:20251107T140000
DTEND;TZID=America/Toronto:20251107T143000
DTSTAMP:20260420T074545
CREATED:20250503T183647Z
LAST-MODIFIED:20251029T151503Z
UID:10001446-1762524000-1762525800@community.ca.tm.org
SUMMARY:Creating Coherence Daily Group TM
DESCRIPTION:With a TM Teacher. \nJoin us every day for a powerful online group meditation dedicated to Creating Coherence for Canada — and beyond. \nBy coming together at the same time each day\, we amplify our collective consciousness and radiate peace and harmony into the environment. As Maharishi Mahesh Yogi beautifully put it “There is one unity\, unified wholeness\, total natural law\, in the transcendental unified consciousness.” \nParticipants have expressed their gratitude and sense of connection\, making this a truly unifying experience. Please join us for 20 minutes every day\, your participation contributes to the peaceful evolution of our country and the world. \nThe event takes place everyday at 2:00 PM ET / 11:00 AM PT \nJoin Session \nPassword required to join this session. Access these sessions with the Zoom password provided to you by email from tmevents@tm.org.
URL:https://community.ca.tm.org/event/creating-coherence-daily-group-tm-18/2025-11-07/
LOCATION:Online
CATEGORIES:Online Knowledge Session
END:VEVENT
BEGIN:VEVENT
DTSTART;TZID=America/Toronto:20251107T140000
DTEND;TZID=America/Toronto:20251107T143000
DTSTAMP:20260420T074545
CREATED:20250503T191354Z
LAST-MODIFIED:20250503T192724Z
UID:10003277-1762524000-1762525800@community.ca.tm.org
SUMMARY:Méditation de groupe quotidienne  pour créer de la cohérence
DESCRIPTION:Avec le professeur de MT  \nJoignez-vous à nous chaque jour pour une puissante méditation de groupe en ligne dédiée à la Création de Cohérence pour le Canada — et au-delà. \nEn nous réunissant chaque jour à la même heure\, nous amplifions notre conscience collective et rayonnons la paix et l’harmonie dans l’environnement. Comme l’a magnifiquement dit Maharishi Mahesh Yogi\, « il n’y a qu’une unité\, une totalité unifiée\, une loi naturelle totale\, dans la conscience unifiée transcendantale ». \nLes participants ont exprimé leur gratitude et leur sentiment de solidarité\, ce qui en fait une expérience véritablement unificatrice. Joignez-vous à nous pendant 20 minutes chaque jour\, votre participation contribue à l’évolution pacifique de notre pays et du monde. \nL’événement a lieu tous les jours à 14h00 ET / 11h00 PT. \nJoindre la séance\nMot de passe requis pour participer à cette séance. Accédez à ces séances avec le mot de passe Zoom qui vous a été communiqué par courriel par tmevents@tm.org
URL:https://community.ca.tm.org/event/meditation-de-groupe-quotidienne-pour-creer-de-la-coherence-3-6/2025-11-07/
LOCATION:BC
CATEGORIES:Online Knowledge Session – French
END:VEVENT
BEGIN:VEVENT
DTSTART;TZID=America/Toronto:20251107T160000
DTEND;TZID=America/Toronto:20251109T160000
DTSTAMP:20260420T074545
CREATED:20240919T174107Z
LAST-MODIFIED:20251103T185848Z
UID:10000937-1762531200-1762704000@community.ca.tm.org
SUMMARY:TM Retreat - Niagara Falls\, Ontario
DESCRIPTION:Experience deep rest and rejuvenation over a Weekend TM Retreat. \nThis weekend course is designed to give you additional TM practice and insightful knowledge about the evolution of higher states of consciousness. \nDuring the TM Retreat\, you can experience a level of rest and rejuvenation that goes beyond what daily life typically allows. \nIt’s an excellent opportunity to deepen your meditation practice and dedicate yourself to getting maximum rest. \nCourse Overview \n\nDeep rest and profound experiences through an extended TM program.\nEngaging and inspiring knowledge sessions on the development of higher states of consciousness and the growth of the heart\nInstruction in Yoga Asana (yoga postures) and Pranayama (breathing exercises).\nAn introduction to Vedic concepts\, including the rhythms for our individual body types (doshas) and biological clocks.\nDelicious home-style meals from Friday evening to Sunday lunch.\n\nLOGISTICS: \nMount Carmel Spiritual Centre is located directly across from Niagara Falls itself\, and although sometimes the trees camouflage the falls\, we can hear the falls and feel the refreshing air that it generates. \nEach person will have their own private room with a full bathroom. Most beds are twin size. There are a few rooms with full size beds. Early registrants get first choice\, by request\, as available. \nNote: Mount Carmel’s policy: rates are per person\, not per room. i.e. there is no discount for doubling up. As a TM Retreat is structured for deepest possible rest\, it is recommended that couples take advantage of this situation and occupy two rooms. \nHome-made vegetarian meals made by experienced kitchen staff famous for their good food. Special dietary requirements are available by advance request. \nCourse leaders \nDavid Shaw and Special Guest Suzanne Murton \nTheme: Live Well and Live Long \nOur course leaders will host a series of seminars and workshops that draw the best and most practical insights\, practices and skills from Maharishi’s revival of the intersecting Vedic knowledge systems of Yog (the 4th system of Indian Philosophy of direct perception) and Ayurved (one of the principle UpaVedas focused on Ayus – longevity). \nOur special guest\, Suzanne Murton\, a long time Ayurvedic practitioner and TM teacher will lead the workshops on the Ayurvedic understanding doshas and in particular how to balance the doshas through the sense of smell. \nYou can learn the core principles of aromatherapy as well as learn how to determine your individual dosha and the subtleties of imbalances. Suzanne will introduce the range of Maharishi Aromatherapy essential oils that you can sample and test to see what brings greater balance and capacity to your overall well-being. \nYou will leave the weekend rested\, refreshed and inspired – with a greater understanding and ability to craft your own unique daily routine (dinacharya) to enjoy 200% value of life. \nCOURSE FEE: $495 +HST per person \nYour course fee includes six meals\, two night stays (private room with bath)\, tuition\, and parking. \nRegistration and payment:  \nPlease complete this application form after registering\, and “Submit.” Once your application is received and processed\, we will send a confirmation along with your invoice for the retreat.  \nWe look forward to hosting you during your stay. \nDavid and Suzanne \nRegisterThank you for your registration.×There was an error trying to send your message. Please try again later.×
URL:https://community.ca.tm.org/event/tm-retreat-niagara-falls-ontario-4/
LOCATION:Mount Carmel Spiritual Centre
CATEGORIES:Mississauga TM Centre,TM Retreat,Toronto TM Centre
END:VEVENT
END:VCALENDAR