BEGIN:VCALENDAR
VERSION:2.0
PRODID:-//TM Canada Community Hub - ECPv6.15.11//NONSGML v1.0//EN
CALSCALE:GREGORIAN
METHOD:PUBLISH
X-ORIGINAL-URL:https://community.ca.tm.org
X-WR-CALDESC:Events for TM Canada Community Hub
REFRESH-INTERVAL;VALUE=DURATION:PT1H
X-Robots-Tag:noindex
X-PUBLISHED-TTL:PT1H
BEGIN:VTIMEZONE
TZID:America/Toronto
BEGIN:DAYLIGHT
TZOFFSETFROM:-0500
TZOFFSETTO:-0400
TZNAME:EDT
DTSTART:20240310T070000
END:DAYLIGHT
BEGIN:STANDARD
TZOFFSETFROM:-0400
TZOFFSETTO:-0500
TZNAME:EST
DTSTART:20241103T060000
END:STANDARD
BEGIN:DAYLIGHT
TZOFFSETFROM:-0500
TZOFFSETTO:-0400
TZNAME:EDT
DTSTART:20250309T070000
END:DAYLIGHT
BEGIN:STANDARD
TZOFFSETFROM:-0400
TZOFFSETTO:-0500
TZNAME:EST
DTSTART:20251102T060000
END:STANDARD
BEGIN:DAYLIGHT
TZOFFSETFROM:-0500
TZOFFSETTO:-0400
TZNAME:EDT
DTSTART:20260308T070000
END:DAYLIGHT
BEGIN:STANDARD
TZOFFSETFROM:-0400
TZOFFSETTO:-0500
TZNAME:EST
DTSTART:20261101T060000
END:STANDARD
END:VTIMEZONE
BEGIN:VEVENT
DTSTART;TZID=America/Toronto:20251102T140000
DTEND;TZID=America/Toronto:20251102T143000
DTSTAMP:20260423T095322
CREATED:20250503T183647Z
LAST-MODIFIED:20251029T151503Z
UID:10001441-1762092000-1762093800@community.ca.tm.org
SUMMARY:Creating Coherence Daily Group TM
DESCRIPTION:With a TM Teacher. \nJoin us every day for a powerful online group meditation dedicated to Creating Coherence for Canada — and beyond. \nBy coming together at the same time each day\, we amplify our collective consciousness and radiate peace and harmony into the environment. As Maharishi Mahesh Yogi beautifully put it “There is one unity\, unified wholeness\, total natural law\, in the transcendental unified consciousness.” \nParticipants have expressed their gratitude and sense of connection\, making this a truly unifying experience. Please join us for 20 minutes every day\, your participation contributes to the peaceful evolution of our country and the world. \nThe event takes place everyday at 2:00 PM ET / 11:00 AM PT \nJoin Session \nPassword required to join this session. Access these sessions with the Zoom password provided to you by email from tmevents@tm.org.
URL:https://community.ca.tm.org/event/creating-coherence-daily-group-tm-18/2025-11-02/
LOCATION:Online
CATEGORIES:Online Knowledge Session
END:VEVENT
BEGIN:VEVENT
DTSTART;TZID=America/Toronto:20251102T140000
DTEND;TZID=America/Toronto:20251102T143000
DTSTAMP:20260423T095323
CREATED:20250503T191354Z
LAST-MODIFIED:20250503T192724Z
UID:10003272-1762092000-1762093800@community.ca.tm.org
SUMMARY:Méditation de groupe quotidienne  pour créer de la cohérence
DESCRIPTION:Avec le professeur de MT  \nJoignez-vous à nous chaque jour pour une puissante méditation de groupe en ligne dédiée à la Création de Cohérence pour le Canada — et au-delà. \nEn nous réunissant chaque jour à la même heure\, nous amplifions notre conscience collective et rayonnons la paix et l’harmonie dans l’environnement. Comme l’a magnifiquement dit Maharishi Mahesh Yogi\, « il n’y a qu’une unité\, une totalité unifiée\, une loi naturelle totale\, dans la conscience unifiée transcendantale ». \nLes participants ont exprimé leur gratitude et leur sentiment de solidarité\, ce qui en fait une expérience véritablement unificatrice. Joignez-vous à nous pendant 20 minutes chaque jour\, votre participation contribue à l’évolution pacifique de notre pays et du monde. \nL’événement a lieu tous les jours à 14h00 ET / 11h00 PT. \nJoindre la séance\nMot de passe requis pour participer à cette séance. Accédez à ces séances avec le mot de passe Zoom qui vous a été communiqué par courriel par tmevents@tm.org
URL:https://community.ca.tm.org/event/meditation-de-groupe-quotidienne-pour-creer-de-la-coherence-3-6/2025-11-02/
LOCATION:BC
CATEGORIES:Online Knowledge Session – French
END:VEVENT
BEGIN:VEVENT
DTSTART;TZID=America/Toronto:20251102T140000
DTEND;TZID=America/Toronto:20251102T153000
DTSTAMP:20260423T095323
CREATED:20251020T164051Z
LAST-MODIFIED:20251020T164051Z
UID:10005524-1762092000-1762097400@community.ca.tm.org
SUMMARY:The Cone of Silence – A Scientific View of the Transcendent and Life in Enlightenment
DESCRIPTION:With TM Teacher Dianne Field. \nLearn about the exciting parallels between modern physics and ancient Vedic knowledge. In this recorded presentation\, John Hagelin\, PhD\, will guide us through the  finer levels of transcendental experience. Dr Hagelin will present the “cone of silence\,” a visual diagram\, or map\, of the transcendent. \nEmbark on this journey of growth towards enlightenment with a guide knowledgeable of both modern objective science and ancient subjective knowledge. \nDr. Hagelin is a renowned quantum physicist\, educator\, author\, and leading proponent of peace. He has conducted pioneering research at CERN (the European Organization for Nuclear Research) and the Stanford Linear Accelerator Center. He is responsible for the development of a highly successful grand unified field theory based on the superstring. Dr. Hagelin is also head of the TM organization in the United States. \nBegins with a 20-minute group TM. \nJoin Session \nPassword required to join this session. Access these sessions with the Zoom password provided to you by email from tmevents@tm.org.
URL:https://community.ca.tm.org/event/the-cone-of-silence-a-scientific-view-of-the-transcendent-and-life-in-enlightenment-2/
LOCATION:Online
CATEGORIES:Online Knowledge Session
END:VEVENT
BEGIN:VEVENT
DTSTART;TZID=America/Toronto:20251102T160000
DTEND;TZID=America/Toronto:20251102T180000
DTSTAMP:20260423T095323
CREATED:20250928T205210Z
LAST-MODIFIED:20250928T205210Z
UID:10005474-1762099200-1762106400@community.ca.tm.org
SUMMARY:Toronto TM Essentials: TM Is Guided by Nature
DESCRIPTION:This session is an integral part of mastering the technique and practice of TM. \nEvery TM practitioner should attend this session early in their practice to have the critical understanding of how to prevent inserting effort and unnaturalness into the TM technique. \nThis session is only offered in person with a Certified TM Teacher and includes the following: \n\nA detailed discussion of our growing body of experiences in the light of the primary driver of transcending\nA video with Maharishi explaining aspects of forces of nature involved inside our TM practice and outside in our personal growth and evolution\nA full 20 minute group TM\n\nThis session helps shatter any inclination towards individual inception\, interference\, or effort in our TM technique. And helps us spontaneously live a life more in accord with all the laws of nature. \nBe sure to attend this Essentials session.
URL:https://community.ca.tm.org/event/toronto-tm-essentials-tm-is-guided-by-nature-16/
LOCATION:Toronto TM Centre\, 100 Front Street West (Retail floor - below main lobby\, Toronto\, On\, M5J 1E3\, Canada
CATEGORIES:Toronto TM Centre
ORGANIZER;CN="Toronto TM Centre":MAILTO:toronto@tm.org
END:VEVENT
BEGIN:VEVENT
DTSTART;TZID=America/Toronto:20251102T173000
DTEND;TZID=America/Toronto:20251102T190000
DTSTAMP:20260423T095323
CREATED:20250928T204952Z
LAST-MODIFIED:20250928T204952Z
UID:10005472-1762104600-1762110000@community.ca.tm.org
SUMMARY:Deep Dives: Group TM & Knowledge Session
DESCRIPTION:Join us each week for a Group TM & Knowledge session at the Toronto TM Centre. \nThe group meditation begins promptly at 5:30 pm\, with participants from our preceding TM Essentials class. \nAfter the knowledge session\, stay to enjoy some tea and refreshments. It’s a great opportunity to connect with our community of meditators.
URL:https://community.ca.tm.org/event/deep-dives-group-tm-knowledge-session-78/
LOCATION:Toronto TM Centre\, 100 Front Street West (Retail floor - below main lobby\, Toronto\, On\, M5J 1E3\, Canada
CATEGORIES:Toronto TM Centre
ORGANIZER;CN="Toronto TM Centre":MAILTO:toronto@tm.org
END:VEVENT
END:VCALENDAR