BEGIN:VCALENDAR
VERSION:2.0
PRODID:-//TM Canada Community Hub - ECPv6.15.11//NONSGML v1.0//EN
CALSCALE:GREGORIAN
METHOD:PUBLISH
X-ORIGINAL-URL:https://community.ca.tm.org
X-WR-CALDESC:Events for TM Canada Community Hub
REFRESH-INTERVAL;VALUE=DURATION:PT1H
X-Robots-Tag:noindex
X-PUBLISHED-TTL:PT1H
BEGIN:VTIMEZONE
TZID:America/Toronto
BEGIN:DAYLIGHT
TZOFFSETFROM:-0500
TZOFFSETTO:-0400
TZNAME:EDT
DTSTART:20240310T070000
END:DAYLIGHT
BEGIN:STANDARD
TZOFFSETFROM:-0400
TZOFFSETTO:-0500
TZNAME:EST
DTSTART:20241103T060000
END:STANDARD
BEGIN:DAYLIGHT
TZOFFSETFROM:-0500
TZOFFSETTO:-0400
TZNAME:EDT
DTSTART:20250309T070000
END:DAYLIGHT
BEGIN:STANDARD
TZOFFSETFROM:-0400
TZOFFSETTO:-0500
TZNAME:EST
DTSTART:20251102T060000
END:STANDARD
BEGIN:DAYLIGHT
TZOFFSETFROM:-0500
TZOFFSETTO:-0400
TZNAME:EDT
DTSTART:20260308T070000
END:DAYLIGHT
BEGIN:STANDARD
TZOFFSETFROM:-0400
TZOFFSETTO:-0500
TZNAME:EST
DTSTART:20261101T060000
END:STANDARD
END:VTIMEZONE
BEGIN:VEVENT
DTSTART;TZID=America/Toronto:20251019T110000
DTEND;TZID=America/Toronto:20251019T123000
DTSTAMP:20260424T121323
CREATED:20250917T191501Z
LAST-MODIFIED:20250917T191501Z
UID:10005446-1760871600-1760877000@community.ca.tm.org
SUMMARY:Maharishi Yoga Asanas Instruction
DESCRIPTION:Led by Maharishi International University faculty. \nLearn Maharishi Yoga Asanas and Pranayama to promote the integration of mind\, body\, and spirit. \nDesigned to be practiced before your Transcendental Meditation\, Yoga Asanas are a gentle series of postures to complement your meditation. They help to remove stress\, strengthen flexibility\, improve health\, and prepare your body for TM. \nPranayama\, a breathing exercise\, helps to settle the body and mind for an even deeper TM experience. \nIn this class you will learn: \n\nMaharishi Yoga Asana postures\nPranayama\, deep breathing exercises\nHow to integrate Asanas and Pranayama into your daily routine\n\nWhether you’re completely new to yoga or an advanced practitioner\, this class will give you the instruction you need to add the Maharishi Yoga Asanas to your TM routine.  \nRequirements: \n\nInstruction in Transcendental Meditation\nComfortable sports or yoga clothes\nA yoga mat or thick blanket\nA settled environment\n\nThis 1-hour class will be followed by a 20-minute online group TM \nAt this time\, this class is being offered as a free service. \n► Register here \nWatch a recording here.
URL:https://community.ca.tm.org/event/maharishi-yoga-asanas-instruction-145/
LOCATION:Online
CATEGORIES:Yoga Asana Demo
END:VEVENT
BEGIN:VEVENT
DTSTART;TZID=America/Toronto:20251019T140000
DTEND;TZID=America/Toronto:20251019T143000
DTSTAMP:20260424T121323
CREATED:20250503T183647Z
LAST-MODIFIED:20251029T151503Z
UID:10001427-1760882400-1760884200@community.ca.tm.org
SUMMARY:Creating Coherence Daily Group TM
DESCRIPTION:With a TM Teacher. \nJoin us every day for a powerful online group meditation dedicated to Creating Coherence for Canada — and beyond. \nBy coming together at the same time each day\, we amplify our collective consciousness and radiate peace and harmony into the environment. As Maharishi Mahesh Yogi beautifully put it “There is one unity\, unified wholeness\, total natural law\, in the transcendental unified consciousness.” \nParticipants have expressed their gratitude and sense of connection\, making this a truly unifying experience. Please join us for 20 minutes every day\, your participation contributes to the peaceful evolution of our country and the world. \nThe event takes place everyday at 2:00 PM ET / 11:00 AM PT \nJoin Session \nPassword required to join this session. Access these sessions with the Zoom password provided to you by email from tmevents@tm.org.
URL:https://community.ca.tm.org/event/creating-coherence-daily-group-tm-18/2025-10-19/
LOCATION:Online
CATEGORIES:Online Knowledge Session
END:VEVENT
BEGIN:VEVENT
DTSTART;TZID=America/Toronto:20251019T140000
DTEND;TZID=America/Toronto:20251019T143000
DTSTAMP:20260424T121323
CREATED:20250503T191354Z
LAST-MODIFIED:20250503T192724Z
UID:10003258-1760882400-1760884200@community.ca.tm.org
SUMMARY:Méditation de groupe quotidienne  pour créer de la cohérence
DESCRIPTION:Avec le professeur de MT  \nJoignez-vous à nous chaque jour pour une puissante méditation de groupe en ligne dédiée à la Création de Cohérence pour le Canada — et au-delà. \nEn nous réunissant chaque jour à la même heure\, nous amplifions notre conscience collective et rayonnons la paix et l’harmonie dans l’environnement. Comme l’a magnifiquement dit Maharishi Mahesh Yogi\, « il n’y a qu’une unité\, une totalité unifiée\, une loi naturelle totale\, dans la conscience unifiée transcendantale ». \nLes participants ont exprimé leur gratitude et leur sentiment de solidarité\, ce qui en fait une expérience véritablement unificatrice. Joignez-vous à nous pendant 20 minutes chaque jour\, votre participation contribue à l’évolution pacifique de notre pays et du monde. \nL’événement a lieu tous les jours à 14h00 ET / 11h00 PT. \nJoindre la séance\nMot de passe requis pour participer à cette séance. Accédez à ces séances avec le mot de passe Zoom qui vous a été communiqué par courriel par tmevents@tm.org
URL:https://community.ca.tm.org/event/meditation-de-groupe-quotidienne-pour-creer-de-la-coherence-3-6/2025-10-19/
LOCATION:BC
CATEGORIES:Online Knowledge Session – French
END:VEVENT
BEGIN:VEVENT
DTSTART;TZID=America/Toronto:20251019T140000
DTEND;TZID=America/Toronto:20251019T153000
DTSTAMP:20260424T121323
CREATED:20250928T215835Z
LAST-MODIFIED:20250928T215835Z
UID:10005504-1760882400-1760887800@community.ca.tm.org
SUMMARY:Progress vs Pressure
DESCRIPTION:With TM Teacher Ashia Freedeen . \nIn this session\, Bob Roth and Mario Orsatti discuss how maintaining calmness in the face of pressure allows for maximum progress in life. They discuss the concepts of calm\, pressure\, and progress as it relates to the significant neurophysiological and psychological improvements gained through the regular practice of TM.  \nThey will comment on a video where Maharishi gives his insight that for maximum progress in our life\, dynamic activity supported by silence is required — not passive calmness. The silence regularly experienced through TM creates a change in neurophysiological functioning over time that transforms pressure into progress. \nA live discussion and Q&A with certified TM teachers will follow the pre-recorded video presentation. \nBegins with a 20-minute group TM. \nJoin Session \nPassword required to join this session. Access these sessions with the Zoom password provided to you by email from tmevents@tm.org.
URL:https://community.ca.tm.org/event/progress-vs-pressure-2/
LOCATION:Online
CATEGORIES:Online Knowledge Session
END:VEVENT
BEGIN:VEVENT
DTSTART;TZID=America/Toronto:20251019T160000
DTEND;TZID=America/Toronto:20251019T180000
DTSTAMP:20260424T121323
CREATED:20250911T221643Z
LAST-MODIFIED:20250928T202713Z
UID:10005419-1760889600-1760896800@community.ca.tm.org
SUMMARY:Toronto TM Essentials: Accelerate Your Personal Growth
DESCRIPTION:Learn how you can accelerate your personal growth by deepening and refining your TM practice. This presentation will include an introduction to: \n\nTM Retreats (yoga\, breathing exercises\, and extended TM practice)\nAdvanced Techniques and TM-Sidhis\nTM communities to connect with other TM practitioners\n\nWe’ll also discuss the value of group TM for the individual and society – and why it’s worth taking the time to join group TM sessions. \nThis talk includes video presentations by Maharishi on Advanced Techniques and TM Retreats.
URL:https://community.ca.tm.org/event/toronto-tm-essentials-accelerate-your-personal-growth-14/
LOCATION:Toronto TM Centre\, 100 Front Street West (Retail floor - below main lobby\, Toronto\, On\, M5J 1E3\, Canada
CATEGORIES:Advanced Techniques Intro,Toronto TM Centre
ORGANIZER;CN="Toronto TM Centre":MAILTO:toronto@tm.org
END:VEVENT
BEGIN:VEVENT
DTSTART;TZID=America/Toronto:20251019T173000
DTEND;TZID=America/Toronto:20251019T190000
DTSTAMP:20260424T121323
CREATED:20250928T204600Z
LAST-MODIFIED:20250928T204600Z
UID:10005470-1760895000-1760900400@community.ca.tm.org
SUMMARY:Deep Dives: Group TM & Knowledge Session
DESCRIPTION:Join us each week for a Group TM & Knowledge session at the Toronto TM Centre. \nThe group meditation begins promptly at 5:30 pm\, with participants from our preceding TM Essentials class. \nAfter the knowledge session\, stay to enjoy some tea and refreshments. It’s a great opportunity to connect with our community of meditators.
URL:https://community.ca.tm.org/event/deep-dives-group-tm-knowledge-session-76/
LOCATION:Toronto TM Centre\, 100 Front Street West (Retail floor - below main lobby\, Toronto\, On\, M5J 1E3\, Canada
CATEGORIES:Toronto TM Centre
ORGANIZER;CN="Toronto TM Centre":MAILTO:toronto@tm.org
END:VEVENT
END:VCALENDAR