BEGIN:VCALENDAR
VERSION:2.0
PRODID:-//TM Canada Community Hub - ECPv6.15.11//NONSGML v1.0//EN
CALSCALE:GREGORIAN
METHOD:PUBLISH
X-ORIGINAL-URL:https://community.ca.tm.org
X-WR-CALDESC:Events for TM Canada Community Hub
REFRESH-INTERVAL;VALUE=DURATION:PT1H
X-Robots-Tag:noindex
X-PUBLISHED-TTL:PT1H
BEGIN:VTIMEZONE
TZID:America/Vancouver
BEGIN:DAYLIGHT
TZOFFSETFROM:-0800
TZOFFSETTO:-0700
TZNAME:PDT
DTSTART:20230312T100000
END:DAYLIGHT
BEGIN:STANDARD
TZOFFSETFROM:-0700
TZOFFSETTO:-0800
TZNAME:PST
DTSTART:20231105T090000
END:STANDARD
BEGIN:DAYLIGHT
TZOFFSETFROM:-0800
TZOFFSETTO:-0700
TZNAME:PDT
DTSTART:20240310T100000
END:DAYLIGHT
BEGIN:STANDARD
TZOFFSETFROM:-0700
TZOFFSETTO:-0800
TZNAME:PST
DTSTART:20241103T090000
END:STANDARD
BEGIN:DAYLIGHT
TZOFFSETFROM:-0800
TZOFFSETTO:-0700
TZNAME:PDT
DTSTART:20250309T100000
END:DAYLIGHT
BEGIN:STANDARD
TZOFFSETFROM:-0700
TZOFFSETTO:-0800
TZNAME:PST
DTSTART:20251102T090000
END:STANDARD
END:VTIMEZONE
BEGIN:VEVENT
DTSTART;TZID=America/Vancouver:20241121T183000
DTEND;TZID=America/Vancouver:20241121T203000
DTSTAMP:20260425T204153
CREATED:20241107T014210Z
LAST-MODIFIED:20241107T043042Z
UID:10000983-1732213800-1732221000@community.ca.tm.org
SUMMARY:In-Person Group Meditation & Knowledge Meeting
DESCRIPTION:Led by Joe Truscott\, Certified TM Teacher\n\nTopic: What is the nature of experiences of Cosmic Consciousness?\n\nPlease join us for an in-person group meditation & knowledge meeting on Thursday\, November 21 at 6:30 pm at the Victoria TM Centre. Each session will feature a group meditation\, an opportunity to ask questions about your practice\, and an inspiring video followed by discussion.\nWe look forward to seeing you there! \nNo registration required\, just drop in!
URL:https://community.ca.tm.org/event/in-person-group-meditation-knowledge-meeting-12/
LOCATION:Victoria TM Centre\, 1842 Oak Bay Ave #202\, Victoria\, BC\, V8R 1C2\, Canada
CATEGORIES:Victoria TM Centre
ORGANIZER;CN="Victoria TM Centre":MAILTO:victoria@tm.org
END:VEVENT
BEGIN:VEVENT
DTSTART;TZID=America/Vancouver:20241121T190000
DTEND;TZID=America/Vancouver:20241121T203000
DTSTAMP:20260425T204153
CREATED:20241108T164713Z
LAST-MODIFIED:20241108T164713Z
UID:10000992-1732215600-1732221000@community.ca.tm.org
SUMMARY:In-Person Group Meditation & Knowledge and Experience Meeting
DESCRIPTION:With Deboragh Varnel\, Certified TM Teacher \nPlease join us for an in-person group meditation & knowledge and experience meeting  on Thursday\, November 21 at 7:00 pm in Port Coquitlam. Each session begins with a full  20-minute group meditation. \nTopic: Personal Relationships \nIn a lecture from 3 July\, 1971 in Amherst\, Massachusetts\, Maharishi offers deep insights into creating fulfilling friendships\, marriages and all personal relationships. \nDuring the group meditation you’ll experience deeper\, more settled meditations than meditating on your own. \nMeet new friends and enjoy inspiring knowledge sessions featuring talks from Maharishi\, Dr. Tony Nader and other leaders in the worldwide TM organization. \nSeating is limited and a reservation is required. Please reserve your spot below. \nYou’ll receive a confirmation email with further instructions to enter the building. \nEnjoy this opportunity to meet other meditators and deepen your understanding  of your TM practice. You’ll leave feeling connected\, inspired\, and informed! \nWe look forward to seeing you there!
URL:https://community.ca.tm.org/event/in-person-group-meditation-knowledge-and-experience-meeting-5/
LOCATION:Tri-City Business Centre\, 2850 Shaughnessy St\, Port Coquitlam\, BC\, V3C 6K5\, Canada
CATEGORIES:Coquitlam TM Centre
ORGANIZER;CN="Coquitlam TM Centre":MAILTO:coquitlam@tm.org
END:VEVENT
END:VCALENDAR