BEGIN:VCALENDAR
VERSION:2.0
PRODID:-//TM Canada Community Hub - ECPv6.15.11//NONSGML v1.0//EN
CALSCALE:GREGORIAN
METHOD:PUBLISH
X-WR-CALNAME:TM Canada Community Hub
X-ORIGINAL-URL:https://community.ca.tm.org
X-WR-CALDESC:Events for TM Canada Community Hub
REFRESH-INTERVAL;VALUE=DURATION:PT1H
X-Robots-Tag:noindex
X-PUBLISHED-TTL:PT1H
BEGIN:VTIMEZONE
TZID:America/Vancouver
BEGIN:DAYLIGHT
TZOFFSETFROM:-0800
TZOFFSETTO:-0700
TZNAME:PDT
DTSTART:20230312T100000
END:DAYLIGHT
BEGIN:STANDARD
TZOFFSETFROM:-0700
TZOFFSETTO:-0800
TZNAME:PST
DTSTART:20231105T090000
END:STANDARD
BEGIN:DAYLIGHT
TZOFFSETFROM:-0800
TZOFFSETTO:-0700
TZNAME:PDT
DTSTART:20240310T100000
END:DAYLIGHT
BEGIN:STANDARD
TZOFFSETFROM:-0700
TZOFFSETTO:-0800
TZNAME:PST
DTSTART:20241103T090000
END:STANDARD
BEGIN:DAYLIGHT
TZOFFSETFROM:-0800
TZOFFSETTO:-0700
TZNAME:PDT
DTSTART:20250309T100000
END:DAYLIGHT
BEGIN:STANDARD
TZOFFSETFROM:-0700
TZOFFSETTO:-0800
TZNAME:PST
DTSTART:20251102T090000
END:STANDARD
END:VTIMEZONE
BEGIN:VEVENT
DTSTART;TZID=America/Vancouver:20240731T184500
DTEND;TZID=America/Vancouver:20240731T203000
DTSTAMP:20260425T100502
CREATED:20240625T132623Z
LAST-MODIFIED:20240729T234424Z
UID:10000740-1722451500-1722457800@community.ca.tm.org
SUMMARY:Refresher & Inspiration Session
DESCRIPTION:Are you looking to revitalize your Transcendental Meditation practice? Our TM Refresher Classes are the perfect opportunity to deepen your understanding of TM and get back on track if you’ve fallen out of a consistent meditation routine. \nOur Refresher Classes include a comprehensive review of the dos and don’ts of TM and provide you with a solid foundation to ensure you practice correctly and regularly. \nIn addition to reviewing fundamental TM principles\, you’ll have the opportunity to ask any questions and receive personalized guidance to enhance your practice. The session includes a full 10-minute group TM session.
URL:https://community.ca.tm.org/event/refresher-inspiration-session-3/
LOCATION:Vancouver TM Centre\, 328 West 8th Avenue\, Vancouver\, BC\, V5Y 3X2\, Canada
CATEGORIES:Vancouver TM Centre
ORGANIZER;CN="Vancouver TM Centre":MAILTO:vancouver@tm.org
END:VEVENT
END:VCALENDAR