BEGIN:VCALENDAR
VERSION:2.0
PRODID:-//TM Canada Community Hub - ECPv6.15.11//NONSGML v1.0//EN
CALSCALE:GREGORIAN
METHOD:PUBLISH
X-ORIGINAL-URL:https://community.ca.tm.org
X-WR-CALDESC:Events for TM Canada Community Hub
REFRESH-INTERVAL;VALUE=DURATION:PT1H
X-Robots-Tag:noindex
X-PUBLISHED-TTL:PT1H
BEGIN:VTIMEZONE
TZID:America/Toronto
BEGIN:DAYLIGHT
TZOFFSETFROM:-0500
TZOFFSETTO:-0400
TZNAME:EDT
DTSTART:20230312T070000
END:DAYLIGHT
BEGIN:STANDARD
TZOFFSETFROM:-0400
TZOFFSETTO:-0500
TZNAME:EST
DTSTART:20231105T060000
END:STANDARD
BEGIN:DAYLIGHT
TZOFFSETFROM:-0500
TZOFFSETTO:-0400
TZNAME:EDT
DTSTART:20240310T070000
END:DAYLIGHT
BEGIN:STANDARD
TZOFFSETFROM:-0400
TZOFFSETTO:-0500
TZNAME:EST
DTSTART:20241103T060000
END:STANDARD
BEGIN:DAYLIGHT
TZOFFSETFROM:-0500
TZOFFSETTO:-0400
TZNAME:EDT
DTSTART:20250309T070000
END:DAYLIGHT
BEGIN:STANDARD
TZOFFSETFROM:-0400
TZOFFSETTO:-0500
TZNAME:EST
DTSTART:20251102T060000
END:STANDARD
END:VTIMEZONE
BEGIN:VEVENT
DTSTART;TZID=America/Toronto:20240728T110000
DTEND;TZID=America/Toronto:20240728T123000
DTSTAMP:20260424T234659
CREATED:20240606T161949Z
LAST-MODIFIED:20240606T161949Z
UID:10000582-1722164400-1722169800@community.ca.tm.org
SUMMARY:Maharishi Yoga Asanas Instruction
DESCRIPTION:Led by Maharishi International University faculty. \nLearn Maharishi Yoga Asanas and Pranayama to promote the integration of mind\, body\, and spirit. \nDesigned to be practiced before your Transcendental Meditation\, Yoga Asanas are a gentle series of postures to complement your meditation. They help to remove stress\, strengthen flexibility\, improve health\, and prepare your body for TM. \nPranayama\, a breathing exercise\, helps to settle the body and mind for an even deeper TM experience. \nIn this class you will learn: \n\nMaharishi Yoga Asana postures\nPranayama\, deep breathing exercises\nHow to integrate Asanas and Pranayama into your daily routine\n\nWhether you’re completely new to yoga or an advanced practitioner\, this class will give you the instruction you need to add the Maharishi Yoga Asanas to your TM routine.  \nRequirements: \n\nInstruction in Transcendental Meditation\nComfortable sports or yoga clothes\nA yoga mat or thick blanket\nA settled environment\n\nThis 1-hour class will be followed by a 20-minute online group TM \nAt this time\, this class is being offered as a free service. \n► Register here \nWatch a recording here.
URL:https://community.ca.tm.org/event/maharishi-yoga-asanas-instruction-9/
LOCATION:Online
CATEGORIES:Yoga Asana Demo
END:VEVENT
BEGIN:VEVENT
DTSTART;TZID=America/Toronto:20240728T130000
DTEND;TZID=America/Toronto:20240728T143000
DTSTAMP:20260424T234659
CREATED:20240611T195713Z
LAST-MODIFIED:20240611T195713Z
UID:10000723-1722171600-1722177000@community.ca.tm.org
SUMMARY:Emotions & Intellect
DESCRIPTION:With TM Teacher Ashia Freedeen and moderator Nuard Israelyan. \nIn this video recorded in 1971 on a TM Teacher Training course in Mallorca\, Spain with 2\,000 participants\, Maharishi speaks about the intimate relationship of emotions and intellect.  \nMaharishi explains that: \n“Intellectual thought means decisive thought\, and in decisions emotions are deeply involved. When you decide\, it’s the force of decision that takes in emotion very deeply. Decision is never free from the grip of emotion; decision is guided by emotion. Apparently\, it may appear that they are guided by logic\, but logic is always in favour of emotions.” \nBegins with a 20-minute group TM. \nJoin Session \nPassword required to join this session. Access these sessions with the Zoom password provided to you by email from tmevents@tm.org.
URL:https://community.ca.tm.org/event/emotions-intellect/
LOCATION:Online
CATEGORIES:Online Knowledge Session
END:VEVENT
BEGIN:VEVENT
DTSTART;TZID=America/Toronto:20240728T133000
DTEND;TZID=America/Toronto:20240728T153000
DTSTAMP:20260424T234659
CREATED:20240628T204357Z
LAST-MODIFIED:20240628T204506Z
UID:10000757-1722173400-1722180600@community.ca.tm.org
SUMMARY:Refresher Class at the Missisauga TM Centre
DESCRIPTION:Led by Lynne Hea \nAre you looking to revitalize your Transcendental Meditation practice? Our TM Refresher Classes are the perfect opportunity to deepen your understanding of TM and get back on track if you’ve fallen out of a consistent meditation routine. \nOur Refresher Classes include a comprehensive review of the dos and don’ts of TM and provide you with a solid foundation to ensure you practice correctly and regularly. \nIn addition to reviewing fundamental TM principles\, you’ll have the opportunity to ask any questions and receive personalized guidance to enhance your practice.
URL:https://community.ca.tm.org/event/refresher-class-at-the-missisauga-tm-centre/
LOCATION:Mississauga TM Centre
CATEGORIES:Mississauga TM Centre
END:VEVENT
BEGIN:VEVENT
DTSTART;TZID=America/Toronto:20240728T160000
DTEND;TZID=America/Toronto:20240728T180000
DTSTAMP:20260424T234659
CREATED:20240528T203636Z
LAST-MODIFIED:20240528T205052Z
UID:10000500-1722182400-1722189600@community.ca.tm.org
SUMMARY:TM Essentials: Discover Your Full Potential
DESCRIPTION:There is more to life than waking\, sleeping\, and dreaming. As TM practitioners we have begun to experience a fourth state of consciousness known as transcendental consciousness or samadhi. \nHowever\, that’s not the end of the story. Maharishi has delineated the knowledge of the progression of enlightenment into seven states of consciousness. \nIn this session\, Maharishi describes the hallmarks of these seven states of consciousness. He provides a concise explanation of how each state of consciousness has different qualitative changes in perception and sense of self.
URL:https://community.ca.tm.org/event/tm-essentials-discover-your-full-potential-15/
LOCATION:Toronto TM Centre\, 100 Front Street West (Retail floor - below main lobby\, Toronto\, On\, M5J 1E3\, Canada
CATEGORIES:TM Essentials,Toronto TM Centre
ORGANIZER;CN="Toronto TM Centre":MAILTO:toronto@tm.org
END:VEVENT
BEGIN:VEVENT
DTSTART;TZID=America/Toronto:20240728T173000
DTEND;TZID=America/Toronto:20240728T190000
DTSTAMP:20260424T234659
CREATED:20240528T201827Z
LAST-MODIFIED:20240528T201827Z
UID:10000493-1722187800-1722193200@community.ca.tm.org
SUMMARY:Deep Dives: Group TM & Knowledge Session
DESCRIPTION:Join us each week for a Group TM & Knowledge session at the Toronto TM Centre. \nThe group meditation begins promptly at 5:30 pm\, with participants from our preceding TM Essentials class. \nAfter the knowledge session\, stay to enjoy some tea and refreshments. It’s a great opportunity to connect with our community of meditators.
URL:https://community.ca.tm.org/event/deep-dives-group-tm-knowledge-session-17/
LOCATION:Toronto TM Centre\, 100 Front Street West (Retail floor - below main lobby\, Toronto\, On\, M5J 1E3\, Canada
CATEGORIES:Toronto TM Centre
ORGANIZER;CN="Toronto TM Centre":MAILTO:toronto@tm.org
END:VEVENT
END:VCALENDAR