BEGIN:VCALENDAR
VERSION:2.0
PRODID:-//TM Canada Community Hub - ECPv6.15.11//NONSGML v1.0//EN
CALSCALE:GREGORIAN
METHOD:PUBLISH
X-ORIGINAL-URL:https://community.ca.tm.org
X-WR-CALDESC:Events for TM Canada Community Hub
REFRESH-INTERVAL;VALUE=DURATION:PT1H
X-Robots-Tag:noindex
X-PUBLISHED-TTL:PT1H
BEGIN:VTIMEZONE
TZID:America/Vancouver
BEGIN:DAYLIGHT
TZOFFSETFROM:-0800
TZOFFSETTO:-0700
TZNAME:PDT
DTSTART:20230312T100000
END:DAYLIGHT
BEGIN:STANDARD
TZOFFSETFROM:-0700
TZOFFSETTO:-0800
TZNAME:PST
DTSTART:20231105T090000
END:STANDARD
BEGIN:DAYLIGHT
TZOFFSETFROM:-0800
TZOFFSETTO:-0700
TZNAME:PDT
DTSTART:20240310T100000
END:DAYLIGHT
BEGIN:STANDARD
TZOFFSETFROM:-0700
TZOFFSETTO:-0800
TZNAME:PST
DTSTART:20241103T090000
END:STANDARD
BEGIN:DAYLIGHT
TZOFFSETFROM:-0800
TZOFFSETTO:-0700
TZNAME:PDT
DTSTART:20250309T100000
END:DAYLIGHT
BEGIN:STANDARD
TZOFFSETFROM:-0700
TZOFFSETTO:-0800
TZNAME:PST
DTSTART:20251102T090000
END:STANDARD
END:VTIMEZONE
BEGIN:VEVENT
DTSTART;TZID=America/Vancouver:20240725T170000
DTEND;TZID=America/Vancouver:20240725T190000
DTSTAMP:20260424T141831
CREATED:20240527T171602Z
LAST-MODIFIED:20240703T150423Z
UID:10000456-1721926800-1721934000@community.ca.tm.org
SUMMARY:Victoria TM Summer Potluck Picnic
DESCRIPTION:We’re excited to invite you to a TM Summer potluck* picnic! TM folk are lovely people – let’s get together and have some delicious fun!\n\nYour meditating and non meditating family of all ages are invited.\n\nPlease let us know if you are interested in coming. Email Janet to get on the list – no commitment is needed at this point.\n\nWhere: Victoria School for Ideal Education\, Victoria’s own K-Grade 8 consciousness based school. 2820 Belmont Avenue. We’ll have tables and chairs outside amongst the trees and gardens\, but if the weather is unfriendly\, we will set up inside.\n\n*#1 rule of potlucks: never be oppressed by food. If you’re a cook\, cook. If you’re not\, grab a bag of chips or cinnamon buns and come along!\n\nEmail Janet Delgatty at jdelgatty@tm.org about Picnic
URL:https://community.ca.tm.org/event/victoria-tm-summer-picnic/
LOCATION:BC
CATEGORIES:Victoria TM Centre
ORGANIZER;CN="Victoria TM Centre":MAILTO:victoria@tm.org
END:VEVENT
END:VCALENDAR